Workbook

Sheet Almennir losunarliðir
A1: Umhverfi
A3: Losun (án landnotkunar og skógræktar) | B3: Einingar | C3: 2015 | D3: 2016 | E3: 2017 | F3: 2018 | G3: 2019 | H3: 2020 | I3: 2021
A4: Samtals | B4: tCO2í | C4: =SUM(C5:C8) -> 4792599.9 | D4: =SUM(D5:D8) -> 4742974.3 | E4: =SUM(E5:E8) -> 4820511.6 | F4: =SUM(F5:F8) -> 4847521.3 | G4: =SUM(G5:G8) -> 4739230.8 | H4: =SUM(H5:H8) -> 2869700 | K4: https://www.ust.is/loft/losun-grodurhusalofttegunda/losun-islands/
A5: Orka | B5: tCO2í | C5: 1852173.3 | D5: 1827497.9 | E5: 1870516.2 | F5: 1912881.1 | G5: 1854913.2
A6: Iðnaður og efnanotkun | B6: tCO2í | C6: 1998359.9 | D6: 1986578.5 | E6: 2024053.9 | F6: 2022534.9 | G6: 2024369.7 | H6: 1986000
A7: Landbúnaður | B7: tCO2í | C7: 652566.77 | D7: 654297.8 | E7: 655941.52 | F7: 631905.28 | G7: 618847.81 | H7: 618000
A8: Úrgangur | B8: tCO2í | C8: 289500 | D8: 274600 | E8: 270000 | F8: 280200 | G8: 241100 | H8: 265700 | I8: 268500
A10: Orka | B10: Einingar | C10: 2015 | D10: 2016 | E10: 2017 | F10: 2018 | G10: 2019 | H10: 2020 | I10: 2021
A11: Samtals | B11: tCO2í | C11: =SUM(C12:C19) -> 1852173.3 | D11: =SUM(D12:D19) -> 1827497.9 | E11: =SUM(E12:E19) -> 1870516.2 | F11: =SUM(F12:F19) -> 1912881.1 | G11: =SUM(G12:G19) -> 1854913.2 | H11: =SUM(H12:H19) -> 1575500 | K11: https://www.ust.is/loft/losun-grodurhusalofttegunda/losun-islands/
A12: Fiskiskip | B12: tCO2í | C12: 624190.13 | D12: 521497.73 | E12: 534065.73 | F12: 551731.62 | G12: 522179.89 | H12: 509500 | I12: 574200 | L12: 1824 | M12: 1793 | N12: 1837 | O12: 1877 | P12: 1817
A13: Vegasamgöngur | B13: tCO2í | C13: 820387.13 | D13: 895309.08 | E13: 945294.06 | F13: 971426.25 | G13: 951992.77 | H13: 887000 | L13: =(L12*1000)-C12-C13-C16-C18 -> 94153.995 | M13: =(M12*1000)-D12-D13-D16-D18 -> 87123.449 | N13: =(N12*1000)-E12-E13-E16-E18 -> 67785.244 | O13: =(O12*1000)-F12-F13-F16-F18 -> 82518.607 | P13: =(P12*1000)-G12-G13-G16-G18 -> 87982.577
A14: Innanlandsflug | B14: tCO2í | C14: 20615.905 | D14: 22766.788 | E14: 23154.048 | F14: 24792.599 | G14: 27992.335
A15: Strandsiglingar | B15: tCO2í | C15: 26795.179 | D15: 27989.208 | E15: 31916.375 | F15: 43775.551 | G15: 53539.3
A16: Vélar og tæki | B16: tCO2í | C16: 118189.24 | D16: 137265.14 | E16: 140755.97 | F16: 112341.52 | G16: 88603.151 | L16: =G12+G15 -> 575719.19
A17: Eldsneytisbruni vegna iðnaðar | B17: tCO2í | C17: 66078.679 | D17: 62549.168 | E17: 33581.21 | F17: 40300.869 | G17: 33677.665 | L17: =SUM(G14:G17)+G19-G15 -> 160959.66
A18: Jarðvarmavirkjanir | B18: tCO2í | C18: 167079.5 | D18: 151804.61 | E18: 149099 | F18: 158982 | G18: 166241.61 | H18: 179000 | M18: =13519-9010 -> 4509
A19: Annað | B19: tCO2í | C19: 8837.4919 | D19: 8316.2307 | E19: 12649.825 | F19: 9530.7274 | G19: 10686.511
A21: Losun skipt eftir skuldbindingu (án landnotkunar og skógræktar) | B21: Einingar | C21: 2015 | D21: 2016 | E21: 2017 | F21: 2018 | G21: 2019 | H21: 2020 | I21: 2021
A22: Samtals | B22: tCO2í | C22: =SUM(C23:C25) -> 4763990.7 | D22: =SUM(D23:D25) -> 4716621.3 | E22: =SUM(E23:E25) -> 4795414.4 | F22: =SUM(F23:F25) -> 4822179.6 | G22: =SUM(G23:G25) -> 4722345.9 | K22: https://www.ust.is/loft/losun-grodurhusalofttegunda/losun-islands/
A23: Orka | B23: tCO2í | C23: 20441.659 | D23: 22574.404 | E23: 22958.458 | F23: 24583.191 | G23: 27755.915 | L23: 194 | M23: 218 | N23: 203 | O23: 180 | P23: 223
A24: Iðnaður og efnanotkun | B24: tCO2í | C24: 1812040.9 | D24: 1780964.5 | E24: 1831668.6 | F24: 1854685.2 | G24: 1812707 | L24: =(L23*1000)-C57 -> 14338.404 | M24: =(M23*1000)-D57 -> 14118.639 | N24: =(N23*1000)-E57 -> 14094.934 | O24: =(O23*1000)-F57 -> 16501.028 | P24: =(P23*1000)-G57 -> 15662.498
A25: Landbúnaður | B25: tCO2í | C25: 2931508.1 | D25: 2913082.4 | E25: 2940787.3 | F25: 2942911.2 | G25: 2881883
A27: Iðnaður | B27: Einingar | C27: 2015 | D27: 2016 | E27: 2017 | F27: 2018 | G27: 2019 | H27: 2020 | I27: 2021
A28: Samtals | B28: tCO2í | C28: =SUM(C29:C34) -> 1998359.9 | D28: =SUM(D29:D34) -> 1986578.5 | E28: =SUM(E29:E34) -> 2024053.9 | F28: =SUM(F29:F34) -> 2022534.9 | G28: =SUM(G29:G34) -> 2024369.7 | K28: https://www.ust.is/loft/losun-grodurhusalofttegunda/losun-islands/
A29: Steinefnaiðnaður | B29: tCO2í | C29: 716.54013 | D29: 773.97152 | E29: 902.32273 | F29: 905.21219 | G29: 956.99099
A30: Efnaiðnaður | B30: tCO2í | C30: 0 | D30: 0 | E30: 0 | F30: 0 | G30: 0
A31: Málmiðnaður | B31: tCO2í | C31: 1807454.3 | D31: 1772144.3 | E31: 1823881 | F31: 1845663.9 | G31: 1805668.4
A32: Leysiefni | B32: tCO2í | C32: 5673.5727 | D32: 5757.3939 | E32: 5574.7995 | F32: 6195.7836 | G32: 5552.8913 | L32: =F29+F32+F34 -> 13372.074 | M32: =G29+G32+G34 -> 11363.838
A33: F-gös (m.a. kælimiðlar) | B33: tCO2í | C33: 179661.6 | D33: 203881.36 | E33: 188905.07 | F33: 163498.97 | G33: 207337.5
A34: Efnanotkun | B34: tCO2í | C34: 4853.8679 | D34: 4021.4824 | E34: 4790.7533 | F34: 6271.0784 | G34: 4853.9555
A36: Landbúnaður | B36: Einingar | C36: 2015 | D36: 2016 | E36: 2017 | F36: 2018 | G36: 2019 | H36: 2020
A37: Samtals | B37: tCO2í | C37: =SUM(C38:C41) -> 652566.77 | D37: =SUM(D38:D41) -> 654297.8 | E37: =SUM(E38:E41) -> 655941.52 | F37: =SUM(F38:F41) -> 631905.28 | G37: =SUM(G38:G41) -> 618847.81 | H37: =SUM(H38:H41) -> 618000 | K37: https://www.ust.is/loft/losun-grodurhusalofttegunda/losun-islands/
A38: Iðragerjun | B38: tCO2í | C38: 313841.42 | D38: 318061.83 | E38: 311008.71 | F38: 301140.44 | G38: 296707.11 | H38: 291000
A39: Meðhöndlun húsdýraáburðar | B39: tCO2í | C39: 77802.528 | D39: 79189.008 | E39: 78158.248 | F39: 75781.793 | G39: 73985.766 | H39: 74000
A40: Nytjajarðvegur | B40: tCO2í | C40: 257446.31 | D40: 254138.02 | E40: 264404.8 | F40: 251788.72 | G40: 242288.88 | H40: 248000 | L40: =G41+G39 -> 79851.821
A41: Áburður | B41: tCO2í | C41: 3476.5137 | D41: 2908.9471 | E41: 2369.7696 | F41: 3194.3289 | G41: 5866.0551 | H41: 5000
A43: Úrgangur | B43: Einingar | C43: 2015 | D43: 2016 | E43: 2017 | F43: 2018 | G43: 2019 | H43: 2020
A44: Samtals | B44: tCO2í | C44: =SUM(C45:C48) -> 260890.74 | D44: =SUM(D45:D48) -> 248247.04 | E44: =SUM(E45:E48) -> 244902.79 | F44: =SUM(F45:F48) -> 254858.26 | G44: =SUM(G45:G48) -> 224215.1 | H44: =SUM(H45:H48) -> 246000 | K44: https://www.ust.is/loft/losun-grodurhusalofttegunda/losun-islands/
A45: Urðun úrgangs | B45: tCO2í | C45: 200147.98 | D45: 191971.5 | E45: 184804.85 | F45: 192831.75 | G45: 162892.73 | H45: 187000
A46: Jarðgerð | B46: tCO2í | C46: 3653.6161 | D46: 3912.2494 | E46: 3722.8464 | F46: 4117.4078 | G46: 4093.3116 | H46: 5000
A47: Brennsla og opinn bruni | B47: tCO2í | C47: 7099.5091 | D47: 7426.8464 | E47: 7798.7274 | F47: 6825.7946 | G47: 9374.0211 | H47: 6000
A48: Meðhöndlun skólps | B48: tCO2í | C48: 49989.634 | D48: 44936.435 | E48: 48576.368 | F48: 51083.309 | G48: 47855.045 | H48: 48000
A50: Losun BÁS | B50: Einingar | C50: 2015 | D50: 2016 | E50: 2017 | F50: 2018 | G50: 2019 | H50: 2020
A51: Samtals | B51: tCO2í | C51: =SUM(C52:C62) -> 2931457.5 | D51: =SUM(D52:D62) -> 2913544.8 | E51: =SUM(E52:E62) -> 2940844.3 | F51: =SUM(F52:F62) -> 2943763.5 | G51: =SUM(G52:G62) -> 2883062.9 | H51: =SUM(H52:H62) -> 2543147.1
A52: =A12 -> Fiskiskip | B52: tCO2í | C52: =C12 -> 624190.13 | D52: =D12 -> 521497.73 | E52: =E12 -> 534065.73 | F52: =F12 -> 551731.62 | G52: =G12 -> 522179.89 | H52: =H12 -> 509500
A53: =A13 -> Vegasamgöngur | B53: tCO2í | C53: =C13 -> 820387.13 | D53: =D13 -> 895309.08 | E53: =E13 -> 945294.06 | F53: =F13 -> 971426.25 | G53: =G13 -> 951992.77 | H53: =H13 -> 887000
A54: =A16 -> Vélar og tæki | B54: tCO2í | C54: =C16 -> 118189.24 | D54: =D16 -> 137265.14 | E54: =E16 -> 140755.97 | F54: =F16 -> 112341.52 | G54: =G16 -> 88603.151 | H54: =H16 -> 0
A55: =A18 -> Jarðvarmavirkjanir | B55: tCO2í | C55: =C18 -> 167079.5 | D55: =D18 -> 151804.61 | E55: =E18 -> 149099 | F55: =F18 -> 158982 | G55: =G18 -> 166241.61 | H55: =H18 -> 179000
A56: Annað - Orka | B56: tCO2í | C56: 94153.995 | D56: 87123.449 | E56: 67785.244 | F56: 82518.607 | G56: 87982.577 | H56: 87983.577
A57: =A33 -> F-gös (m.a. kælimiðlar) | B57: tCO2í | C57: =C33 -> 179661.6 | D57: =D33 -> 203881.36 | E57: =E33 -> 188905.07 | F57: =F33 -> 163498.97 | G57: =G33 -> 207337.5 | H57: =H33 -> 0
A58: Annað - Iðnaður | B58: tCO2í | C58: 14338.404 | D58: 14118.639 | E58: 14094.934 | F58: 16501.028 | G58: 15662.498 | H58: 15663.498
A59: =A38 -> Iðragerjun | B59: tCO2í | C59: =C38 -> 313841.42 | D59: =D38 -> 318061.83 | E59: =E38 -> 311008.71 | F59: =F38 -> 301140.44 | G59: =G38 -> 296707.11 | H59: =H38 -> 291000
A60: =A40 -> Nytjajarðvegur | B60: tCO2í | C60: =C40 -> 257446.31 | D60: =D40 -> 254138.02 | E60: =E40 -> 264404.8 | F60: =F40 -> 251788.72 | G60: =G40 -> 242288.88 | H60: =H40 -> 248000
A61: =A45 -> Urðun úrgangs | B61: tCO2í | C61: =C45 -> 200147.98 | D61: =D45 -> 191971.5 | E61: =E45 -> 184804.85 | F61: =F45 -> 192831.75 | G61: =G45 -> 162892.73 | H61: =H45 -> 187000
A62: Annað | B62: tCO2í | C62: =C48+C47+C46+C41+C39 -> 142021.8 | D62: =D48+D47+D46+D41+D39 -> 138373.49 | E62: =E48+E47+E46+E41+E39 -> 140625.96 | F62: =F48+F47+F46+F41+F39 -> 141002.63 | G62: =G48+G47+G46+G41+G39 -> 141174.2 | H62: =H48+H47+H46+H41+H39 -> 138000
A64: Losun frá staðbundnum iðnaði sem fellur undir viðskiptakerfi ESB | B64: Einingar | C64: 2015 | D64: 2016 | E64: 2017 | F64: 2018 | G64: 2019 | H64: 2020
A65: Samtals | B65: tCO2í | C65: =SUM(C66:C76) -> 1812038.6 | D65: =SUM(D66:D76) -> 1780916.7 | E65: =SUM(E66:E76) -> 1831255.2 | F65: =SUM(F66:F76) -> 1854104.1 | G65: =SUM(G66:G76) -> 1811822.6
A66: Eldsneytisbruni (orka), staðbundinn iðnaður (CO2) | B66: tCO2í | C66: 7877.3423 | D66: 12373.307 | E66: 10500.173 | F66: 11597.262 | G66: 9973.4661
A67: Kísil- og kísilmálmframleiðsla (CO2) | B67: tCO2í | C67: 400915.96 | D67: 405165.46 | E67: 428320.84 | F67: 452243.36 | G67: 428793
A68: Álframleiðsla (CO2 og PFC) | B68: tCO2í | C68: 1403245.3 | D68: 1363377.9 | E68: 1392434.2 | F68: 1390263.5 | G68: 1373056.1
A77: Heildarlosun Íslands 1990-2022
A78: Ár | B78: Úrgangur | C78: Landbúnaður | D78: Orka | E78: Iðnaðarferlar og vörunotkun | F78: Landnotkun
A79: 1990 | B79: 207.48 | C79: 694.21 | D79: 1840.5 | E79: 902.66 | F79: 7731.98
A80: 1991 | B80: 212.03 | C80: 675.18 | D80: 1755335107 | E80: 790.99 | F80: 7739.4
A81: 1992 | B81: 225.59 | C81: 653.61 | D81: 1899146133 | E81: 585.01 | F81: 7729.42
A82: 1993 | B82: 236.41 | C82: 654.62 | D82: 2003.84 | E82: 551.64 | F82: 7738.69
A83: 1994 | B83: 244.83 | C83: 657.93 | D83: 1952.74 | E83: 520.89 | F83: 7728.9
A84: 1995 | B84: 255.42 | C84: 637.98 | D84: 2057.53 | E84: 553.03 | F84: 7714.98
A85: 1996 | B85: 264.77 | C85: 650.8 | D85: 2113.01 | E85: 530.11 | F85: 7708.21
A86: 1997 | B86: 272.27 | C86: 641.52 | D86: 2152.86 | E86: 649.01 | F86: 7703.51
A87: 1998 | B87: 275.06 | C87: 655 | D87: 2146.5 | E87: 785.21 | F87: 7704.97
A88: 1999 | B88: 283.13 | C88: 652.03 | D88: 2202.98 | E88: 938.98 | F88: 7711.63
A89: 2000 | B89: 292.51 | C89: 637.26 | D89: 2185.17 | E89: 991.77 | F89: 7722.9
A90: 2001 | B90: 302.15 | C90: 633.74 | D90: 2073.84 | E90: 990.98 | F90: 7732.75
A91: 2002 | B91: 306.71 | C91: 617.17 | D91: 2183.75 | E91: 978.94 | F91: 7750.46
A92: 2003 | B92: 307.82 | C92: 609.41 | D92: 2172.67 | E92: 966.74 | F92: 7746.78
A93: 2004 | B93: 316.83 | C93: 601.39 | D93: 2271.55 | E93: 974.79 | F93: 7746.2
A94: 2005 | B94: 309.54 | C94: 603.84 | D94: 2158.47 | E94: 950.49 | F94: 7745.98
A95: 2006 | B95: 333.14 | C95: 629.88 | D95: 2221.71 | E95: 1394.39 | F95: 7798.54
A96: 2007 | B96: 336.6 | C96: 646.68 | D96: 2363 | E96: 1538.47 | F96: 7700.27
A97: 2008 | B97: 319.08 | C97: 663.15 | D97: 2234.88 | E97: 2049.92 | F97: 7741.91
A98: 2009 | B98: 309.25 | C98: 653.49 | D98: 2137 | E98: 1866.99 | F98: 7785.76
A99: 2010 | B99: 305.68 | C99: 639.63 | D99: 2026.7 | E99: 1895.6 | F99: 7767.35
A100: 2011 | B100: 286.54 | C100: 637.69 | D100: 1905.05 | E100: 1825.95 | F100: 7747.26
A101: 2012 | B101: 266.23 | C101: 632.57 | D101: 1855.89 | E101: 1894.11 | F101: 7753.28
A102: 2013 | B102: 265.53 | C102: 616.94 | D102: 1820.52 | E102: 1942.48 | F102: 7753.79
A103: 2014 | B103: 265.57 | C103: 661.09 | D103: 1808.91 | E103: 1917.11 | F103: 7748.01
A104: 2015 | B104: 264.57 | C104: 650.33 | D104: 1853.75 | E104: 1965.74 | F104: 7739.22
A105: 2016 | B105: 260.83 | C105: 650.24 | D105: 1829.01 | E105: 1947.76 | F105: 7720.33
A106: 2017 | B106: 258.41 | C106: 651.08 | D106: 1870.24 | E106: 1994.09 | F106: 7693.13
A107: 2018 | B107: 253.72 | C107: 628.3 | D107: 1911.17 | E107: 2035.23 | F107: 7680.25
A108: 2019 | B108: 222.02 | C108: 610.91 | D108: 1853.99 | E108: 2002.07 | F108: 7693.37
A109: 2020 | B109: 244.09 | C109: 609.48 | D109: 1664.62 | E109: 1977.27 | F109: 7701.7
A110: 2021 | B110: 242.68 | C110: 612.75 | D110: 1764044 | E110: 2011.92 | F110: 7699.04
A111: 2022 | B111: 233.6 | C111: 596.26 | D111: 1819.34 | E111: 2016.8 | F111: 7757.03

Sheet Dashboard
C4: Year: | D4: 2025
B9: Inventory | C9: Emissions (tCO2 íg)
C10: Total | D10: Scope 1 | E10: Scope 2 | F10: Scope 3
B11: Energy | C11: =C12+C14+C15 -> 25196.68 | D11: =C15 -> 10250.817 | E11: =C11-C13-C15 -> 14705.37 | F11: =C13 -> 240.49273
B12: Electricity | C12: =INDEX(Reykjavík!$A$2:$M$73,MATCH("Losun vegna raforku",Reykjavík!$A$2:$A$73,0),MATCH($D$4,Reykjavík!$A$3:$M$3,0)) -> 5728.2842
B13: Distribution losses | C13: =INDEX(Reykjavík!$A$2:$M$73,MATCH(" Þar af vegna dreifitapa",Reykjavík!$A$2:$A$73,0),MATCH($D$4,Reykjavík!$A$3:$M$3,0)) -> 240.49273
B14: Heat | C14: =INDEX(Reykjavík!$A$2:$M$73,MATCH("Losun vegna hitaveitu",Reykjavík!$A$2:$A$73,0),MATCH($D$4,Reykjavík!$A$3:$M$3,0)) -> 9217.5786
B15: Construction - stationary energy | C15: =INDEX(Reykjavík!$A$115:$M$157,MATCH("byggingariðnaður - orka á verkstað",Reykjavík!$A$115:$A$157,0),MATCH($D$4,Reykjavík!$A$3:$M$3,0)) -> 10250.817
B16: Transport | C16: =C17+C18+C20 -> 319948.75 | D16: =C16 -> 319948.75
B17: On-road | C17: =INDEX(Reykjavík!$A$2:$M$73,MATCH("Losun vegna götuumferðar",Reykjavík!$A$2:$A$73,0),MATCH($D$4,Reykjavík!$A$3:$M$3,0)) -> 267348.79
B18: Waterborne navigation | C18: =INDEX(Reykjavík!$A$2:$M$73,MATCH("Losun vegna skipa",Reykjavík!$A$2:$A$73,0),MATCH($D$4,Reykjavík!$A$3:$M$3,0)) -> 48360
B19: WTW | C19: =INDEX(Reykjavík!$A$2:$M$73,MATCH(" Með Well to Tank",Reykjavík!$A$2:$A$73,0),MATCH($D$4,Reykjavík!$A$3:$M$3,0)) -> 59050
B20: Aviation | C20: =INDEX(Reykjavík!$A$2:$M$73,MATCH("Losun vegna flugumferðar",Reykjavík!$A$2:$A$73,0),MATCH($D$4,Reykjavík!$A$3:$M$3,0)) -> 4239.9557
B21: Waste | C21: =C23+C25+C27+C28+C29 -> 80736.348 | D21: =C21-C28-C27 -> 53354.341 | F21: =C28+C27 -> 27382.007
B22: Landfill | C22: =INDEX(Reykjavík!$A$2:$M$73,MATCH("Losun vegna urðunar",Reykjavík!$A$2:$A$73,0),MATCH($D$4,Reykjavík!$A$3:$M$3,0)) -> 85028.94
B23: Originating within RVK | C23: =INDEX(Reykjavík!$A$2:$M$73,MATCH("urðun úrgangs reykjavíkur",Reykjavík!$A$2:$A$73,0),MATCH($D$4,Reykjavík!$A$3:$M$3,0)) -> 47435.151
B24: Composting | C24: =INDEX(Reykjavík!$A$2:$M$73,MATCH("losun vegna jarðgerðar",Reykjavík!$A$2:$A$73,0),MATCH($D$4,Reykjavík!$A$3:$M$3,0)) -> 4015.179
B25: Originating within RVK | C25: =INDEX(Reykjavík!$A$2:$M$73,MATCH("jarðgerð úrgangs reykjavíkur",Reykjavík!$A$2:$A$73,0),MATCH($D$4,Reykjavík!$A$3:$M$3,0)) -> 2239.9506
B26: Foreign inciniration | C26: =INDEX(Reykjavík!$A$2:$M$73,MATCH("Losun vegna brennslu erlendis",Reykjavík!$A$2:$A$73,0),MATCH($D$4,Reykjavík!$A$3:$M$3,0)) -> 70233.207
B27: Originating within RVK | C27: =INDEX(Reykjavík!$A$2:$M$73,MATCH("Brennsla úrgangs Reykjavíkur",Reykjavík!$A$2:$A$73,0),MATCH($D$4,Reykjavík!$A$3:$M$3,0)) -> 23569.221
B28: Domestic inciniration | C28: =INDEX(Reykjavík!$A$2:$M$73,MATCH("Losun vegna brennslu",Reykjavík!$A$2:$A$73,0),MATCH($D$4,Reykjavík!$A$3:$M$3,0)) -> 3812.7858
B29: Fráveita | C29: =INDEX(Reykjavík!$A$2:$M$73,MATCH("Losun vegna fráveitu",Reykjavík!$A$2:$A$73,0),MATCH($D$4,Reykjavík!$A$3:$M$3,0)) -> 3679.2396
B30: AFOLU | C30: =C31+C32 -> 33231.811 | D30: =C30 -> 33231.811
B31: Livestock farming | C31: =INDEX(Reykjavík!$A$2:$M$73,MATCH("Losun vegna búfjárræktunar",Reykjavík!$A$2:$A$73,0),MATCH($D$4,Reykjavík!$A$3:$M$3,0)) -> 2199.0447
B32: Land use | C32: =INDEX(Reykjavík!$A$2:$M$73,MATCH("Losun vegna landnotkunar og skógræktar",Reykjavík!$A$2:$A$73,0),MATCH($D$4,Reykjavík!$A$3:$M$3,0)) -> 31032.766
B33: IPPU | C33: =C34+C36+C35 -> 104772.7 | D33: =C33-C35-C36 -> 31944.837 | F33: =C35+C36 -> 72827.866
B34: Product use | C34: =INDEX(Reykjavík!$A$2:$M$157,MATCH("Samtals losun vegna efnanotkunar",Reykjavík!$A$2:$A$157,0),MATCH($D$4,Reykjavík!$A$3:$M$3,0)) -> 31944.837
B35: Construction materials | C35: =INDEX(Reykjavík!$A$2:$M$157,MATCH("byggingariðnaður - efni",Reykjavík!$A$2:$A$157,0),MATCH($D$4,Reykjavík!$A$3:$M$3,0)) -> 67349.81
B36: Other industry | C36: =INDEX(Reykjavík!$A$2:$M$157,MATCH("losun matvælaframleiðslu í RVK",Reykjavík!$A$2:$A$157,0),MATCH($D$4,Reykjavík!$A$3:$M$3,0)) -> 5478.0557
B37: Total | C37: =C30+C21+C16+C11+C33 -> 563886.29 | D37: =SUM(D11:D35) -> 448730.55 | E37: =SUM(E11:E35) -> 14705.37 | F37: =SUM(F11:F35) -> 100450.37
B38: Total per capita | C38: =Reykjavík!O181 -> 4.063401 | D38: =Reykjavík!O182 -> 3.2335814 | E38: =Reykjavík!O183 -> 0.10596785 | F38: =Reykjavík!O184 -> 0.72385183
B40: BASIC | C40: =C12+C14+C17+C18+C20+C23+C25+C27+C28+C29+C15-C13 -> 425641.28 | D40: =D11+D16+D21 -> 383553.91 | E40: =E11 -> 14705.37 | F40: =F21 -> 27382.007
B41: BASIC + | C41: =C40+C31+C32+C34+C13 -> 491058.42 | D41: =D40+D30+D33 -> 448730.55 | E41: =E40 -> 14705.37 | F41: =F40+F11 -> 27622.5
B42: BASIC + S3 | C42: =C41+C35+C36 -> 563886.29 | D42: =D41 -> 448730.55 | E42: =E41 -> 14705.37 | F42: =F41+F33 -> 100450.37
B64: Emissions sector | C64: Sub-sector
B65: Summary - | C65: BASIC
G80: =Reykjavík!O148 -> 425641.28 | H80: t CO2-equivalents
G81: =Reykjavík!O179 -> 3.0671986 | H81: t CO2-equivalents per capita
B88: Emissions sector | C88: Sub-sector
B89: Summary - | C89: BASIC+
G100: =Reykjavík!O149 -> 491058.42 | H100: t CO2-equivalents
G101: =Reykjavík!O180 -> 3.5385987 | H101: t CO2-equivalents per capita

Sheet Mælaborð
C4: Ár: | D4: 2025
B9: Samantekt | C9: Losun (tCO2 íg)
C10: Samtals | D10: Umfang 1 | E10: Umfang 2 | F10: Umfang 3
B11: Orkunotkun | C11: =C12+C14+C15 -> 25196.68 | D11: =C15 -> 10250.817 | E11: =C11-C13-C15 -> 14705.37 | F11: =C13 -> 240.49273
B12: Raforka | C12: =INDEX(Reykjavík!$A$2:$M$73,MATCH("Losun vegna raforku",Reykjavík!$A$2:$A$73,0),MATCH($D$4,Reykjavík!$A$3:$M$3,0)) -> 5728.2842
B13: Vegna dreifitapa | C13: =INDEX(Reykjavík!$A$2:$M$73,MATCH(" Þar af vegna dreifitapa",Reykjavík!$A$2:$A$73,0),MATCH($D$4,Reykjavík!$A$3:$M$3,0)) -> 240.49273
B14: Hitaveita | C14: =INDEX(Reykjavík!$A$2:$M$73,MATCH("Losun vegna hitaveitu",Reykjavík!$A$2:$A$73,0),MATCH($D$4,Reykjavík!$A$3:$M$3,0)) -> 9217.5786
B15: Byggingar - staðbundin eldsneytisnotkun | C15: =INDEX(Reykjavík!$A$115:$M$157,MATCH("byggingariðnaður - orka á verkstað",Reykjavík!$A$115:$A$157,0),MATCH($D$4,Reykjavík!$A$3:$M$3,0)) -> 10250.817
B16: Samgöngur | C16: =C17+C18+C20 -> 319948.75 | D16: =C17+C18+C20 -> 319948.75
B17: Götuumferð | C17: =INDEX(Reykjavík!$A$2:$M$73,MATCH("Losun vegna götuumferðar",Reykjavík!$A$2:$A$73,0),MATCH($D$4,Reykjavík!$A$3:$M$3,0)) -> 267348.79
B18: Skipaumferð | C18: =INDEX(Reykjavík!$A$2:$M$73,MATCH("Losun vegna skipa",Reykjavík!$A$2:$A$73,0),MATCH($D$4,Reykjavík!$A$3:$M$3,0)) -> 48360
B19: WTW | C19: =INDEX(Reykjavík!$A$2:$M$73,MATCH(" Með Well to Tank",Reykjavík!$A$2:$A$73,0),MATCH($D$4,Reykjavík!$A$3:$M$3,0)) -> 59050
B20: Flugumferð | C20: =INDEX(Reykjavík!$A$2:$M$73,MATCH("Losun vegna flugumferðar",Reykjavík!$A$2:$A$73,0),MATCH($D$4,Reykjavík!$A$3:$M$3,0)) -> 4239.9557
B21: Úrgangur | C21: =C23+C25+C27+C28+C29 -> 80736.348 | D21: =C23+C25+C29 -> 53354.341 | F21: =C28+C27 -> 27382.007
B22: Urðun | C22: =INDEX(Reykjavík!$A$2:$M$73,MATCH("Losun vegna urðunar",Reykjavík!$A$2:$A$73,0),MATCH($D$4,Reykjavík!$A$3:$M$3,0)) -> 85028.94
B23: Upprunið innan RVK | C23: =INDEX(Reykjavík!$A$2:$M$73,MATCH("urðun úrgangs reykjavíkur",Reykjavík!$A$2:$A$73,0),MATCH($D$4,Reykjavík!$A$3:$M$3,0)) -> 47435.151
B24: Jarðgerð | C24: =INDEX(Reykjavík!$A$2:$M$73,MATCH("losun vegna jarðgerðar",Reykjavík!$A$2:$A$73,0),MATCH($D$4,Reykjavík!$A$3:$M$3,0)) -> 4015.179
B25: Upprunið innan RVK | C25: =INDEX(Reykjavík!$A$2:$M$73,MATCH("jarðgerð úrgangs reykjavíkur",Reykjavík!$A$2:$A$73,0),MATCH($D$4,Reykjavík!$A$3:$M$3,0)) -> 2239.9506
B26: Brennsla erlendis | C26: =INDEX(Reykjavík!$A$2:$M$73,MATCH("Losun vegna brennslu erlendis",Reykjavík!$A$2:$A$73,0),MATCH($D$4,Reykjavík!$A$3:$M$3,0)) -> 70233.207
B27: Upprunið innan RVK | C27: =INDEX(Reykjavík!$A$2:$M$73,MATCH("Brennsla úrgangs Reykjavíkur",Reykjavík!$A$2:$A$73,0),MATCH($D$4,Reykjavík!$A$3:$M$3,0)) -> 23569.221
B28: Brennsla innanlands | C28: =INDEX(Reykjavík!$A$2:$M$73,MATCH("Losun vegna brennslu",Reykjavík!$A$2:$A$73,0),MATCH($D$4,Reykjavík!$A$3:$M$3,0)) -> 3812.7858
B29: Fráveita | C29: =INDEX(Reykjavík!$A$2:$M$73,MATCH("Losun vegna fráveitu",Reykjavík!$A$2:$A$73,0),MATCH($D$4,Reykjavík!$A$3:$M$3,0)) -> 3679.2396
B30: Landbúnaður og landnotkun | C30: =C31+C32+C33 -> 33231.811 | D30: =C30 -> 33231.811
B31: Búfjárræktun | C31: =INDEX(Reykjavík!$A$2:$M$73,MATCH("Losun vegna búfjárræktunar",Reykjavík!$A$2:$A$73,0),MATCH($D$4,Reykjavík!$A$3:$M$3,0)) -> 2199.0447
B32: Landnotkun | C32: =INDEX(Reykjavík!$A$2:$M$73,MATCH("Losun vegna landnotkunar og skógræktar",Reykjavík!$A$2:$A$73,0),MATCH($D$4,Reykjavík!$A$3:$M$3,0))-INDEX(Reykjavík!$A$2:$M$73,MATCH("4A - Skóglendi",Reykjavík!$A$2:$A$73,0),MATCH($D$4,Reykjavík!$A$3:$M$3,0)) -> 45775.148
B33: Skógrækt | C33: =INDEX(Reykjavík!$A$2:$M$73,MATCH("4A - Skóglendi",Reykjavík!$A$2:$A$73,0),MATCH($D$4,Reykjavík!$A$3:$M$3,0)) -> -14742.382
B34: Efnanotkun og iðnaður | C34: =C35+C37+C36 -> 104772.7 | D34: =C34-C36-C37 -> 31944.837 | F34: =C36+C37 -> 72827.866
B35: Efnanotkun | C35: =INDEX(Reykjavík!$A$2:$M$157,MATCH("Samtals losun vegna efnanotkunar",Reykjavík!$A$2:$A$157,0),MATCH($D$4,Reykjavík!$A$3:$M$3,0)) -> 31944.837
B36: Byggingariðnaður - efni | C36: =INDEX(Reykjavík!$A$2:$M$157,MATCH("byggingariðnaður - efni",Reykjavík!$A$2:$A$157,0),MATCH($D$4,Reykjavík!$A$3:$M$3,0)) -> 67349.81
B37: Annað | C37: =INDEX(Reykjavík!$A$2:$M$157,MATCH("losun matvælaframleiðslu í RVK",Reykjavík!$A$2:$A$157,0),MATCH($D$4,Reykjavík!$A$3:$M$3,0)) -> 5478.0557
B38: Samtals | C38: =C30+C21+C16+C11+C34 -> 563886.29 | D38: =SUM(D11:D36) -> 448730.55 | E38: =SUM(E11:E36) -> 14705.37 | F38: =SUM(F11:F36) -> 100450.37
B39: Samtals á íbúa | C39: =Reykjavík!O181 -> 4.063401 | D39: =Reykjavík!O182 -> 3.2335814 | E39: =Reykjavík!O183 -> 0.10596785 | F39: =Reykjavík!O184 -> 0.72385183
B41: BASIC | C41: =C12+C14+C17+C18+C20+C23+C25+C27+C28+C29+C15-C13 -> 425641.28 | D41: =D11+D16+D21 -> 383553.91 | E41: =E11 -> 14705.37 | F41: =F21 -> 27382.007
B42: BASIC + | C42: =C41+C31+C32+C35+C13+C33 -> 491058.42 | D42: =D41+D30+D34 -> 448730.55 | E42: =E41 -> 14705.37 | F42: =F41+F11 -> 27622.5
B43: BASIC + S3 | C43: =C42+C36+C37 -> 563886.29 | D43: =D42 -> 448730.55 | E43: =E42 -> 14705.37 | F43: =F42+F34 -> 100450.37
B64: Losunarflokkur | C64: Undirflokkur
B65: Samantekt - | C65: BASIC
G80: =Reykjavík!O148 -> 425641.28 | H80: t CO2-ígilda
G81: =Reykjavík!O179 -> 3.0671986 | H81: t CO2 ígilda á íbúa
B88: Losunarflokkur | C88: Undirflokkur
B89: Samantekt - | C89: BASIC+
G100: =Reykjavík!O149 -> 491058.42 | H100: t CO2-ígilda
G101: =Reykjavík!O180 -> 3.5385987 | H101: t CO2 ígilda á íbúa

Sheet Samantekt
C4: Ár: | D4: 2025
B9: Samantekt | C9: Losun (tCO2 íg)
C10: Samtals | D10: Umfang 1 | E10: Umfang 2 | F10: Umfang 3
B11: Orkunotkun | C11: =C12+C14+C15 -> 25196.68 | D11: =C15 -> 10250.817 | E11: =C11-C13-C15 -> 14705.37 | F11: =C13 -> 240.49273 | P11: 2019 | Q11: 2020 | R11: 2021 | S11: 2022 | T11: 2023 | U11: 2024 | V11: 2025 | W11: Breyting m.v. 2019 (t CO₂ íg) | X11: Breyting m.v. 2019 (%) | Y11: 2030 - Áætlun | Z11: 2030 - Markmið | AE11: 2019 | AF11: 2020 | AG11: 2021 | AH11: 2022 | AI11: 2023 | AJ11: 2024 | AK11: 2025 | AL11: 2026 | AM11: 2027 | AN11: 2028 | AO11: 2029 | AP11: 2030 Áætlað | AQ11: 2030 Markmið
B12: Raforka | C12: =INDEX(Reykjavík!$A$2:$M$73,MATCH("Losun vegna raforku",Reykjavík!$A$2:$A$73,0),MATCH($D$4,Reykjavík!$A$3:$M$3,0)) -> 5728.2842 | AD12: Orkunotkun | AE12: =INDEX($M$10:$Z$42,MATCH($AD12,$M$10:$M$42,0),MATCH(AE$11,$M$11:$U$11,0)) -> 22959.108 | AF12: =INDEX($M$10:$Z$42,MATCH($AD12,$M$10:$M$42,0),MATCH(AF$11,$M$11:$U$11,0)) -> 25150.742 | AG12: =INDEX($M$10:$Z$42,MATCH($AD12,$M$10:$M$42,0),MATCH(AG$11,$M$11:$U$11,0)) -> 25840.352 | AH12: =INDEX($M$10:$Z$42,MATCH($AD12,$M$10:$M$42,0),MATCH(AH$11,$M$11:$U$11,0)) -> 26857.089 | AI12: =INDEX($M$10:$Z$42,MATCH($AD12,$M$10:$M$42,0),MATCH(AI$11,$M$11:$U$11,0)) -> 27516.078 | AJ12: =INDEX($M$10:$Z$42,MATCH($AD12,$M$10:$M$42,0),MATCH(AJ$11,$M$11:$U$11,0)) -> 28966.619 | AK12: =INDEX($M$10:$Z$42,MATCH($AD12,$M$10:$M$42,0),MATCH(AK$11,$M$11:$V$11,0)) -> 25196.68 | AL12: 0 | AM12: 0 | AN12: 0 | AO12: 0 | AP12: =_xlfn.XLOOKUP($AD12,$M$10:$M$42,$Y$10:$Y$42) -> 10600 | AQ12: =_xlfn.XLOOKUP($AD12,$M$10:$M$42,$Z$10:$Z$42) -> 6700
B13: Vegna dreifitapa | C13: =INDEX(Reykjavík!$A$2:$M$73,MATCH(" Þar af vegna dreifitapa",Reykjavík!$A$2:$A$73,0),MATCH($D$4,Reykjavík!$A$3:$M$3,0)) -> 240.49273 | M13: Fólksfjöldi Reykjavík | P13: =INDEX(Reykjavík!$A$4:$K$9,MATCH($M13,Reykjavík!$A$4:$A$9,0),MATCH(P$11,Reykjavík!$A$3:$K$3,0)) -> 125360 | Q13: =INDEX(Reykjavík!$A$4:$K$9,MATCH($M13,Reykjavík!$A$4:$A$9,0),MATCH(Q$11,Reykjavík!$A$3:$K$3,0)) -> 126549 | R13: =INDEX(Reykjavík!$A$4:$K$9,MATCH($M13,Reykjavík!$A$4:$A$9,0),MATCH(R$11,Reykjavík!$A$3:$K$3,0)) -> 128610 | S13: =INDEX(Reykjavík!$A$4:$K$9,MATCH($M13,Reykjavík!$A$4:$A$9,0),MATCH(S$11,Reykjavík!$A$3:$K$3,0)) -> 130638 | T13: =INDEX(Reykjavík!$A$4:$K$9,MATCH($M13,Reykjavík!$A$4:$A$9,0),MATCH(T$11,Reykjavík!$A$3:$K$3,0)) -> 134298 | U13: =INDEX(Reykjavík!$A$4:$L$9,MATCH($M13,Reykjavík!$A$4:$A$9,0),MATCH(U$11,Reykjavík!$A$3:$L$3,0)) -> 136894 | V13: =INDEX(Reykjavík!$A$4:$M$9,MATCH($M13,Reykjavík!$A$4:$A$9,0),MATCH(V$11,Reykjavík!$A$3:$M$3,0)) -> 138772 | W13: =V13-P13 -> 13412 | X13: =W13/P13 -> 0.10698787 | Y13: =V13*1.04 -> 144322.88 | Z13: =V13*1.04 -> 144322.88 | AA13: Fólksfjöldi Reykjavík | AD13: Samgöngur | AE13: =INDEX($M$10:$Z$42,MATCH($AD13,$M$10:$M$42,0),MATCH(AE$11,$M$11:$U$11,0)) -> 369991.14 | AF13: =INDEX($M$10:$Z$42,MATCH($AD13,$M$10:$M$42,0),MATCH(AF$11,$M$11:$U$11,0)) -> 316979.93 | AG13: =INDEX($M$10:$Z$42,MATCH($AD13,$M$10:$M$42,0),MATCH(AG$11,$M$11:$U$11,0)) -> 335822.16 | AH13: =INDEX($M$10:$Z$42,MATCH($AD13,$M$10:$M$42,0),MATCH(AH$11,$M$11:$U$11,0)) -> 312504.37 | AI13: =INDEX($M$10:$Z$42,MATCH($AD13,$M$10:$M$42,0),MATCH(AI$11,$M$11:$U$11,0)) -> 340916.85 | AJ13: =INDEX($M$10:$Z$42,MATCH($AD13,$M$10:$M$42,0),MATCH(AJ$11,$M$11:$U$11,0)) -> 334541.33 | AK13: =INDEX($M$10:$Z$42,MATCH($AD13,$M$10:$M$42,0),MATCH(AK$11,$M$11:$V$11,0)) -> 319948.75 | AL13: 0 | AM13: 0 | AN13: 0 | AO13: 0 | AP13: =_xlfn.XLOOKUP(AD13,$M$10:$M$42,$Y$10:$Y$42) -> 85400 | AQ13: =_xlfn.XLOOKUP($AD13,$M$10:$M$42,$Z$10:$Z$42) -> 60100
B14: Hitaveita | C14: =INDEX(Reykjavík!$A$2:$M$73,MATCH("Losun vegna hitaveitu",Reykjavík!$A$2:$A$73,0),MATCH($D$4,Reykjavík!$A$3:$M$3,0)) -> 9217.5786 | M14: Fólksfjöldi Ísland | P14: =INDEX(Reykjavík!$A$4:$K$9,MATCH($M14,Reykjavík!$A$4:$A$9,0),MATCH(P$11,Reykjavík!$A$3:$K$3,0)) -> 349468 | Q14: =INDEX(Reykjavík!$A$4:$K$9,MATCH($M14,Reykjavík!$A$4:$A$9,0),MATCH(Q$11,Reykjavík!$A$3:$K$3,0)) -> 354042 | R14: =INDEX(Reykjavík!$A$4:$K$9,MATCH($M14,Reykjavík!$A$4:$A$9,0),MATCH(R$11,Reykjavík!$A$3:$K$3,0)) -> 358298 | S14: =INDEX(Reykjavík!$A$4:$K$9,MATCH($M14,Reykjavík!$A$4:$A$9,0),MATCH(S$11,Reykjavík!$A$3:$K$3,0)) -> 364917 | T14: =INDEX(Reykjavík!$A$4:$K$9,MATCH($M14,Reykjavík!$A$4:$A$9,0),MATCH(T$11,Reykjavík!$A$3:$K$3,0)) -> 375218 | U14: =INDEX(Reykjavík!$A$4:$L$9,MATCH($M14,Reykjavík!$A$4:$A$9,0),MATCH(U$11,Reykjavík!$A$3:$L$3,0)) -> 383726 | V14: =INDEX(Reykjavík!$A$4:$M$9,MATCH($M14,Reykjavík!$A$4:$A$9,0),MATCH(V$11,Reykjavík!$A$3:$M$3,0)) -> 389444 | W14: =V14-P14 -> 39976 | X14: =W14/P14 -> 0.11439102 | Y14: =U14*1.05 -> 402912.3 | Z14: =V14*1.04 -> 405021.76 | AA14: Fólksfjöldi Ísland | AD14: Úrgangur | AE14: =INDEX($M$10:$Z$42,MATCH($AD14,$M$10:$M$42,0),MATCH(AE$11,$M$11:$U$11,0)) -> 53056.837 | AF14: =INDEX($M$10:$Z$42,MATCH($AD14,$M$10:$M$42,0),MATCH(AF$11,$M$11:$U$11,0)) -> 69002.329 | AG14: =INDEX($M$10:$Z$42,MATCH($AD14,$M$10:$M$42,0),MATCH(AG$11,$M$11:$U$11,0)) -> 73063.594 | AH14: =INDEX($M$10:$Z$42,MATCH($AD14,$M$10:$M$42,0),MATCH(AH$11,$M$11:$U$11,0)) -> 77165.734 | AI14: =INDEX($M$10:$Z$42,MATCH($AD14,$M$10:$M$42,0),MATCH(AI$11,$M$11:$U$11,0)) -> 79277.357 | AJ14: =INDEX($M$10:$Z$42,MATCH($AD14,$M$10:$M$42,0),MATCH(AJ$11,$M$11:$U$11,0)) -> 82645.835 | AK14: =INDEX($M$10:$Z$42,MATCH($AD14,$M$10:$M$42,0),MATCH(AK$11,$M$11:$V$11,0)) -> 80736.348 | AL14: 0 | AM14: 0 | AN14: 0 | AO14: 0 | AP14: =_xlfn.XLOOKUP(AD14,$M$10:$M$42,$Y$10:$Y$42) -> 32100 | AQ14: =_xlfn.XLOOKUP($AD14,$M$10:$M$42,$Z$10:$Z$42) -> 13800
B15: Byggingar - staðbundin eldsneytisnotkun | C15: =INDEX(Reykjavík!$A$115:$M$157,MATCH("byggingariðnaður - orka á verkstað",Reykjavík!$A$115:$A$157,0),MATCH($D$4,Reykjavík!$A$3:$M$3,0)) -> 10250.817 | M15: =Reykjavík!A124 -> Raforka | P15: =INDEX(Reykjavík!$A$124:$K$153,MATCH($M15,Reykjavík!$A$124:$A$153,0),MATCH(P$11,Reykjavík!$A$123:$K$123,0)) -> 5450.5906 | Q15: =INDEX(Reykjavík!$A$124:$K$153,MATCH($M15,Reykjavík!$A$124:$A$153,0),MATCH(Q$11,Reykjavík!$A$123:$K$123,0)) -> 5371.0467 | R15: =INDEX(Reykjavík!$A$124:$K$153,MATCH($M15,Reykjavík!$A$124:$A$153,0),MATCH(R$11,Reykjavík!$A$123:$K$123,0)) -> 4991.7793 | S15: =INDEX(Reykjavík!$A$124:$K$153,MATCH($M15,Reykjavík!$A$124:$A$153,0),MATCH(S$11,Reykjavík!$A$123:$K$123,0)) -> 5336.5331 | T15: =INDEX(Reykjavík!$A$124:$K$153,MATCH($M15,Reykjavík!$A$124:$A$153,0),MATCH(T$11,Reykjavík!$A$123:$K$123,0)) -> 5211.0772 | U15: =INDEX(Reykjavík!$A$124:$L$153,MATCH($M15,Reykjavík!$A$124:$A$153,0),MATCH(U$11,Reykjavík!$A$123:$L$123,0)) -> 6725.7389 | V15: =INDEX(Reykjavík!$A$124:$M$153,MATCH($M15,Reykjavík!$A$124:$A$153,0),MATCH(V$11,Reykjavík!$A$123:$M$123,0)) -> 5728.2842 | W15: =V15-P15 -> 277.69359 | X15: =W15/P15 -> 0.050947431 | AA15: Raforka | AD15: Landbúnaður og landnotkun | AE15: =INDEX($M$10:$Z$42,MATCH($AD15,$M$10:$M$42,0),MATCH(AE$11,$M$11:$U$11,0)) -> 32742.772 | AF15: =INDEX($M$10:$Z$42,MATCH($AD15,$M$10:$M$42,0),MATCH(AF$11,$M$11:$U$11,0)) -> 33685.191 | AG15: =INDEX($M$10:$Z$42,MATCH($AD15,$M$10:$M$42,0),MATCH(AG$11,$M$11:$U$11,0)) -> 33686.836 | AH15: =INDEX($M$10:$Z$42,MATCH($AD15,$M$10:$M$42,0),MATCH(AH$11,$M$11:$U$11,0)) -> 33598.078 | AI15: =INDEX($M$10:$Z$42,MATCH($AD15,$M$10:$M$42,0),MATCH(AI$11,$M$11:$U$11,0)) -> 33258.505 | AJ15: =INDEX($M$10:$Z$42,MATCH($AD15,$M$10:$M$42,0),MATCH(AJ$11,$M$11:$U$11,0)) -> 33280.887 | AK15: =INDEX($M$10:$Z$42,MATCH($AD15,$M$10:$M$42,0),MATCH(AK$11,$M$11:$V$11,0)) -> 33231.811 | AL15: 0 | AM15: 0 | AN15: 0 | AO15: 0 | AP15: =_xlfn.XLOOKUP(AD15,$M$10:$M$42,$Y$10:$Y$42) -> 12600 | AQ15: =_xlfn.XLOOKUP($AD15,$M$10:$M$42,$Z$10:$Z$42) -> 9600
B16: Samgöngur | C16: =C17+C18+C20 -> 319948.75 | D16: =C17+C18+C20 -> 319948.75 | M16: =Reykjavík!A125 -> Hitaveita | P16: =INDEX(Reykjavík!$A$124:$K$153,MATCH($M16,Reykjavík!$A$124:$A$153,0),MATCH(P$11,Reykjavík!$A$123:$K$123,0)) -> 9824.6066 | Q16: =INDEX(Reykjavík!$A$124:$K$153,MATCH($M16,Reykjavík!$A$124:$A$153,0),MATCH(Q$11,Reykjavík!$A$123:$K$123,0)) -> 10619.977 | R16: =INDEX(Reykjavík!$A$124:$K$153,MATCH($M16,Reykjavík!$A$124:$A$153,0),MATCH(R$11,Reykjavík!$A$123:$K$123,0)) -> 10495.976 | S16: =INDEX(Reykjavík!$A$124:$K$153,MATCH($M16,Reykjavík!$A$124:$A$153,0),MATCH(S$11,Reykjavík!$A$123:$K$123,0)) -> 10078.728 | T16: =INDEX(Reykjavík!$A$124:$K$153,MATCH($M16,Reykjavík!$A$124:$A$153,0),MATCH(T$11,Reykjavík!$A$123:$K$123,0)) -> 10591.916 | U16: =INDEX(Reykjavík!$A$124:$L$153,MATCH($M16,Reykjavík!$A$124:$A$153,0),MATCH(U$11,Reykjavík!$A$123:$L$123,0)) -> 11516.18 | V16: =INDEX(Reykjavík!$A$124:$M$153,MATCH($M16,Reykjavík!$A$124:$A$153,0),MATCH(V$11,Reykjavík!$A$123:$M$123,0)) -> 9217.5786 | W16: =V16-P16 -> -607.02804 | X16: =W16/P16 -> -0.061786498 | AA16: Hitaveita | AD16: =M36 -> Efnanotkun og iðnaður | AE16: =INDEX($M$10:$Z$42,MATCH($AD16,$M$10:$M$42,0),MATCH(AE$11,$M$11:$U$11,0)) -> 98035.723 | AF16: =INDEX($M$10:$Z$42,MATCH($AD16,$M$10:$M$42,0),MATCH(AF$11,$M$11:$U$11,0)) -> 110135.63 | AG16: =INDEX($M$10:$Z$42,MATCH($AD16,$M$10:$M$42,0),MATCH(AG$11,$M$11:$U$11,0)) -> 110811.48 | AH16: =INDEX($M$10:$Z$42,MATCH($AD16,$M$10:$M$42,0),MATCH(AH$11,$M$11:$U$11,0)) -> 113098.09 | AI16: =INDEX($M$10:$Z$42,MATCH($AD16,$M$10:$M$42,0),MATCH(AI$11,$M$11:$U$11,0)) -> 108934.2 | AJ16: =INDEX($M$10:$Z$42,MATCH($AD16,$M$10:$M$42,0),MATCH(AJ$11,$M$11:$U$11,0)) -> 97928.562 | AK16: =INDEX($M$10:$Z$42,MATCH($AD16,$M$10:$M$42,0),MATCH(AK$11,$M$11:$V$11,0)) -> 104772.7 | AL16: 0 | AM16: 0 | AN16: 0 | AO16: 0 | AP16: =_xlfn.XLOOKUP(AD16,$M$10:$M$42,$Y$10:$Y$42) -> 33800 | AQ16: =_xlfn.XLOOKUP($AD16,$M$10:$M$42,$Z$10:$Z$42) -> 21300
B17: Götuumferð | C17: =INDEX(Reykjavík!$A$2:$M$73,MATCH("Losun vegna götuumferðar",Reykjavík!$A$2:$A$73,0),MATCH($D$4,Reykjavík!$A$3:$M$3,0)) -> 267348.79 | M17: =Reykjavík!A144 -> Staðbundin eldsneytisnotkun | P17: =INDEX(Reykjavík!$A$124:$K$153,MATCH($M17,Reykjavík!$A$124:$A$153,0),MATCH(P$11,Reykjavík!$A$123:$K$123,0)) -> 7683.911 | Q17: =INDEX(Reykjavík!$A$124:$K$153,MATCH($M17,Reykjavík!$A$124:$A$153,0),MATCH(Q$11,Reykjavík!$A$123:$K$123,0)) -> 9159.7187 | R17: =INDEX(Reykjavík!$A$124:$K$153,MATCH($M17,Reykjavík!$A$124:$A$153,0),MATCH(R$11,Reykjavík!$A$123:$K$123,0)) -> 10352.597 | S17: =INDEX(Reykjavík!$A$124:$K$153,MATCH($M17,Reykjavík!$A$124:$A$153,0),MATCH(S$11,Reykjavík!$A$123:$K$123,0)) -> 11441.828 | T17: =INDEX(Reykjavík!$A$124:$K$153,MATCH($M17,Reykjavík!$A$124:$A$153,0),MATCH(T$11,Reykjavík!$A$123:$K$123,0)) -> 11713.085 | U17: =INDEX(Reykjavík!$A$124:$L$153,MATCH($M17,Reykjavík!$A$124:$A$153,0),MATCH(U$11,Reykjavík!$A$123:$L$123,0)) -> 10724.7 | V17: =INDEX(Reykjavík!$A$124:$M$153,MATCH($M17,Reykjavík!$A$124:$A$153,0),MATCH(V$11,Reykjavík!$A$123:$M$123,0)) -> 10250.817 | W17: =V17-P17 -> 2566.9062 | X17: =W17/P17 -> 0.33406246 | AA17: Staðbundin eldsneytisnotkun | AE17: =SUM(AE12:AE16) -> 576785.58 | AF17: =SUM(AF12:AF16) -> 554953.82 | AG17: =SUM(AG12:AG16) -> 579224.42 | AH17: =SUM(AH12:AH16) -> 563223.35 | AI17: =SUM(AI12:AI16) -> 589902.99 | AJ17: =SUM(AJ12:AJ16) -> 577363.24 | AK17: =SUM(AK12:AK16) -> 563886.29 | AL17: 0 | AM17: 0 | AN17: 0 | AO17: 0 | AP17: =SUM(AP12:AP16) -> 174500 | AQ17: =SUM(AQ12:AQ16) -> 111500
B18: Skipaumferð | C18: =INDEX(Reykjavík!$A$2:$M$73,MATCH("Losun vegna skipa",Reykjavík!$A$2:$A$73,0),MATCH($D$4,Reykjavík!$A$3:$M$3,0)) -> 48360 | M18: =Reykjavík!A126 -> Orkunotkun | P18: =INDEX(Reykjavík!$A$124:$K$153,MATCH($M18,Reykjavík!$A$124:$A$153,0),MATCH(P$11,Reykjavík!$A$123:$K$123,0)) -> 22959.108 | Q18: =INDEX(Reykjavík!$A$124:$K$153,MATCH($M18,Reykjavík!$A$124:$A$153,0),MATCH(Q$11,Reykjavík!$A$123:$K$123,0)) -> 25150.742 | R18: =INDEX(Reykjavík!$A$124:$K$153,MATCH($M18,Reykjavík!$A$124:$A$153,0),MATCH(R$11,Reykjavík!$A$123:$K$123,0)) -> 25840.352 | S18: =INDEX(Reykjavík!$A$124:$K$153,MATCH($M18,Reykjavík!$A$124:$A$153,0),MATCH(S$11,Reykjavík!$A$123:$K$123,0)) -> 26857.089 | T18: =INDEX(Reykjavík!$A$124:$K$153,MATCH($M18,Reykjavík!$A$124:$A$153,0),MATCH(T$11,Reykjavík!$A$123:$K$123,0)) -> 27516.078 | U18: =INDEX(Reykjavík!$A$124:$L$153,MATCH($M18,Reykjavík!$A$124:$A$153,0),MATCH(U$11,Reykjavík!$A$123:$L$123,0)) -> 28966.619 | V18: =INDEX(Reykjavík!$A$124:$M$153,MATCH($M18,Reykjavík!$A$124:$A$153,0),MATCH(V$11,Reykjavík!$A$123:$M$123,0)) -> 25196.68 | W18: =V18-P18 -> 2237.5718 | X18: =W18/P18 -> 0.097459002 | Y18: 10600 | Z18: 6700 | AA18: Orkunotkun
B19: WTW | C19: =INDEX(Reykjavík!$A$2:$M$73,MATCH(" Með Well to Tank",Reykjavík!$A$2:$A$73,0),MATCH($D$4,Reykjavík!$A$3:$M$3,0)) -> 59050 | M19: =Reykjavík!A127 -> Fólksbifreiðar | P19: =INDEX(Reykjavík!$A$124:$K$153,MATCH($M19,Reykjavík!$A$124:$A$153,0),MATCH(P$11,Reykjavík!$A$123:$K$123,0)) -> 219170.79 | Q19: =INDEX(Reykjavík!$A$124:$K$153,MATCH($M19,Reykjavík!$A$124:$A$153,0),MATCH(Q$11,Reykjavík!$A$123:$K$123,0)) -> 193663.4 | R19: =INDEX(Reykjavík!$A$124:$K$153,MATCH($M19,Reykjavík!$A$124:$A$153,0),MATCH(R$11,Reykjavík!$A$123:$K$123,0)) -> 202765.45 | S19: =INDEX(Reykjavík!$A$124:$K$153,MATCH($M19,Reykjavík!$A$124:$A$153,0),MATCH(S$11,Reykjavík!$A$123:$K$123,0)) -> 174864.5 | T19: =INDEX(Reykjavík!$A$124:$K$153,MATCH($M19,Reykjavík!$A$124:$A$153,0),MATCH(T$11,Reykjavík!$A$123:$K$123,0)) -> 188905.9 | U19: =INDEX(Reykjavík!$A$124:$L$153,MATCH($M19,Reykjavík!$A$124:$A$153,0),MATCH(U$11,Reykjavík!$A$123:$L$123,0)) -> 178623.41 | V19: =INDEX(Reykjavík!$A$124:$M$153,MATCH($M19,Reykjavík!$A$124:$A$153,0),MATCH(V$11,Reykjavík!$A$123:$M$123,0)) -> 168292.77 | W19: =V19-P19 -> -50878.015 | X19: =W19/P19 -> -0.23213867 | AA19: Fólksbifreiðar
B20: Flugumferð | C20: =INDEX(Reykjavík!$A$2:$M$73,MATCH("Losun vegna flugumferðar",Reykjavík!$A$2:$A$73,0),MATCH($D$4,Reykjavík!$A$3:$M$3,0)) -> 4239.9557 | M20: =Reykjavík!A128 -> Hópbifreiðar | P20: =INDEX(Reykjavík!$A$124:$K$153,MATCH($M20,Reykjavík!$A$124:$A$153,0),MATCH(P$11,Reykjavík!$A$123:$K$123,0)) -> 16084.188 | Q20: =INDEX(Reykjavík!$A$124:$K$153,MATCH($M20,Reykjavík!$A$124:$A$153,0),MATCH(Q$11,Reykjavík!$A$123:$K$123,0)) -> 12467.433 | R20: =INDEX(Reykjavík!$A$124:$K$153,MATCH($M20,Reykjavík!$A$124:$A$153,0),MATCH(R$11,Reykjavík!$A$123:$K$123,0)) -> 10766.748 | S20: =INDEX(Reykjavík!$A$124:$K$153,MATCH($M20,Reykjavík!$A$124:$A$153,0),MATCH(S$11,Reykjavík!$A$123:$K$123,0)) -> 14312.838 | T20: =INDEX(Reykjavík!$A$124:$K$153,MATCH($M20,Reykjavík!$A$124:$A$153,0),MATCH(T$11,Reykjavík!$A$123:$K$123,0)) -> 20658.315 | U20: =INDEX(Reykjavík!$A$124:$L$153,MATCH($M20,Reykjavík!$A$124:$A$153,0),MATCH(U$11,Reykjavík!$A$123:$L$123,0)) -> 20577.223 | V20: =INDEX(Reykjavík!$A$124:$M$153,MATCH($M20,Reykjavík!$A$124:$A$153,0),MATCH(V$11,Reykjavík!$A$123:$M$123,0)) -> 20641.091 | W20: =V20-P20 -> 4556.9029 | X20: =W20/P20 -> 0.2833157 | AA20: Hópbifreiðar | AE20: 2019 | AF20: 2020 | AG20: 2021 | AH20: 2022 | AI20: 2023 | AJ20: 2024 | AK20: 2025 | AL20: 2026 | AM20: 2027 | AN20: 2028 | AO20: 2029 | AP20: 2030 Áætlað | AQ20: 2030 Markmið
B21: Úrgangur | C21: =C23+C25+C27+C28+C29 -> 80736.348 | D21: =C23+C25+C29 -> 53354.341 | F21: =C28+C27 -> 27382.007 | M21: =Reykjavík!A129 -> Vörubifreiðar | P21: =INDEX(Reykjavík!$A$124:$K$153,MATCH($M21,Reykjavík!$A$124:$A$153,0),MATCH(P$11,Reykjavík!$A$123:$K$123,0)) -> 80198.969 | Q21: =INDEX(Reykjavík!$A$124:$K$153,MATCH($M21,Reykjavík!$A$124:$A$153,0),MATCH(Q$11,Reykjavík!$A$123:$K$123,0)) -> 71066.539 | R21: =INDEX(Reykjavík!$A$124:$K$153,MATCH($M21,Reykjavík!$A$124:$A$153,0),MATCH(R$11,Reykjavík!$A$123:$K$123,0)) -> 85661.083 | S21: =INDEX(Reykjavík!$A$124:$K$153,MATCH($M21,Reykjavík!$A$124:$A$153,0),MATCH(S$11,Reykjavík!$A$123:$K$123,0)) -> 72967.854 | T21: =INDEX(Reykjavík!$A$124:$K$153,MATCH($M21,Reykjavík!$A$124:$A$153,0),MATCH(T$11,Reykjavík!$A$123:$K$123,0)) -> 72561.383 | U21: =INDEX(Reykjavík!$A$124:$L$153,MATCH($M21,Reykjavík!$A$124:$A$153,0),MATCH(U$11,Reykjavík!$A$123:$L$123,0)) -> 75911.139 | V21: =INDEX(Reykjavík!$A$124:$M$153,MATCH($M21,Reykjavík!$A$124:$A$153,0),MATCH(V$11,Reykjavík!$A$123:$M$123,0)) -> 78414.927 | W21: =V21-P21 -> -1784.0417 | X21: =W21/P21 -> -0.022245195 | AA21: Vörubifreiðar | AD21: Orkunotkun | AE21: =AE12/1000 -> 22.959108 | AF21: =AF12/1000 -> 25.150742 | AG21: =AG12/1000 -> 25.840352 | AH21: =AH12/1000 -> 26.857089 | AI21: =AI12/1000 -> 27.516078 | AJ21: =AJ12/1000 -> 28.966619 | AK21: =AK12/1000 -> 25.19668 | AL21: =AL12/1000 -> 0 | ... AQ21: =AQ12/1000 -> 6.7
B22: Urðun | C22: =INDEX(Reykjavík!$A$2:$M$73,MATCH("Losun vegna urðunar",Reykjavík!$A$2:$A$73,0),MATCH($D$4,Reykjavík!$A$3:$M$3,0)) -> 85028.94 | M22: =Reykjavík!A130 -> Skipaumferð | P22: =INDEX(Reykjavík!$A$124:$K$153,MATCH($M22,Reykjavík!$A$124:$A$153,0),MATCH(P$11,Reykjavík!$A$123:$K$123,0)) -> 47600 | Q22: =INDEX(Reykjavík!$A$124:$K$153,MATCH($M22,Reykjavík!$A$124:$A$153,0),MATCH(Q$11,Reykjavík!$A$123:$K$123,0)) -> 35240 | R22: =INDEX(Reykjavík!$A$124:$K$153,MATCH($M22,Reykjavík!$A$124:$A$153,0),MATCH(R$11,Reykjavík!$A$123:$K$123,0)) -> 29930 | S22: =INDEX(Reykjavík!$A$124:$K$153,MATCH($M22,Reykjavík!$A$124:$A$153,0),MATCH(S$11,Reykjavík!$A$123:$K$123,0)) -> 44420 | T22: =INDEX(Reykjavík!$A$124:$K$153,MATCH($M22,Reykjavík!$A$124:$A$153,0),MATCH(T$11,Reykjavík!$A$123:$K$123,0)) -> 52390 | U22: =INDEX(Reykjavík!$A$124:$L$153,MATCH($M22,Reykjavík!$A$124:$A$153,0),MATCH(U$11,Reykjavík!$A$123:$L$123,0)) -> 53090 | V22: =INDEX(Reykjavík!$A$124:$M$153,MATCH($M22,Reykjavík!$A$124:$A$153,0),MATCH(V$11,Reykjavík!$A$123:$M$123,0)) -> 48360 | W22: =V22-P22 -> 760 | X22: =W22/P22 -> 0.015966387 | AA22: Skipaumferð | AD22: Samgöngur | AE22: =AE13/1000 -> 369.99114 | AF22: =AF13/1000 -> 316.97993 | AG22: =AG13/1000 -> 335.82216 | AH22: =AH13/1000 -> 312.50437 | AI22: =AI13/1000 -> 340.91685 | AJ22: =AJ13/1000 -> 334.54133 | AK22: =AK13/1000 -> 319.94875 | AL22: =AL13/1000 -> 0 | ... AQ22: =AQ13/1000 -> 60.1
B23: Upprunið innan RVK | C23: =INDEX(Reykjavík!$A$2:$M$73,MATCH("urðun úrgangs reykjavíkur",Reykjavík!$A$2:$A$73,0),MATCH($D$4,Reykjavík!$A$3:$M$3,0)) -> 47435.151 | M23: =Reykjavík!A131 -> Flugumferð | P23: =INDEX(Reykjavík!$A$124:$K$153,MATCH($M23,Reykjavík!$A$124:$A$153,0),MATCH(P$11,Reykjavík!$A$123:$K$123,0)) -> 6937.1983 | Q23: =INDEX(Reykjavík!$A$124:$K$153,MATCH($M23,Reykjavík!$A$124:$A$153,0),MATCH(Q$11,Reykjavík!$A$123:$K$123,0)) -> 4542.5583 | R23: =INDEX(Reykjavík!$A$124:$K$153,MATCH($M23,Reykjavík!$A$124:$A$153,0),MATCH(R$11,Reykjavík!$A$123:$K$123,0)) -> 6698.8814 | S23: =INDEX(Reykjavík!$A$124:$K$153,MATCH($M23,Reykjavík!$A$124:$A$153,0),MATCH(S$11,Reykjavík!$A$123:$K$123,0)) -> 5939.1766 | T23: =INDEX(Reykjavík!$A$124:$K$153,MATCH($M23,Reykjavík!$A$124:$A$153,0),MATCH(T$11,Reykjavík!$A$123:$K$123,0)) -> 6401.2505 | U23: =INDEX(Reykjavík!$A$124:$L$153,MATCH($M23,Reykjavík!$A$124:$A$153,0),MATCH(U$11,Reykjavík!$A$123:$L$123,0)) -> 6339.5654 | V23: =INDEX(Reykjavík!$A$124:$M$153,MATCH($M23,Reykjavík!$A$124:$A$153,0),MATCH(V$11,Reykjavík!$A$123:$M$123,0)) -> 4239.9557 | W23: =V23-P23 -> -2697.2426 | X23: =W23/P23 -> -0.38880863 | AA23: Flugumferð | AD23: Úrgangur | AE23: =AE14/1000 -> 53.056837 | AF23: =AF14/1000 -> 69.002329 | AG23: =AG14/1000 -> 73.063594 | AH23: =AH14/1000 -> 77.165734 | AI23: =AI14/1000 -> 79.277357 | AJ23: =AJ14/1000 -> 82.645835 | AK23: =AK14/1000 -> 80.736348 | AL23: =AL14/1000 -> 0 | ... AQ23: =AQ14/1000 -> 13.8
B24: Jarðgerð | C24: =INDEX(Reykjavík!$A$2:$M$73,MATCH("losun vegna jarðgerðar",Reykjavík!$A$2:$A$73,0),MATCH($D$4,Reykjavík!$A$3:$M$3,0)) -> 4015.179 | M24: =Reykjavík!A132 -> Samgöngur | P24: =INDEX(Reykjavík!$A$124:$K$153,MATCH($M24,Reykjavík!$A$124:$A$153,0),MATCH(P$11,Reykjavík!$A$123:$K$123,0)) -> 369991.14 | Q24: =INDEX(Reykjavík!$A$124:$K$153,MATCH($M24,Reykjavík!$A$124:$A$153,0),MATCH(Q$11,Reykjavík!$A$123:$K$123,0)) -> 316979.93 | R24: =INDEX(Reykjavík!$A$124:$K$153,MATCH($M24,Reykjavík!$A$124:$A$153,0),MATCH(R$11,Reykjavík!$A$123:$K$123,0)) -> 335822.16 | S24: =INDEX(Reykjavík!$A$124:$K$153,MATCH($M24,Reykjavík!$A$124:$A$153,0),MATCH(S$11,Reykjavík!$A$123:$K$123,0)) -> 312504.37 | T24: =INDEX(Reykjavík!$A$124:$K$153,MATCH($M24,Reykjavík!$A$124:$A$153,0),MATCH(T$11,Reykjavík!$A$123:$K$123,0)) -> 340916.85 | U24: =INDEX(Reykjavík!$A$124:$L$153,MATCH($M24,Reykjavík!$A$124:$A$153,0),MATCH(U$11,Reykjavík!$A$123:$L$123,0)) -> 334541.33 | V24: =INDEX(Reykjavík!$A$124:$M$153,MATCH($M24,Reykjavík!$A$124:$A$153,0),MATCH(V$11,Reykjavík!$A$123:$M$123,0)) -> 319948.75 | W24: =V24-P24 -> -50042.396 | X24: =W24/P24 -> -0.13525296 | Y24: 85400 | Z24: 60100 | AA24: Samgöngur | AD24: Landbúnaður og landnotkun | AE24: =AE15/1000 -> 32.742772 | AF24: =AF15/1000 -> 33.685191 | AG24: =AG15/1000 -> 33.686836 | AH24: =AH15/1000 -> 33.598078 | AI24: =AI15/1000 -> 33.258505 | AJ24: =AJ15/1000 -> 33.280887 | AK24: =AK15/1000 -> 33.231811 | AL24: =AL15/1000 -> 0 | ... AQ24: =AQ15/1000 -> 9.6
B25: Upprunið innan RVK | C25: =INDEX(Reykjavík!$A$2:$M$73,MATCH("jarðgerð úrgangs reykjavíkur",Reykjavík!$A$2:$A$73,0),MATCH($D$4,Reykjavík!$A$3:$M$3,0)) -> 2239.9506 | M25: =Reykjavík!A133 -> Urðun | P25: =INDEX(Reykjavík!$A$124:$K$153,MATCH($M25,Reykjavík!$A$124:$A$153,0),MATCH(P$11,Reykjavík!$A$123:$K$123,0)) -> 45762.528 | Q25: =INDEX(Reykjavík!$A$124:$K$153,MATCH($M25,Reykjavík!$A$124:$A$153,0),MATCH(Q$11,Reykjavík!$A$123:$K$123,0)) -> 60981.069 | R25: =INDEX(Reykjavík!$A$124:$K$153,MATCH($M25,Reykjavík!$A$124:$A$153,0),MATCH(R$11,Reykjavík!$A$123:$K$123,0)) -> 62533.833 | S25: =INDEX(Reykjavík!$A$124:$K$153,MATCH($M25,Reykjavík!$A$124:$A$153,0),MATCH(S$11,Reykjavík!$A$123:$K$123,0)) -> 65987.702 | T25: =INDEX(Reykjavík!$A$124:$K$153,MATCH($M25,Reykjavík!$A$124:$A$153,0),MATCH(T$11,Reykjavík!$A$123:$K$123,0)) -> 57916.063 | U25: =INDEX(Reykjavík!$A$124:$L$153,MATCH($M25,Reykjavík!$A$124:$A$153,0),MATCH(U$11,Reykjavík!$A$123:$L$123,0)) -> 53423.565 | V25: =INDEX(Reykjavík!$A$124:$M$153,MATCH($M25,Reykjavík!$A$124:$A$153,0),MATCH(V$11,Reykjavík!$A$123:$M$123,0)) -> 47435.151 | W25: =V25-P25 -> 1672.6234 | X25: =W25/P25 -> 0.036550066 | AA25: Urðun | AD25: Efnanotkun | AE25: =AE16/1000 -> 98.035723 | AF25: =AF16/1000 -> 110.13563 | AG25: =AG16/1000 -> 110.81148 | AH25: =AH16/1000 -> 113.09809 | AI25: =AI16/1000 -> 108.9342 | AJ25: =AJ16/1000 -> 97.928562 | AK25: =AK16/1000 -> 104.7727 | AL25: =AL16/1000 -> 0 | ... AQ25: =AQ16/1000 -> 21.3
B26: Brennsla erlendis | C26: =INDEX(Reykjavík!$A$2:$M$73,MATCH("Losun vegna brennslu erlendis",Reykjavík!$A$2:$A$73,0),MATCH($D$4,Reykjavík!$A$3:$M$3,0)) -> 70233.207 | M26: =Reykjavík!A134 -> Jarðgerð | P26: =INDEX(Reykjavík!$A$124:$K$153,MATCH($M26,Reykjavík!$A$124:$A$153,0),MATCH(P$11,Reykjavík!$A$123:$K$123,0)) -> 0 | Q26: =INDEX(Reykjavík!$A$124:$K$153,MATCH($M26,Reykjavík!$A$124:$A$153,0),MATCH(Q$11,Reykjavík!$A$123:$K$123,0)) -> 243.47979 | R26: =INDEX(Reykjavík!$A$124:$K$153,MATCH($M26,Reykjavík!$A$124:$A$153,0),MATCH(R$11,Reykjavík!$A$123:$K$123,0)) -> 2088.8221 | S26: =INDEX(Reykjavík!$A$124:$K$153,MATCH($M26,Reykjavík!$A$124:$A$153,0),MATCH(S$11,Reykjavík!$A$123:$K$123,0)) -> 3119.8324 | T26: =INDEX(Reykjavík!$A$124:$K$153,MATCH($M26,Reykjavík!$A$124:$A$153,0),MATCH(T$11,Reykjavík!$A$123:$K$123,0)) -> 3460.3348 | U26: =INDEX(Reykjavík!$A$124:$L$153,MATCH($M26,Reykjavík!$A$124:$A$153,0),MATCH(U$11,Reykjavík!$A$123:$L$123,0)) -> 2231.1071 | V26: =INDEX(Reykjavík!$A$124:$M$153,MATCH($M26,Reykjavík!$A$124:$A$153,0),MATCH(V$11,Reykjavík!$A$123:$M$123,0)) -> 2239.9506 | W26: =V26-P26 -> 2239.9506 | X26: N/A | AA26: Jarðgerð | AE26: =AE17/1000 -> 576.78558 | AF26: =AF17/1000 -> 554.95382 | AG26: =AG17/1000 -> 579.22442 | AH26: =AH17/1000 -> 563.22335 | AI26: =AI17/1000 -> 589.90299 | AJ26: =AJ17/1000 -> 577.36324 | AK26: =AK17/1000 -> 563.88629 | AL26: =AL17/1000 -> 0 | ... AQ26: =AQ17/1000 -> 111.5
B27: Upprunið innan RVK | C27: =INDEX(Reykjavík!$A$2:$M$73,MATCH("Brennsla úrgangs Reykjavíkur",Reykjavík!$A$2:$A$73,0),MATCH($D$4,Reykjavík!$A$3:$M$3,0)) -> 23569.221 | M27: =Reykjavík!A135 -> Brennsla | P27: =INDEX(Reykjavík!$A$124:$K$153,MATCH($M27,Reykjavík!$A$124:$A$153,0),MATCH(P$11,Reykjavík!$A$123:$K$123,0)) -> 4061.1759 | Q27: =INDEX(Reykjavík!$A$124:$K$153,MATCH($M27,Reykjavík!$A$124:$A$153,0),MATCH(Q$11,Reykjavík!$A$123:$K$123,0)) -> 4223.2562 | R27: =INDEX(Reykjavík!$A$124:$K$153,MATCH($M27,Reykjavík!$A$124:$A$153,0),MATCH(R$11,Reykjavík!$A$123:$K$123,0)) -> 4849.2271 | S27: =INDEX(Reykjavík!$A$124:$K$153,MATCH($M27,Reykjavík!$A$124:$A$153,0),MATCH(S$11,Reykjavík!$A$123:$K$123,0)) -> 4515.1753 | T27: =INDEX(Reykjavík!$A$124:$K$153,MATCH($M27,Reykjavík!$A$124:$A$153,0),MATCH(T$11,Reykjavík!$A$123:$K$123,0)) -> 14333.357 | U27: =INDEX(Reykjavík!$A$124:$L$153,MATCH($M27,Reykjavík!$A$124:$A$153,0),MATCH(U$11,Reykjavík!$A$123:$L$123,0)) -> 23351.3 | V27: =INDEX(Reykjavík!$A$124:$M$153,MATCH($M27,Reykjavík!$A$124:$A$153,0),MATCH(V$11,Reykjavík!$A$123:$M$123,0)) -> 27382.007 | W27: =V27-P27 -> 23320.831 | X27: =W27/P27 -> 5.7423839 | AA27: Brennsla
B28: Brennsla innanlands | C28: =INDEX(Reykjavík!$A$2:$M$73,MATCH("Losun vegna brennslu",Reykjavík!$A$2:$A$73,0),MATCH($D$4,Reykjavík!$A$3:$M$3,0)) -> 3812.7858 | M28: =Reykjavík!A136 -> Meðhöndlun skólps | P28: =INDEX(Reykjavík!$A$124:$K$153,MATCH($M28,Reykjavík!$A$124:$A$153,0),MATCH(P$11,Reykjavík!$A$123:$K$123,0)) -> 3233.1331 | Q28: =INDEX(Reykjavík!$A$124:$K$153,MATCH($M28,Reykjavík!$A$124:$A$153,0),MATCH(Q$11,Reykjavík!$A$123:$K$123,0)) -> 3554.5231 | R28: =INDEX(Reykjavík!$A$124:$K$153,MATCH($M28,Reykjavík!$A$124:$A$153,0),MATCH(R$11,Reykjavík!$A$123:$K$123,0)) -> 3591.7122 | S28: =INDEX(Reykjavík!$A$124:$K$153,MATCH($M28,Reykjavík!$A$124:$A$153,0),MATCH(S$11,Reykjavík!$A$123:$K$123,0)) -> 3543.0235 | T28: =INDEX(Reykjavík!$A$124:$K$153,MATCH($M28,Reykjavík!$A$124:$A$153,0),MATCH(T$11,Reykjavík!$A$123:$K$123,0)) -> 3567.6019 | U28: =INDEX(Reykjavík!$A$124:$L$153,MATCH($M28,Reykjavík!$A$124:$A$153,0),MATCH(U$11,Reykjavík!$A$123:$L$123,0)) -> 3639.8633 | V28: =INDEX(Reykjavík!$A$124:$M$153,MATCH($M28,Reykjavík!$A$124:$A$153,0),MATCH(V$11,Reykjavík!$A$123:$M$123,0)) -> 3679.2396 | W28: =V28-P28 -> 446.10647 | X28: =W28/P28 -> 0.13797962 | AA28: Meðhöndlun skólps
B29: Fráveita | C29: =INDEX(Reykjavík!$A$2:$M$73,MATCH("Losun vegna fráveitu",Reykjavík!$A$2:$A$73,0),MATCH($D$4,Reykjavík!$A$3:$M$3,0)) -> 3679.2396 | M29: =Reykjavík!A137 -> Úrgangur | P29: =INDEX(Reykjavík!$A$124:$K$153,MATCH($M29,Reykjavík!$A$124:$A$153,0),MATCH(P$11,Reykjavík!$A$123:$K$123,0)) -> 53056.837 | Q29: =INDEX(Reykjavík!$A$124:$K$153,MATCH($M29,Reykjavík!$A$124:$A$153,0),MATCH(Q$11,Reykjavík!$A$123:$K$123,0)) -> 69002.329 | R29: =INDEX(Reykjavík!$A$124:$K$153,MATCH($M29,Reykjavík!$A$124:$A$153,0),MATCH(R$11,Reykjavík!$A$123:$K$123,0)) -> 73063.594 | S29: =INDEX(Reykjavík!$A$124:$K$153,MATCH($M29,Reykjavík!$A$124:$A$153,0),MATCH(S$11,Reykjavík!$A$123:$K$123,0)) -> 77165.734 | T29: =INDEX(Reykjavík!$A$124:$K$153,MATCH($M29,Reykjavík!$A$124:$A$153,0),MATCH(T$11,Reykjavík!$A$123:$K$123,0)) -> 79277.357 | U29: =INDEX(Reykjavík!$A$124:$L$153,MATCH($M29,Reykjavík!$A$124:$A$153,0),MATCH(U$11,Reykjavík!$A$123:$L$123,0)) -> 82645.835 | V29: =INDEX(Reykjavík!$A$124:$M$153,MATCH($M29,Reykjavík!$A$124:$A$153,0),MATCH(V$11,Reykjavík!$A$123:$M$123,0)) -> 80736.348 | W29: =V29-P29 -> 27679.511 | X29: =W29/P29 -> 0.52169547 | Y29: 32100 | Z29: 13800 | AA29: Úrgangur
B30: Landbúnaður og landnotkun | C30: =C31+C32+C33 -> 33231.811 | D30: =C30 -> 33231.811 | M30: =Reykjavík!A138 -> Búfjárrækt | P30: =INDEX(Reykjavík!$A$124:$K$153,MATCH($M30,Reykjavík!$A$124:$A$153,0),MATCH(P$11,Reykjavík!$A$123:$K$123,0)) -> 1710.0062 | Q30: =INDEX(Reykjavík!$A$124:$K$153,MATCH($M30,Reykjavík!$A$124:$A$153,0),MATCH(Q$11,Reykjavík!$A$123:$K$123,0)) -> 2652.4245 | R30: =INDEX(Reykjavík!$A$124:$K$153,MATCH($M30,Reykjavík!$A$124:$A$153,0),MATCH(R$11,Reykjavík!$A$123:$K$123,0)) -> 2654.0703 | S30: =INDEX(Reykjavík!$A$124:$K$153,MATCH($M30,Reykjavík!$A$124:$A$153,0),MATCH(S$11,Reykjavík!$A$123:$K$123,0)) -> 2565.312 | T30: =INDEX(Reykjavík!$A$124:$K$153,MATCH($M30,Reykjavík!$A$124:$A$153,0),MATCH(T$11,Reykjavík!$A$123:$K$123,0)) -> 2225.739 | U30: =INDEX(Reykjavík!$A$124:$L$153,MATCH($M30,Reykjavík!$A$124:$A$153,0),MATCH(U$11,Reykjavík!$A$123:$L$123,0)) -> 2248.1211 | V30: =INDEX(Reykjavík!$A$124:$M$153,MATCH($M30,Reykjavík!$A$124:$A$153,0),MATCH(V$11,Reykjavík!$A$123:$M$123,0)) -> 2199.0447 | W30: =V30-P30 -> 489.03852 | X30: =W30/P30 -> 0.2859864 | AA30: Búfjárrækt
B31: Búfjárræktun | C31: =INDEX(Reykjavík!$A$2:$M$73,MATCH("Losun vegna búfjárræktunar",Reykjavík!$A$2:$A$73,0),MATCH($D$4,Reykjavík!$A$3:$M$3,0)) -> 2199.0447 | M31: =Reykjavík!A139 -> Landnotkun | P31: =INDEX(Reykjavík!$A$124:$K$153,MATCH($M31,Reykjavík!$A$124:$A$153,0),MATCH(P$11,Reykjavík!$A$123:$K$123,0)) -> 45775.148 | Q31: =INDEX(Reykjavík!$A$124:$K$153,MATCH($M31,Reykjavík!$A$124:$A$153,0),MATCH(Q$11,Reykjavík!$A$123:$K$123,0)) -> 45775.148 | R31: =INDEX(Reykjavík!$A$124:$K$153,MATCH($M31,Reykjavík!$A$124:$A$153,0),MATCH(R$11,Reykjavík!$A$123:$K$123,0)) -> 45775.148 | S31: =INDEX(Reykjavík!$A$124:$K$153,MATCH($M31,Reykjavík!$A$124:$A$153,0),MATCH(S$11,Reykjavík!$A$123:$K$123,0)) -> 45775.148 | T31: =INDEX(Reykjavík!$A$124:$K$153,MATCH($M31,Reykjavík!$A$124:$A$153,0),MATCH(T$11,Reykjavík!$A$123:$K$123,0)) -> 45775.148 | U31: =INDEX(Reykjavík!$A$124:$L$153,MATCH($M31,Reykjavík!$A$124:$A$153,0),MATCH(U$11,Reykjavík!$A$123:$L$123,0)) -> 45775.148 | V31: =INDEX(Reykjavík!$A$124:$M$153,MATCH($M31,Reykjavík!$A$124:$A$153,0),MATCH(V$11,Reykjavík!$A$123:$M$123,0)) -> 45775.148 | W31: =V31-P31 -> 0 | X31: =W31/P31 -> 0 | AA31: Landnotkun
B32: Landnotkun | C32: =INDEX(Reykjavík!$A$2:$M$73,MATCH("Losun vegna landnotkunar og skógræktar",Reykjavík!$A$2:$A$73,0),MATCH($D$4,Reykjavík!$A$3:$M$3,0))-INDEX(Reykjavík!$A$2:$M$73,MATCH("4A - Skóglendi",Reykjavík!$A$2:$A$73,0),MATCH($D$4,Reykjavík!$A$3:$M$3,0)) -> 45775.148 | M32: =Reykjavík!A141 -> Landbúnaður og landnotkun | P32: =INDEX(Reykjavík!$A$124:$K$153,MATCH($M32,Reykjavík!$A$124:$A$153,0),MATCH(P$11,Reykjavík!$A$123:$K$123,0)) -> 32742.772 | Q32: =INDEX(Reykjavík!$A$124:$K$153,MATCH($M32,Reykjavík!$A$124:$A$153,0),MATCH(Q$11,Reykjavík!$A$123:$K$123,0)) -> 33685.191 | R32: =INDEX(Reykjavík!$A$124:$K$153,MATCH($M32,Reykjavík!$A$124:$A$153,0),MATCH(R$11,Reykjavík!$A$123:$K$123,0)) -> 33686.836 | S32: =INDEX(Reykjavík!$A$124:$K$153,MATCH($M32,Reykjavík!$A$124:$A$153,0),MATCH(S$11,Reykjavík!$A$123:$K$123,0)) -> 33598.078 | T32: =INDEX(Reykjavík!$A$124:$K$153,MATCH($M32,Reykjavík!$A$124:$A$153,0),MATCH(T$11,Reykjavík!$A$123:$K$123,0)) -> 33258.505 | U32: =INDEX(Reykjavík!$A$124:$L$153,MATCH($M32,Reykjavík!$A$124:$A$153,0),MATCH(U$11,Reykjavík!$A$123:$L$123,0)) -> 33280.887 | V32: =INDEX(Reykjavík!$A$124:$M$153,MATCH($M32,Reykjavík!$A$124:$A$153,0),MATCH(V$11,Reykjavík!$A$123:$M$123,0)) -> 33231.811 | W32: =V32-P32 -> 489.03852 | X32: =W32/P32 -> 0.01493577 | Y32: 12600 | Z32: 9600 | AA32: Landbúnaður og landnotkun
B33: Skógrækt | C33: =INDEX(Reykjavík!$A$2:$M$73,MATCH("4A - Skóglendi",Reykjavík!$A$2:$A$73,0),MATCH($D$4,Reykjavík!$A$3:$M$3,0)) -> -14742.382 | M33: =Reykjavík!A142 -> Efnanotkun | P33: =INDEX(Reykjavík!$A$124:$K$153,MATCH($M33,Reykjavík!$A$124:$A$153,0),MATCH(P$11,Reykjavík!$A$123:$K$123,0)) -> 43855.39 | Q33: =INDEX(Reykjavík!$A$124:$K$153,MATCH($M33,Reykjavík!$A$124:$A$153,0),MATCH(Q$11,Reykjavík!$A$123:$K$123,0)) -> 46145.784 | R33: =INDEX(Reykjavík!$A$124:$K$153,MATCH($M33,Reykjavík!$A$124:$A$153,0),MATCH(R$11,Reykjavík!$A$123:$K$123,0)) -> 39168.966 | S33: =INDEX(Reykjavík!$A$124:$K$153,MATCH($M33,Reykjavík!$A$124:$A$153,0),MATCH(S$11,Reykjavík!$A$123:$K$123,0)) -> 34504.151 | T33: =INDEX(Reykjavík!$A$124:$K$153,MATCH($M33,Reykjavík!$A$124:$A$153,0),MATCH(T$11,Reykjavík!$A$123:$K$123,0)) -> 29495.398 | U33: =INDEX(Reykjavík!$A$124:$L$153,MATCH($M33,Reykjavík!$A$124:$A$153,0),MATCH(U$11,Reykjavík!$A$123:$L$123,0)) -> 25677.455 | V33: =INDEX(Reykjavík!$A$124:$M$153,MATCH($M33,Reykjavík!$A$124:$A$153,0),MATCH(V$11,Reykjavík!$A$123:$M$123,0)) -> 31944.837 | W33: =V33-P33 -> -11910.553 | X33: =W33/P33 -> -0.27158699 | AA33: Efnanotkun
B34: Efnanotkun og iðnaður | C34: =C35+C37+C36 -> 104772.7 | D34: =C34-C36-C37 -> 31944.837 | F34: =C36+C37 -> 72827.866 | M34: =Reykjavík!A145 -> Byggingariðnaður - efni | P34: =INDEX(Reykjavík!$A$124:$K$153,MATCH($M34,Reykjavík!$A$124:$A$153,0),MATCH(P$11,Reykjavík!$A$123:$K$123,0)) -> 50484.75 | Q34: =INDEX(Reykjavík!$A$124:$K$153,MATCH($M34,Reykjavík!$A$124:$A$153,0),MATCH(Q$11,Reykjavík!$A$123:$K$123,0)) -> 60181.086 | R34: =INDEX(Reykjavík!$A$124:$K$153,MATCH($M34,Reykjavík!$A$124:$A$153,0),MATCH(R$11,Reykjavík!$A$123:$K$123,0)) -> 68018.523 | S34: =INDEX(Reykjavík!$A$124:$K$153,MATCH($M34,Reykjavík!$A$124:$A$153,0),MATCH(S$11,Reykjavík!$A$123:$K$123,0)) -> 75174.977 | T34: =INDEX(Reykjavík!$A$124:$K$153,MATCH($M34,Reykjavík!$A$124:$A$153,0),MATCH(T$11,Reykjavík!$A$123:$K$123,0)) -> 76957.189 | U34: =INDEX(Reykjavík!$A$124:$L$153,MATCH($M34,Reykjavík!$A$124:$A$153,0),MATCH(U$11,Reykjavík!$A$123:$L$123,0)) -> 70463.313 | V34: =INDEX(Reykjavík!$A$124:$M$153,MATCH($M34,Reykjavík!$A$124:$A$153,0),MATCH(V$11,Reykjavík!$A$123:$M$123,0)) -> 67349.81 | W34: =V34-P34 -> 16865.06 | X34: =W34/P34 -> 0.33406246 | AA34: Byggingariðnaður - efni
B35: Efnanotkun | C35: =INDEX(Reykjavík!$A$2:$M$157,MATCH("Samtals losun vegna efnanotkunar",Reykjavík!$A$2:$A$157,0),MATCH($D$4,Reykjavík!$A$3:$M$3,0)) -> 31944.837 | M35: =Reykjavík!A146 -> Annar iðnaður | P35: =INDEX(Reykjavík!$A$124:$K$153,MATCH($M35,Reykjavík!$A$124:$A$153,0),MATCH(P$11,Reykjavík!$A$123:$K$123,0)) -> 3695.5828 | Q35: =INDEX(Reykjavík!$A$124:$K$153,MATCH($M35,Reykjavík!$A$124:$A$153,0),MATCH(Q$11,Reykjavík!$A$123:$K$123,0)) -> 3808.7568 | R35: =INDEX(Reykjavík!$A$124:$K$153,MATCH($M35,Reykjavík!$A$124:$A$153,0),MATCH(R$11,Reykjavík!$A$123:$K$123,0)) -> 3623.986 | S35: =INDEX(Reykjavík!$A$124:$K$153,MATCH($M35,Reykjavík!$A$124:$A$153,0),MATCH(S$11,Reykjavík!$A$123:$K$123,0)) -> 3418.9567 | T35: =INDEX(Reykjavík!$A$124:$K$153,MATCH($M35,Reykjavík!$A$124:$A$153,0),MATCH(T$11,Reykjavík!$A$123:$K$123,0)) -> 2481.6132 | U35: =INDEX(Reykjavík!$A$124:$L$153,MATCH($M35,Reykjavík!$A$124:$A$153,0),MATCH(U$11,Reykjavík!$A$123:$L$123,0)) -> 1787.7946 | V35: =INDEX(Reykjavík!$A$124:$M$153,MATCH($M35,Reykjavík!$A$124:$A$153,0),MATCH(V$11,Reykjavík!$A$123:$M$123,0)) -> 5478.0557 | W35: =V35-P35 -> 1782.4728 | X35: =W35/P35 -> 0.48232523 | AA35: Annar iðnaður
B36: Byggingariðnaður - efni | C36: =INDEX(Reykjavík!$A$2:$M$157,MATCH("byggingariðnaður - efni",Reykjavík!$A$2:$A$157,0),MATCH($D$4,Reykjavík!$A$3:$M$3,0)) -> 67349.81 | M36: =Reykjavík!A147 -> Efnanotkun og iðnaður | P36: =INDEX(Reykjavík!$A$124:$K$153,MATCH($M36,Reykjavík!$A$124:$A$153,0),MATCH(P$11,Reykjavík!$A$123:$K$123,0)) -> 98035.723 | Q36: =INDEX(Reykjavík!$A$124:$K$153,MATCH($M36,Reykjavík!$A$124:$A$153,0),MATCH(Q$11,Reykjavík!$A$123:$K$123,0)) -> 110135.63 | R36: =INDEX(Reykjavík!$A$124:$K$153,MATCH($M36,Reykjavík!$A$124:$A$153,0),MATCH(R$11,Reykjavík!$A$123:$K$123,0)) -> 110811.48 | S36: =INDEX(Reykjavík!$A$124:$K$153,MATCH($M36,Reykjavík!$A$124:$A$153,0),MATCH(S$11,Reykjavík!$A$123:$K$123,0)) -> 113098.09 | T36: =INDEX(Reykjavík!$A$124:$K$153,MATCH($M36,Reykjavík!$A$124:$A$153,0),MATCH(T$11,Reykjavík!$A$123:$K$123,0)) -> 108934.2 | U36: =INDEX(Reykjavík!$A$124:$L$153,MATCH($M36,Reykjavík!$A$124:$A$153,0),MATCH(U$11,Reykjavík!$A$123:$L$123,0)) -> 97928.562 | V36: =INDEX(Reykjavík!$A$124:$M$153,MATCH($M36,Reykjavík!$A$124:$A$153,0),MATCH(V$11,Reykjavík!$A$123:$M$123,0)) -> 104772.7 | W36: =V36-P36 -> 6736.9796 | X36: =W36/P36 -> 0.06871964 | Y36: 33800 | Z36: 21300 | AA36: Efnanotkun og iðnaður
B37: Annað | C37: =INDEX(Reykjavík!$A$2:$M$157,MATCH("losun matvælaframleiðslu í RVK",Reykjavík!$A$2:$A$157,0),MATCH($D$4,Reykjavík!$A$3:$M$3,0)) -> 5478.0557 | M37: =Reykjavík!A148 -> BASIC | P37: =INDEX(Reykjavík!$A$124:$K$153,MATCH($M37,Reykjavík!$A$124:$A$153,0),MATCH(P$11,Reykjavík!$A$123:$K$123,0)) -> 445821.98 | Q37: =INDEX(Reykjavík!$A$124:$K$153,MATCH($M37,Reykjavík!$A$124:$A$153,0),MATCH(Q$11,Reykjavík!$A$123:$K$123,0)) -> 410897.2 | R37: =INDEX(Reykjavík!$A$124:$K$153,MATCH($M37,Reykjavík!$A$124:$A$153,0),MATCH(R$11,Reykjavík!$A$123:$K$123,0)) -> 434506.96 | S37: =INDEX(Reykjavík!$A$124:$K$153,MATCH($M37,Reykjavík!$A$124:$A$153,0),MATCH(S$11,Reykjavík!$A$123:$K$123,0)) -> 416292.9 | T37: =INDEX(Reykjavík!$A$124:$K$153,MATCH($M37,Reykjavík!$A$124:$A$153,0),MATCH(T$11,Reykjavík!$A$123:$K$123,0)) -> 447478.45 | U37: =INDEX(Reykjavík!$A$124:$L$153,MATCH($M37,Reykjavík!$A$124:$A$153,0),MATCH(U$11,Reykjavík!$A$123:$L$123,0)) -> 445882.8 | V37: =INDEX(Reykjavík!$A$124:$M$153,MATCH($M37,Reykjavík!$A$124:$A$153,0),MATCH(V$11,Reykjavík!$A$123:$M$123,0)) -> 425641.28 | W37: =V37-P37 -> -20180.7 | X37: =W37/P37 -> -0.045266275 | AA37: BASIC
B38: Samtals | C38: =C30+C21+C16+C11+C34 -> 563886.29 | D38: =SUM(D11:D36) -> 448730.55 | E38: =SUM(E11:E36) -> 14705.37 | F38: =SUM(F11:F36) -> 100450.37 | M38: =Reykjavík!A149 -> BASIC+ | P38: =INDEX(Reykjavík!$A$124:$K$153,MATCH($M38,Reykjavík!$A$124:$A$153,0),MATCH(P$11,Reykjavík!$A$123:$K$123,0)) -> 522605.25 | Q38: =INDEX(Reykjavík!$A$124:$K$153,MATCH($M38,Reykjavík!$A$124:$A$153,0),MATCH(Q$11,Reykjavík!$A$123:$K$123,0)) -> 490963.98 | R38: =INDEX(Reykjavík!$A$124:$K$153,MATCH($M38,Reykjavík!$A$124:$A$153,0),MATCH(R$11,Reykjavík!$A$123:$K$123,0)) -> 507581.91 | S38: =INDEX(Reykjavík!$A$124:$K$153,MATCH($M38,Reykjavík!$A$124:$A$153,0),MATCH(S$11,Reykjavík!$A$123:$K$123,0)) -> 484629.42 | T38: =INDEX(Reykjavík!$A$124:$K$153,MATCH($M38,Reykjavík!$A$124:$A$153,0),MATCH(T$11,Reykjavík!$A$123:$K$123,0)) -> 510464.19 | U38: =INDEX(Reykjavík!$A$124:$L$153,MATCH($M38,Reykjavík!$A$124:$A$153,0),MATCH(U$11,Reykjavík!$A$123:$L$123,0)) -> 505112.13 | V38: =INDEX(Reykjavík!$A$124:$M$153,MATCH($M38,Reykjavík!$A$124:$A$153,0),MATCH(V$11,Reykjavík!$A$123:$M$123,0)) -> 491058.42 | W38: =V38-P38 -> -31546.828 | X38: =W38/P38 -> -0.060364544 | AA38: BASIC+
B39: Samtals á íbúa | C39: =Reykjavík!O181 -> 4.063401 | D39: =Reykjavík!O182 -> 3.2335814 | E39: =Reykjavík!O183 -> 0.10596785 | F39: =Reykjavík!O184 -> 0.72385183 | M39: =Reykjavík!A150 -> BASIC+ S3 | P39: =INDEX(Reykjavík!$A$124:$K$153,MATCH($M39,Reykjavík!$A$124:$A$153,0),MATCH(P$11,Reykjavík!$A$123:$K$123,0)) -> 576785.58 | Q39: =INDEX(Reykjavík!$A$124:$K$153,MATCH($M39,Reykjavík!$A$124:$A$153,0),MATCH(Q$11,Reykjavík!$A$123:$K$123,0)) -> 554953.82 | R39: =INDEX(Reykjavík!$A$124:$K$153,MATCH($M39,Reykjavík!$A$124:$A$153,0),MATCH(R$11,Reykjavík!$A$123:$K$123,0)) -> 579224.42 | S39: =INDEX(Reykjavík!$A$124:$K$153,MATCH($M39,Reykjavík!$A$124:$A$153,0),MATCH(S$11,Reykjavík!$A$123:$K$123,0)) -> 563223.35 | T39: =INDEX(Reykjavík!$A$124:$K$153,MATCH($M39,Reykjavík!$A$124:$A$153,0),MATCH(T$11,Reykjavík!$A$123:$K$123,0)) -> 589902.99 | U39: =INDEX(Reykjavík!$A$124:$L$153,MATCH($M39,Reykjavík!$A$124:$A$153,0),MATCH(U$11,Reykjavík!$A$123:$L$123,0)) -> 577363.24 | V39: =INDEX(Reykjavík!$A$124:$M$153,MATCH($M39,Reykjavík!$A$124:$A$153,0),MATCH(V$11,Reykjavík!$A$123:$M$123,0)) -> 563886.29 | W39: =V39-P39 -> -12899.295 | X39: =W39/P39 -> -0.022364108 | AA39: BASIC+ S3
M40: =Reykjavík!A151 -> Umfang 1 | P40: =INDEX(Reykjavík!$A$124:$K$153,MATCH($M40,Reykjavík!$A$124:$A$153,0),MATCH(P$11,Reykjavík!$A$123:$K$123,0)) -> 506964.46 | Q40: =INDEX(Reykjavík!$A$124:$K$153,MATCH($M40,Reykjavík!$A$124:$A$153,0),MATCH(Q$11,Reykjavík!$A$123:$K$123,0)) -> 474558.45 | R40: =INDEX(Reykjavík!$A$124:$K$153,MATCH($M40,Reykjavík!$A$124:$A$153,0),MATCH(R$11,Reykjavík!$A$123:$K$123,0)) -> 490868.91 | S40: =INDEX(Reykjavík!$A$124:$K$153,MATCH($M40,Reykjavík!$A$124:$A$153,0),MATCH(S$11,Reykjavík!$A$123:$K$123,0)) -> 468117.94 | T40: =INDEX(Reykjavík!$A$124:$K$153,MATCH($M40,Reykjavík!$A$124:$A$153,0),MATCH(T$11,Reykjavík!$A$123:$K$123,0)) -> 480327.84 | U40: =INDEX(Reykjavík!$A$124:$L$153,MATCH($M40,Reykjavík!$A$124:$A$153,0),MATCH(U$11,Reykjavík!$A$123:$L$123,0)) -> 463518.91 | V40: =INDEX(Reykjavík!$A$124:$M$153,MATCH($M40,Reykjavík!$A$124:$A$153,0),MATCH(V$11,Reykjavík!$A$123:$M$123,0)) -> 448730.55 | W40: =V40-P40 -> -58233.907 | X40: =W40/P40 -> -0.11486783 | AA40: Umfang 1
B41: BASIC | C41: =C12+C14+C17+C18+C20+C23+C25+C27+C28+C29+C15-C13 -> 425641.28 | D41: =D11+D16+D21 -> 383553.91 | E41: =E11 -> 14705.37 | F41: =F21 -> 27382.007 | M41: =Reykjavík!A152 -> Umfang 2 | P41: =INDEX(Reykjavík!$A$124:$K$153,MATCH($M41,Reykjavík!$A$124:$A$153,0),MATCH(P$11,Reykjavík!$A$123:$K$123,0)) -> 15090.092 | Q41: =INDEX(Reykjavík!$A$124:$K$153,MATCH($M41,Reykjavík!$A$124:$A$153,0),MATCH(Q$11,Reykjavík!$A$123:$K$123,0)) -> 15755.221 | R41: =INDEX(Reykjavík!$A$124:$K$153,MATCH($M41,Reykjavík!$A$124:$A$153,0),MATCH(R$11,Reykjavík!$A$123:$K$123,0)) -> 15268.604 | S41: =INDEX(Reykjavík!$A$124:$K$153,MATCH($M41,Reykjavík!$A$124:$A$153,0),MATCH(S$11,Reykjavík!$A$123:$K$123,0)) -> 15180.974 | T41: =INDEX(Reykjavík!$A$124:$K$153,MATCH($M41,Reykjavík!$A$124:$A$153,0),MATCH(T$11,Reykjavík!$A$123:$K$123,0)) -> 15571.158 | U41: =INDEX(Reykjavík!$A$124:$L$153,MATCH($M41,Reykjavík!$A$124:$A$153,0),MATCH(U$11,Reykjavík!$A$123:$L$123,0)) -> 17970.927 | V41: =INDEX(Reykjavík!$A$124:$M$153,MATCH($M41,Reykjavík!$A$124:$A$153,0),MATCH(V$11,Reykjavík!$A$123:$M$123,0)) -> 14705.37 | W41: =V41-P41 -> -384.72168 | X41: =W41/P41 -> -0.025494986 | AA41: Umfang 2
B42: BASIC + | C42: =C41+C31+C32+C35+C13+C33 -> 491058.42 | D42: =D41+D30+D34 -> 448730.55 | E42: =E41 -> 14705.37 | F42: =F41+F11 -> 27622.5 | M42: =Reykjavík!A153 -> Umfang 3 | P42: =INDEX(Reykjavík!$A$124:$K$153,MATCH($M42,Reykjavík!$A$124:$A$153,0),MATCH(P$11,Reykjavík!$A$123:$K$123,0)) -> 58426.615 | Q42: =INDEX(Reykjavík!$A$124:$K$153,MATCH($M42,Reykjavík!$A$124:$A$153,0),MATCH(Q$11,Reykjavík!$A$123:$K$123,0)) -> 68448.902 | R42: =INDEX(Reykjavík!$A$124:$K$153,MATCH($M42,Reykjavík!$A$124:$A$153,0),MATCH(R$11,Reykjavík!$A$123:$K$123,0)) -> 76710.888 | S42: =INDEX(Reykjavík!$A$124:$K$153,MATCH($M42,Reykjavík!$A$124:$A$153,0),MATCH(S$11,Reykjavík!$A$123:$K$123,0)) -> 83343.397 | T42: =INDEX(Reykjavík!$A$124:$K$153,MATCH($M42,Reykjavík!$A$124:$A$153,0),MATCH(T$11,Reykjavík!$A$123:$K$123,0)) -> 94003.994 | U42: =INDEX(Reykjavík!$A$124:$L$153,MATCH($M42,Reykjavík!$A$124:$A$153,0),MATCH(U$11,Reykjavík!$A$123:$L$123,0)) -> 95873.399 | V42: =INDEX(Reykjavík!$A$124:$M$153,MATCH($M42,Reykjavík!$A$124:$A$153,0),MATCH(V$11,Reykjavík!$A$123:$M$123,0)) -> 100450.37 | W42: =V42-P42 -> 42023.751 | X42: =W42/P42 -> 0.71925699 | AA42: Umfang 3
B43: BASIC + S3 | C43: =C42+C36+C37 -> 563886.29 | D43: =D42 -> 448730.55 | E43: =E42 -> 14705.37 | F43: =F42+F34 -> 100450.37
B64: Losunarflokkur | C64: Undirflokkur
B65: Samantekt - | C65: BASIC
G80: =Reykjavík!O148 -> 425641.28 | H80: t CO2-ígilda
G81: =Reykjavík!O179 -> 3.0671986 | H81: t CO2 ígilda á íbúa
B88: Losunarflokkur | C88: Undirflokkur
B89: Samantekt - | C89: BASIC+
G100: =Reykjavík!O149 -> 491058.42 | H100: t CO2-ígilda
G101: =Reykjavík!O180 -> 3.5385987 | H101: t CO2 ígilda á íbúa

Sheet Reykjavík
A1: Loftslagsbókhald Reykjavíkur | R1: 0.36776834 | S1: 0.36580623 | T1: 0.36243748 | U1: 0.35986884 | V1: 0.35871668 | W1: 0.35744064 | X1: 0.35894702 | Y1: 0.35799374 | Z1: 0.35791993 | AA1: 0.35674935 | AB1: 0.35633364
AB2: Mannfjöldi eftir kyni, aldri og sveitarfélögum 1998-2024 - Sveitarfélagaskipan 1. janúar 2024
A3: Almennar upplýsingar | B3: Einingar | C3: 2015 | D3: 2016 | E3: 2017 | F3: 2018 | G3: 2019 | H3: 2020 | I3: 2021 | J3: 2022 | K3: 2023 | L3: 2024 | M3: 2025
A4: Fólksfjöldi Reykjavík | C4: 118798 | D4: 119266 | E4: 120513 | F4: 123141 | G4: 125360 | H4: 126549 | I4: 128610 | J4: 130638 | K4: 134298 | L4: 136894 | M4: 138772 | O4: Hagstofa | AD4: 2014 | AE4: 2015 | AF4: 2016 | AG4: 2017 | AH4: 2018 | AI4: 2019 | AJ4: 2020 | AK4: 2021 | AL4: 2022 | AM4: 2023 | AN4: 2024 | AO4: 2025
A5: Fólksfjöldi HBS | C5: 206483 | D5: 208598 | E5: 212410 | F5: 217810 | G5: 222748 | H5: 225936 | I5: 229412 | J5: 233129 | K5: 239014 | L5: 243908 | M5: 248753
A6: Hlutfall RVK | C6: =C4/C5 -> 0.57534034 | D6: =D4/D5 -> 0.57175045 | E6: =E4/E5 -> 0.56736029 | F6: =F4/F5 -> 0.56535972 | G6: =G4/G5 -> 0.56278844 | H6: =H4/H5 -> 0.56010994 | I6: =I4/I5 -> 0.56060712 | J6: =J4/J5 -> 0.56036787 | ... M6: =M4/M5 -> 0.55787066 | AB6: Reykjavíkurborg | AD6: 118192 | AE6: 118789 | AF6: 119266 | AG6: 120513 | AH6: 123141 | AI6: 125360 | AJ6: 126549 | AK6: 128610 | AL6: 130638 | AM6: 134298 | AN6: 136894 | AO6: 138772 | AQ6: =(AO6-AF6)/AF6 -> 0.16355038 | AR6: =AO6/AE6 -> 1.1682226
A7: Fólksfjöldi Ísland | C7: 323024 | D7: 326036 | E7: 332507 | F7: 342183 | G7: 349468 | H7: 354042 | I7: 358298 | J7: 364917 | K7: 375218 | L7: 383726 | M7: 389444 | AB7: Kópavogsbær | AD7: 31766 | AE7: 32621 | AF7: 33537 | AG7: 34661 | AH7: 35369 | AI7: 36295 | AJ7: 37036 | AK7: 37500 | AL7: 38056 | AM7: 38770 | AN7: 39335 | AO7: 40040 | AQ7: =(AO7-AF7)/AF7 -> 0.19390524 | AR7: =AO7/AE7 -> 1.2274302
A8: Hlutfall HBS | C8: =C5/C7 -> 0.63921876 | D8: =D5/D7 -> 0.63980051 | E8: =E5/E7 -> 0.63881362 | F8: =F5/F7 -> 0.63653075 | G8: =G5/G7 -> 0.63739169 | H8: =H5/H7 -> 0.63816157 | I8: =I5/I7 -> 0.64028267 | J8: =J5/J7 -> 0.63885486 | ... M8: =M5/M7 -> 0.63873882 | AB8: Seltjarnarnesbær | AD8: 4294 | AE8: 4308 | AF8: 4319 | AG8: 4364 | AH8: 4486 | AI8: 4565 | AJ8: 4593 | AK8: 4590 | AL8: 4573 | AM8: 4540 | AN8: 4572 | AO8: 4585 | AQ8: =(AO8-AF8)/AF8 -> 0.061588331 | AR8: =AO8/AE8 -> 1.064299
A9: Hlutfall RVK | C9: =C4/C7 -> 0.36776834 | D9: =D4/D7 -> 0.36580623 | E9: =E4/E7 -> 0.36243748 | F9: =F4/F7 -> 0.35986884 | G9: =G4/G7 -> 0.35871668 | H9: =H4/H7 -> 0.35744064 | I9: =I4/I7 -> 0.35894702 | J9: =J4/J7 -> 0.35799374 | ... M9: =M4/M7 -> 0.35633364 | O9: =M4*3.54 -> 491252.88 | AB9: Garðabær | AD9: 13904 | AE9: 14213 | AF9: 14442 | AG9: 14965 | AH9: 15449 | AI9: 16015 | AJ9: 16624 | AK9: 17353 | AL9: 18047 | AM9: 18509 | AN9: 19088 | AO9: 20116 | AQ9: =(AO9-AF9)/AF9 -> 0.39288187 | AR9: =AO9/AE9 -> 1.415324
A10: GDP Ísland | C10: 17.7 | D10: 21.08 | E10: 25.06 | F10: 26.68 | G10: 24.99 | H10: 22.03 | I10: 26.23 | J10: 29.18 | K10: 31.7 | L10: 33.19 | M10: 38.58 | O10: statista.com/statistics/398966/gross-domestic-product-gdp-in-iceland/
C11: 978867 | D11: 1100665 | E11: 1209857 | F11: 1306378 | G11: 1355357 | H11: 1333368 | I11: 1460489 | J11: 1683468 | K11: 1892279 | L11: 2025852 | M11: 2180811 | O11: Staðgreiðsluskyldar launagreiðslur eftir búsetu
C12: 359005 | D12: 400148 | E12: 436577 | F12: 470963 | G12: 481791 | H12: 474554 | I12: 549825 | J12: 596551 | K12: 670969 | L12: 727532 | M12: 781740
C13: =C12/C11*C10 -> 6.491575 | D13: =D12/D11*D10 -> 7.6636577 | E13: =E12/E11*E10 -> 9.0429031 | F13: =F12/F11*F10 -> 9.6184204 | G13: =G12/G11*G10 -> 8.8832367 | H13: =H12/H11*H10 -> 7.8406146 | I13: =I12/I11*I10 -> 9.874713 | J13: =J12/J11*J10 -> 10.340178 | ... M13: =M12/M11*M10 -> 13.829502 | O13: =M4*3.8 -> 527333.6 | AB13: Hafnarfjarðarkaupstaður | AD13: 26891 | AE13: 27393 | AF13: 27696 | AG13: 28270 | AH13: 28965 | AI13: 29227 | AJ13: 29266 | AK13: 29018 | AL13: 29047 | AM13: 29806 | AN13: 30616 | AO13: 31525 | AQ13: =(AO13-AF13)/AF13 -> 0.13825101 | AR13: =AO13/AE13 -> 1.1508415
AB14: Mosfellsbær | AD14: 8955 | AE14: 9159 | AF14: 9338 | AG14: 9637 | AH14: 10400 | AI14: 11286 | AJ14: 11868 | AK14: 12341 | AL14: 12768 | AM14: 13091 | AN14: 13403 | AO14: 13715 | AQ14: =(AO14-AF14)/AF14 -> 0.46872992 | AR14: =AO14/AE14 -> 1.4974342
A15: Losun (án landnotkunar og skógræktar) | B15: Einingar | C15: 2015 | D15: 2016 | E15: 2017 | F15: 2018 | G15: 2019 | H15: 2020 | I15: 2021 | J15: 2022 | K15: 2023 | L15: 2024 | M15: 2025 | AB15: HBS | AD15: =SUM(AD6:AD14) -> 204002 | AE15: =SUM(AE6:AE14) -> 206483 | AF15: =SUM(AF6:AF14) -> 208598 | AG15: =SUM(AG6:AG14) -> 212410 | AH15: =SUM(AH6:AH14) -> 217810 | AI15: =SUM(AI6:AI14) -> 222748 | AJ15: =SUM(AJ6:AJ14) -> 225936 | AK15: =SUM(AK6:AK14) -> 229412 | ... AO15: =SUM(AO6:AO14) -> 248753 | AQ15: =(AO15-AF15)/AF15 -> 0.19249945 | AR15: =AO15/AE15 -> 1.2047142
A16: Samtals | B16: tCO2í | C16: =SUM(C17:C20) -> 4734390 | D16: =SUM(D17:D20) -> 4687420 | E16: =SUM(E17:E20) -> 4769130 | F16: =SUM(F17:F20) -> 4828420 | G16: =SUM(G17:G20) -> 4688990 | H16: =SUM(H17:H20) -> 4495460 | I16: =SUM(I17:I20) -> 4631394 | J16: =SUM(J17:J20) -> 4666000 | ... L16: =SUM(L17:L20) -> 4779000 | O16: https://www.ust.is/loft/losun-grodurhusalofttegunda/losun-islands/ | AB16: Alls | AD16: 319718 | AE16: 323024 | AF16: 326036 | AG16: 332507 | AH16: 342183 | AI16: 349468 | AJ16: 354042 | AK16: 358298 | AL16: 364917 | AM16: 375218 | AN16: 383726 | AO16: 389444 | AQ16: =(AO16-AF16)/AF16 -> 0.19448159 | AR16: =AO16/AE16 -> 1.2056194
A17: Orka | B17: tCO2í | C17: 1853750 | D17: 1829010 | E17: 1870240 | F17: 1911170 | G17: 1853990 | H17: 1664620 | I17: 1764044 | J17: 1819340 | K17: 1782000 | L17: 1866000 | O17: https://ust.is/loft/losun-grodurhusalofttegunda/gagnabirtir/
A18: Iðnaður og efnanotkun | B18: tCO2í | C18: 1965740 | D18: 1947760 | E18: 1994090 | F18: 2035230 | G18: 2002070 | H18: 1977270 | I18: 2011920 | J18: 2016800 | K18: 1948000 | L18: 2008000
A19: Landbúnaður | B19: tCO2í | C19: 650330 | D19: 650240 | E19: 651080 | F19: 628300 | G19: 610910 | H19: 609480 | I19: 612750 | J19: 596260 | K19: 660000 | L19: 662000
A20: Úrgangur | B20: tCO2í | C20: 264570 | D20: 260410 | E20: 253720 | F20: 253720 | G20: 222020 | H20: 244090 | I20: 242680 | J20: 233600 | K20: 254000 | L20: 243000
A22: Orka | B22: Einingar | C22: 2015 | D22: 2016 | E22: 2017 | F22: 2018 | G22: 2019 | H22: 2020 | I22: 2021 | J22: 2022 | K22: 2023 | L22: 2024 | M22: 2025
A23: Raforka | B23: kWst | D23: =INDEX(Orka!$C$8:$J$12,MATCH(D$3,Orka!$C$8:$C$12,0),MATCH("Heildarorka [kwh]",Orka!$C$8:$J$8,0)) -> 983200000 | E23: =INDEX(Orka!$C$8:$J$12,MATCH(E$22,Orka!$C$8:$C$12,0),MATCH("Heildarorka [kwh]",Orka!$C$8:$J$8,0)) -> 1085400000 | F23: =INDEX(Orka!$C$14:$J$22,MATCH(F$22,Orka!$C$14:$C$22,0),MATCH("Heildarorka [kwh]",Orka!$C$8:$J$8,0)) -> 8.3518132e+08 | G23: =INDEX(Orka!$C$14:$J$22,MATCH(G$22,Orka!$C$14:$C$22,0),MATCH("Heildarorka [kwh]",Orka!$C$8:$J$8,0)) -> 8.2459767e+08 | H23: =INDEX(Orka!$C$14:$J$22,MATCH(H$22,Orka!$C$14:$C$22,0),MATCH("Heildarorka [kwh]",Orka!$C$8:$J$8,0)) -> 8.0525438e+08 | I23: =IFERROR(INDEX(Orka!$C$14:$J$22,MATCH(I$22,Orka!$C$14:$C$22,0),MATCH("Heildarorka [kwh]",Orka!$C$8:$J$8,0)),820000000) -> 8.1167144e+08 | J23: =IFERROR(INDEX(Orka!$C$14:$J$22,MATCH(J$22,Orka!$C$14:$C$22,0),MATCH("Heildarorka [kwh]",Orka!$C$8:$J$8,0)),820000000) -> 827369479 | K23: =IFERROR(INDEX(Orka!$C$14:$J$22,MATCH(K$22,Orka!$C$14:$C$22,0),MATCH("Heildarorka [kwh]",Orka!$C$8:$J$8,0)),820000000) -> 8.2978936e+08 | L23: =IFERROR(INDEX(Orka!$C$14:$J$22,MATCH(L$22,Orka!$C$14:$C$22,0),MATCH("Heildarorka [kwh]",Orka!$C$8:$J$8,0)),820000000) -> 8.4282442e+08 | M23: =IFERROR(INDEX(Orka!$C$14:$J$22,MATCH(M$22,Orka!$C$14:$C$22,0),MATCH("Heildarorka [kwh]",Orka!$C$8:$J$8,0)),820000000) -> 853693619 | O23: Raforkuspá/Notkunarflokkunarskýrsla
A24: Losunarstuðull | B24: gCO2/kWst | C24: 10.4 | D24: =INDEX(Orka!$C$8:$J$12,MATCH(D$22,Orka!$C$8:$C$12,0),MATCH("UOS Stuðull [g CO2 íg/kwh]",Orka!$C$8:$J$8,0)) -> 6.6 | E24: =INDEX(Orka!$C$8:$J$12,MATCH(E$22,Orka!$C$8:$C$12,0),MATCH("UOS Stuðull [g CO2 íg/kwh]",Orka!$C$8:$J$8,0)) -> 6.06 | F24: =INDEX(Orka!$C$14:$J$22,MATCH(F$22,Orka!$C$14:$C$22,0),MATCH("UOS Stuðull [g CO2 íg/kwh]",Orka!$C$14:$J$14,0)) -> 6.31 | G24: =INDEX(Orka!$C$14:$J$22,MATCH(G$22,Orka!$C$14:$C$22,0),MATCH("UOS Stuðull [g CO2 íg/kwh]",Orka!$C$14:$J$14,0)) -> 6.61 | H24: =INDEX(Orka!$C$14:$J$22,MATCH(H$22,Orka!$C$14:$C$22,0),MATCH("UOS Stuðull [g CO2 íg/kwh]",Orka!$C$14:$J$14,0)) -> 6.67 | I24: =INDEX(Orka!$C$14:$J$22,MATCH(I$22,Orka!$C$14:$C$22,0),MATCH("UOS Stuðull [g CO2 íg/kwh]",Orka!$C$14:$J$14,0)) -> 6.15 | J24: =INDEX(Orka!$C$14:$J$22,MATCH(J$22,Orka!$C$14:$C$22,0),MATCH("UOS Stuðull [g CO2 íg/kwh]",Orka!$C$14:$J$14,0)) -> 6.45 | K24: =INDEX(Orka!$C$14:$J$22,MATCH(K$22,Orka!$C$14:$C$22,0),MATCH("UOS Stuðull [g CO2 íg/kwh]",Orka!$C$14:$J$14,0)) -> 6.28 | L24: =INDEX(Orka!$C$14:$J$22,MATCH(L$22,Orka!$C$14:$C$22,0),MATCH("UOS Stuðull [g CO2 íg/kwh]",Orka!$C$14:$J$14,0)) -> 7.98 | M24: =INDEX(Orka!$C$14:$J$22,MATCH(M$22,Orka!$C$14:$C$22,0),MATCH("UOS Stuðull [g CO2 íg/kwh]",Orka!$C$14:$J$14,0)) -> 6.71 | O24: UOS Stuðull
A25: Losun vegna raforku | B25: tCO2í | D25: =INDEX(Orka!$C$8:$J$12,MATCH(D$22,Orka!$C$8:$C$12,0),MATCH("Losun [tCO2 íg]",Orka!$C$8:$J$8,0)) -> 6489.12 | E25: =INDEX(Orka!$C$8:$J$12,MATCH(E$22,Orka!$C$8:$C$12,0),MATCH("Losun [tCO2 íg]",Orka!$C$8:$J$8,0)) -> 6577.524 | F25: =INDEX(Orka!$C$14:$J$22,MATCH(F$22,Orka!$C$14:$C$22,0),MATCH("Losun [tCO2 íg]",Orka!$C$14:$J$14,0)) -> 5269.9941 | G25: =INDEX(Orka!$C$14:$J$22,MATCH(G$22,Orka!$C$14:$C$22,0),MATCH("Losun [tCO2 íg]",Orka!$C$14:$J$14,0)) -> 5450.5906 | H25: =INDEX(Orka!$C$14:$J$22,MATCH(H$22,Orka!$C$14:$C$22,0),MATCH("Losun [tCO2 íg]",Orka!$C$14:$J$14,0)) -> 5371.0467 | I25: =INDEX(Orka!$C$14:$J$22,MATCH(I$22,Orka!$C$14:$C$22,0),MATCH("Losun [tCO2 íg]",Orka!$C$14:$J$14,0)) -> 4991.7793 | J25: =INDEX(Orka!$C$14:$J$22,MATCH(J$22,Orka!$C$14:$C$22,0),MATCH("Losun [tCO2 íg]",Orka!$C$14:$J$14,0)) -> 5336.5331 | K25: =INDEX(Orka!$C$14:$J$22,MATCH(K$22,Orka!$C$14:$C$22,0),MATCH("Losun [tCO2 íg]",Orka!$C$14:$J$14,0)) -> 5211.0772 | L25: =INDEX(Orka!$C$14:$J$22,MATCH(L$22,Orka!$C$14:$C$22,0),MATCH("Losun [tCO2 íg]",Orka!$C$14:$J$14,0)) -> 6725.7389 | M25: =INDEX(Orka!$C$14:$J$22,MATCH(M$22,Orka!$C$14:$C$22,0),MATCH("Losun [tCO2 íg]",Orka!$C$14:$J$14,0)) -> 5728.2842
A26: Þar af vegna dreifitapa | B26: tCO2í | F26: =INDEX(Orka!$C$14:$M$22,MATCH(F$22,Orka!$C$14:$C$22,0),MATCH("Losun vegna dreifitapa",Orka!$C$14:$M$14,0)) -> 193.23603 | G26: =INDEX(Orka!$C$14:$M$22,MATCH(G$22,Orka!$C$14:$C$22,0),MATCH("Losun vegna dreifitapa",Orka!$C$14:$M$14,0)) -> 185.1055 | H26: =INDEX(Orka!$C$14:$M$22,MATCH(H$22,Orka!$C$14:$C$22,0),MATCH("Losun vegna dreifitapa",Orka!$C$14:$M$14,0)) -> 235.80248 | I26: =INDEX(Orka!$C$14:$M$22,MATCH(I$22,Orka!$C$14:$C$22,0),MATCH("Losun vegna dreifitapa",Orka!$C$14:$M$14,0)) -> 219.15169 | J26: =INDEX(Orka!$C$14:$M$22,MATCH(J$22,Orka!$C$14:$C$22,0),MATCH("Losun vegna dreifitapa",Orka!$C$14:$M$14,0)) -> 234.28725 | K26: =INDEX(Orka!$C$14:$M$22,MATCH(K$22,Orka!$C$14:$C$22,0),MATCH("Losun vegna dreifitapa",Orka!$C$14:$M$14,0)) -> 231.83447 | L26: =INDEX(Orka!$C$14:$M$22,MATCH(L$22,Orka!$C$14:$C$22,0),MATCH("Losun vegna dreifitapa",Orka!$C$14:$M$14,0)) -> 270.99209 | M26: =INDEX(Orka!$C$14:$M$22,MATCH(M$22,Orka!$C$14:$C$22,0),MATCH("Losun vegna dreifitapa",Orka!$C$14:$M$14,0)) -> 240.49273
A27: Hitavatnsvinnsla HBS | B27: GL | D27: =INDEX(Orka!$C$27:$J$39,MATCH(D$22,Orka!$C$27:$C$39,0),MATCH("Vatnsvinnsla hitaveitu í RVK [GL]",Orka!$C$27:$J$27,0)) -> 69.45 | E27: =INDEX(Orka!$C$27:$J$39,MATCH(E$22,Orka!$C$27:$C$39,0),MATCH("Vatnsvinnsla hitaveitu í RVK [GL]",Orka!$C$27:$J$27,0)) -> 72.64 | F27: =INDEX(Orka!$C$27:$J$39,MATCH(F$22,Orka!$C$27:$C$39,0),MATCH("Vatnsvinnsla hitaveitu í RVK [GL]",Orka!$C$27:$J$27,0)) -> 77.52 | G27: =INDEX(Orka!$C$27:$J$39,MATCH(G$22,Orka!$C$27:$C$39,0),MATCH("Vatnsvinnsla hitaveitu í RVK [GL]",Orka!$C$27:$J$27,0)) -> 75.43 | H27: =INDEX(Orka!$C$27:$J$39,MATCH(H$22,Orka!$C$27:$C$39,0),MATCH("Vatnsvinnsla hitaveitu í RVK [GL]",Orka!$C$27:$J$27,0)) -> 82.53 | I27: =INDEX(Orka!$C$27:$J$39,MATCH(I$22,Orka!$C$27:$C$39,0),MATCH("Vatnsvinnsla hitaveitu í RVK [GL]",Orka!$C$27:$J$27,0)) -> 80.51 | J27: =INDEX(Orka!$C$27:$J$39,MATCH(J$22,Orka!$C$27:$C$39,0),MATCH("Vatnsvinnsla hitaveitu í RVK [GL]",Orka!$C$27:$J$27,0)) -> 79.82 | K27: =INDEX(Orka!$C$27:$J$39,MATCH(K$22,Orka!$C$27:$C$39,0),MATCH("Vatnsvinnsla hitaveitu í RVK [GL]",Orka!$C$27:$J$27,0)) -> 84.98 | ... M27: =INDEX(Orka!$C$27:$J$39,MATCH(M$22,Orka!$C$27:$C$39,0),MATCH("Vatnsvinnsla hitaveitu í RVK [GL]",Orka!$C$27:$J$27,0)) -> 87.6
A28: Hlutfall í RVK | C28: 60,3% | D28: 0.603 | E28: 0.603 | F28: 0.603 | G28: 0.603 | H28: 0.603 | I28: 0.603 | J28: 0.603 | K28: 0.603 | L28: 0.603 | M28: 0.603
A29: Hitavatnsvinnsla | B29: GL | D29: =D28*D27 -> 41.87835 | E29: =E28*E27 -> 43.80192 | F29: =F28*F27 -> 46.74456 | G29: =G28*G27 -> 45.48429 | H29: =H28*H27 -> 49.76559 | I29: =I28*I27 -> 48.54753 | J29: =J28*J27 -> 48.13146 | K29: =K28*K27 -> 51.24294 | ... M29: =M28*M27 -> 52.8228 | O29: https://www.veitur.is/utgefid-efni/hitaveita
A30: Losunarstuðull | B30: gCO2/m3 | D30: =INDEX(Orka!$C$27:$J$39,MATCH(D$22,Orka!$C$27:$C$39,0),MATCH("Stuðull [g CO2 íg/m3]",Orka!$C$27:$J$27,0)) -> 220.4 | E30: =INDEX(Orka!$C$27:$J$39,MATCH(E$22,Orka!$C$27:$C$39,0),MATCH("Stuðull [g CO2 íg/m3]",Orka!$C$27:$J$27,0)) -> 203 | F30: =INDEX(Orka!$C$27:$J$39,MATCH(F$22,Orka!$C$27:$C$39,0),MATCH("Stuðull [g CO2 íg/m3]",Orka!$C$27:$J$27,0)) -> 207.6 | G30: =INDEX(Orka!$C$27:$J$39,MATCH(G$22,Orka!$C$27:$C$39,0),MATCH("Stuðull [g CO2 íg/m3]",Orka!$C$27:$J$27,0)) -> 216 | H30: =INDEX(Orka!$C$27:$J$39,MATCH(H$22,Orka!$C$27:$C$39,0),MATCH("Stuðull [g CO2 íg/m3]",Orka!$C$27:$J$27,0)) -> 213.4 | I30: =INDEX(Orka!$C$27:$J$39,MATCH(I$22,Orka!$C$27:$C$39,0),MATCH("Stuðull [g CO2 íg/m3]",Orka!$C$27:$J$27,0)) -> 216.2 | J30: =INDEX(Orka!$C$27:$J$39,MATCH(J$22,Orka!$C$27:$C$39,0),MATCH("Stuðull [g CO2 íg/m3]",Orka!$C$27:$J$27,0)) -> 209.4 | K30: =INDEX(Orka!$C$27:$J$39,MATCH(K$22,Orka!$C$27:$C$39,0),MATCH("Stuðull [g CO2 íg/m3]",Orka!$C$27:$J$27,0)) -> 206.7 | ... M30: =INDEX(Orka!$C$27:$J$39,MATCH(M$22,Orka!$C$27:$C$39,0),MATCH("Stuðull [g CO2 íg/m3]",Orka!$C$27:$J$27,0)) -> 174.5
A31: Losun vegna hitaveitu | B31: tCO2í | D31: =INDEX(Orka!$C$27:$J$39,MATCH(D$22,Orka!$C$27:$C$39,0),MATCH("Losun [tCO2 íg]",Orka!$C$27:$J$27,0))*D28 -> 9229.9883 | E31: =INDEX(Orka!$C$27:$J$39,MATCH(E$22,Orka!$C$27:$C$39,0),MATCH("Losun [tCO2 íg]",Orka!$C$27:$J$27,0))*E28 -> 8891.7898 | F31: =INDEX(Orka!$C$27:$J$39,MATCH(F$22,Orka!$C$27:$C$39,0),MATCH("Losun [tCO2 íg]",Orka!$C$27:$J$27,0))*F28 -> 9704.1707 | G31: =INDEX(Orka!$C$27:$J$39,MATCH(G$22,Orka!$C$27:$C$39,0),MATCH("Losun [tCO2 íg]",Orka!$C$27:$J$27,0))*G28 -> 9824.6066 | H31: =INDEX(Orka!$C$27:$J$39,MATCH(H$22,Orka!$C$27:$C$39,0),MATCH("Losun [tCO2 íg]",Orka!$C$27:$J$27,0))*H28 -> 10619.977 | I31: =INDEX(Orka!$C$27:$J$39,MATCH(I$22,Orka!$C$27:$C$39,0),MATCH("Losun [tCO2 íg]",Orka!$C$27:$J$27,0))*I28 -> 10495.976 | J31: =INDEX(Orka!$C$27:$J$39,MATCH(J$22,Orka!$C$27:$C$39,0),MATCH("Losun [tCO2 íg]",Orka!$C$27:$J$27,0))*J28 -> 10078.728 | K31: =INDEX(Orka!$C$27:$J$39,MATCH(K$22,Orka!$C$27:$C$39,0),MATCH("Losun [tCO2 íg]",Orka!$C$27:$J$27,0))*K28 -> 10591.916 | ... M31: =INDEX(Orka!$C$27:$J$39,MATCH(M$22,Orka!$C$27:$C$39,0),MATCH("Losun [tCO2 íg]",Orka!$C$27:$J$27,0))*M28 -> 9217.5786
D32: =D30*D29 -> 9229.9883 | E32: =E30*E29 -> 8891.7898 | F32: =F30*F29 -> 9704.1707 | G32: =G30*G29 -> 9824.6066 | H32: =H30*H29 -> 10619.977 | I32: =I30*I29 -> 10495.976 | J32: =J30*J29 -> 10078.728 | K32: =K30*K29 -> 10591.916 | ... M32: =M30*M29 -> 9217.5786
A33: Samgöngur | C33: 2015 | D33: 2016 | E33: 2017 | F33: 2018 | G33: 2019 | H33: 2020 | I33: 2021 | J33: 2022 | K33: 2023 | L33: 2024 | M33: 2025
A34: Magn ekið | B34: M km | C34: =_xlfn.XLOOKUP(Reykjavík!C33,Götuumferð!$S$18:$S$29,Götuumferð!$AF$18:$AF$29,0,0,1) -> 922.86404 | D34: =_xlfn.XLOOKUP(Reykjavík!D33,Götuumferð!$S$18:$S$29,Götuumferð!$AF$18:$AF$29,0,0,1) -> 989.35441 | E34: =_xlfn.XLOOKUP(Reykjavík!E33,Götuumferð!$S$18:$S$29,Götuumferð!$AF$18:$AF$29,0,0,1) -> 1068.5298 | F34: =_xlfn.XLOOKUP(Reykjavík!F33,Götuumferð!$S$18:$S$29,Götuumferð!$AF$18:$AF$29,0,0,1) -> 1098.494 | G34: =_xlfn.XLOOKUP(Reykjavík!G33,Götuumferð!$S$18:$S$29,Götuumferð!$AF$18:$AF$29,0,0,1) -> 1110.6731 | H34: =_xlfn.XLOOKUP(Reykjavík!H33,Götuumferð!$S$18:$S$29,Götuumferð!$AF$18:$AF$29,0,0,1) -> 987.07449 | I34: =_xlfn.XLOOKUP(Reykjavík!I33,Götuumferð!$S$18:$S$29,Götuumferð!$AF$18:$AF$29,0,0,1) -> 1075.3646 | J34: =_xlfn.XLOOKUP(Reykjavík!J33,Götuumferð!$S$18:$S$29,Götuumferð!$AF$18:$AF$29,0,0,1) -> 1083.7553 | K34: =_xlfn.XLOOKUP(Reykjavík!K33,Götuumferð!$S$18:$S$29,Götuumferð!$AF$18:$AF$29,0,0,1) -> 1137.8401 | L34: =_xlfn.XLOOKUP(Reykjavík!L33,Götuumferð!$S$18:$S$64,Götuumferð!$AF$18:$AF$64,0,0,1) -> 1158.6417 | M34: =_xlfn.XLOOKUP(Reykjavík!M33,Götuumferð!$S$18:$S$64,Götuumferð!$AF$18:$AF$64,0,0,1) -> 1155.0237 | N34: =K34/J34 -> 1.049905 | O34: Mannvit - umferðarlíkan | R34: Leið 1
A35: Losun vegna götuumferðar | B35: tCO2í | D35: =SUM(D36:D38) -> 275088.98 | E35: =SUM(E36:E38) -> 297103.6 | F35: =SUM(F36:F38) -> 305435.13 | G35: =SUM(G36:G38) -> 315453.95 | H35: =SUM(H36:H38) -> 277197.37 | I35: =SUM(I36:I38) -> 299193.28 | J35: =SUM(J36:J38) -> 262145.19 | K35: =SUM(K36:K38) -> 282125.6 | ... M35: =SUM(M36:M38) -> 267348.79 | N35: =0.2*K35 -> 56425.12 | O35: https://ssh.is/images/stories/Samgongumal/2017_Greinagerd_Umferdarspa_2030_LOKA.pdf
A36: Fólksbifreiðar | B36: tCO2í | D36: =INDEX(Götuumferð!$OQ$11:$OT$24,MATCH($A36,Götuumferð!$OQ$11:$OQ$24,0),MATCH($R$34,Götuumferð!$OQ$11:$OT$11,0)) -> 190906.59 | E36: =INDEX(Götuumferð!$OL$11:$OO$24,MATCH($A36,Götuumferð!$OL$11:$OL$24,0),MATCH($R$34,Götuumferð!$OL$11:$OO$11,0)) -> 206184.32 | F36: =INDEX(Götuumferð!$OG$11:$OJ$24,MATCH($A36,Götuumferð!$OG$11:$OG$24,0),MATCH($R$34,Götuumferð!$OG$11:$OJ$11,0)) -> 211966.25 | G36: =INDEX(Götuumferð!$MQ$11:$MT$24,MATCH($A36,Götuumferð!$MQ$11:$MQ$24,0),MATCH($R$34,Götuumferð!$MQ$11:$MT$11,0)) -> 219170.79 | H36: =INDEX(Götuumferð!$LA$11:$LD$24,MATCH($A36,Götuumferð!$LA$11:$LA$24,0),MATCH($R$34,Götuumferð!$LA$11:$LD$11,0)) -> 193663.4 | I36: =INDEX(Götuumferð!$JJ$11:$JM$24,MATCH($A36,Götuumferð!$JJ$11:$JJ$24,0),MATCH($R$34,Götuumferð!$JJ$11:$JM$11,0)) -> 202765.45 | J36: =INDEX(Götuumferð!$HT$65:$HU$79,MATCH($A36,Götuumferð!$HT$65:$HT$79,0),MATCH($R$34,Götuumferð!$HT$65:$HU$65,0)) -> 174864.5 | K36: =INDEX(Götuumferð!$FY$67:$GB$80,MATCH($A36,Götuumferð!$FY$67:$FY$80,0),MATCH($R$34,Götuumferð!$FY$67:$GB$67,0)) -> 188905.9 | L36: =INDEX(Götuumferð!$EA$46:$ED$59,MATCH($A36,Götuumferð!$EA$46:$EA$59,0),MATCH($R$34,Götuumferð!$EA$46:$ED$46,0)) -> 178623.41 | M36: =INDEX(Götuumferð!$CC$46:$CF$59,MATCH($A36,Götuumferð!$CC$46:$CC$59,0),MATCH($R$34,Götuumferð!$CC$46:$CF$46,0)) -> 168292.77 | O36: https://www.samgongustofa.is/umferd/tolfraedi/onnur-tolfraedi/
A37: Hópferðabifreiðar | B37: tCO2í | D37: =INDEX(Götuumferð!$OQ$11:$OT$24,MATCH($A37,Götuumferð!$OQ$11:$OQ$24,0),MATCH($R$34,Götuumferð!$OQ$11:$OT$11,0)) -> 14239.584 | E37: =INDEX(Götuumferð!$OL$11:$OO$24,MATCH($A37,Götuumferð!$OL$11:$OL$24,0),MATCH($R$34,Götuumferð!$OL$11:$OO$11,0)) -> 15379.139 | F37: =INDEX(Götuumferð!$OG$11:$OJ$24,MATCH($A37,Götuumferð!$OG$11:$OG$24,0),MATCH($R$34,Götuumferð!$OG$11:$OJ$11,0)) -> 15810.408 | G37: =INDEX(Götuumferð!$MQ$11:$MT$24,MATCH($A37,Götuumferð!$MQ$11:$MQ$24,0),MATCH($R$34,Götuumferð!$MQ$11:$MT$11,0)) -> 16084.188 | H37: =INDEX(Götuumferð!$LA$11:$LD$24,MATCH($A37,Götuumferð!$LA$11:$LA$24,0),MATCH($R$34,Götuumferð!$LA$11:$LD$11,0)) -> 12467.433 | I37: =INDEX(Götuumferð!$JJ$11:$JM$24,MATCH($A37,Götuumferð!$JJ$11:$JJ$24,0),MATCH($R$34,Götuumferð!$JJ$11:$JM$11,0)) -> 10766.748 | J37: =INDEX(Götuumferð!$HT$65:$HU$79,MATCH($A37,Götuumferð!$HT$65:$HT$79,0),MATCH($R$34,Götuumferð!$HT$65:$HU$65,0)) -> 14312.838 | K37: =INDEX(Götuumferð!$FY$67:$GB$80,MATCH($A37,Götuumferð!$FY$67:$FY$80,0),MATCH($R$34,Götuumferð!$FY$67:$GB$67,0)) -> 20658.315 | L37: =INDEX(Götuumferð!$EA$46:$ED$59,MATCH($A37,Götuumferð!$EA$46:$EA$59,0),MATCH($R$34,Götuumferð!$EA$46:$ED$46,0)) -> 20577.223 | M37: =INDEX(Götuumferð!$CC$46:$CF$59,MATCH($A37,Götuumferð!$CC$46:$CC$59,0),MATCH($R$34,Götuumferð!$CC$46:$CF$46,0)) -> 20641.091 | O37: Eldsneytisspá
A38: Vörubifreiðar | B38: tCO2í | D38: =INDEX(Götuumferð!$OQ$11:$OT$24,MATCH($A38,Götuumferð!$OQ$11:$OQ$24,0),MATCH($R$34,Götuumferð!$OQ$11:$OT$11,0)) -> 69942.806 | E38: =INDEX(Götuumferð!$OL$11:$OO$24,MATCH($A38,Götuumferð!$OL$11:$OL$24,0),MATCH($R$34,Götuumferð!$OL$11:$OO$11,0)) -> 75540.139 | F38: =INDEX(Götuumferð!$OG$11:$OJ$24,MATCH($A38,Götuumferð!$OG$11:$OG$24,0),MATCH($R$34,Götuumferð!$OG$11:$OJ$11,0)) -> 77658.473 | G38: =INDEX(Götuumferð!$MQ$11:$MT$24,MATCH($A38,Götuumferð!$MQ$11:$MQ$24,0),MATCH($R$34,Götuumferð!$MQ$11:$MT$11,0)) -> 80198.969 | H38: =INDEX(Götuumferð!$LA$11:$LD$24,MATCH($A38,Götuumferð!$LA$11:$LA$24,0),MATCH($R$34,Götuumferð!$LA$11:$LD$11,0)) -> 71066.539 | I38: =INDEX(Götuumferð!$JJ$11:$JM$24,MATCH($A38,Götuumferð!$JJ$11:$JJ$24,0),MATCH($R$34,Götuumferð!$JJ$11:$JM$11,0)) -> 85661.083 | J38: =INDEX(Götuumferð!$HT$65:$HU$79,MATCH($A38,Götuumferð!$HT$65:$HT$79,0),MATCH($R$34,Götuumferð!$HT$65:$HU$65,0)) -> 72967.854 | K38: =INDEX(Götuumferð!$FY$67:$GB$80,MATCH($A38,Götuumferð!$FY$67:$FY$80,0),MATCH($R$34,Götuumferð!$FY$67:$GB$67,0)) -> 72561.383 | L38: =INDEX(Götuumferð!$EA$46:$ED$59,MATCH($A38,Götuumferð!$EA$46:$EA$59,0),MATCH($R$34,Götuumferð!$EA$46:$ED$46,0)) -> 75911.139 | M38: =INDEX(Götuumferð!$CC$46:$CF$59,MATCH($A38,Götuumferð!$CC$46:$CC$59,0),MATCH($R$34,Götuumferð!$CC$46:$CF$46,0)) -> 78414.927
A39: Fjöldi skipakoma | C39: =HLOOKUP(Skip!$AL$8,Skip!$AF$8:$AL$73,MATCH(C$33,Skip!$B$8:$B$73,0),FALSE) -> #N/A | D39: =_xlfn.XLOOKUP(D$33,Skip!$B$8:$B$173,Skip!$AL$8:$AL$173,0,0,1) -> 6943 | E39: =_xlfn.XLOOKUP(E$33,Skip!$B$8:$B$173,Skip!$AL$8:$AL$173,0,0,1) -> 6621 | F39: =_xlfn.XLOOKUP(F$33,Skip!$B$8:$B$173,Skip!$AL$8:$AL$173,0,0,1) -> 5815 | G39: =_xlfn.XLOOKUP(G$33,Skip!$B$8:$B$173,Skip!$AL$8:$AL$173,0,0,1) -> 6765 | H39: =_xlfn.XLOOKUP(H$33,Skip!$B$8:$B$173,Skip!$AL$8:$AL$173,0,0,1) -> 2653 | I39: =_xlfn.XLOOKUP(I$33,Skip!$B$8:$B$173,Skip!$AL$8:$AL$173,0,0,1) -> 3476 | J39: =_xlfn.XLOOKUP(J$33,Skip!$B$8:$B$173,Skip!$AL$8:$AL$173,0,0,1) -> 5171 | K39: =_xlfn.XLOOKUP(K$33,Skip!$B$8:$B$173,Skip!$AL$8:$AL$173,0,0,1) -> 5695 | ... M39: =_xlfn.XLOOKUP(M$33,Skip!$B$8:$B$173,Skip!$AL$8:$AL$173,0,0,1) -> 5664 | O39: https://www.faxafloahafnir.is/utstreymisbokhald/
A40: Losun vegna skipa | B40: tCO2í | C40: =HLOOKUP(Skip!$AJ$8,Skip!$AF$8:$AL$73,MATCH(C$33,Skip!$B$8:$B$73,0),FALSE) -> #N/A | D40: {=_xlfn.XLOOKUP(D$33,Skip!$AG$166:'Skip'!$AG$177,Skip!$AJ$166:'Skip'!$AJ$177)} -> 30820 | E40: {=_xlfn.XLOOKUP(E$33,Skip!$AG$166:'Skip'!$AG$177,Skip!$AJ$166:'Skip'!$AJ$177)} -> 34710 | F40: {=_xlfn.XLOOKUP(F$33,Skip!$AG$166:'Skip'!$AG$177,Skip!$AJ$166:'Skip'!$AJ$177)} -> 40260 | G40: {=_xlfn.XLOOKUP(G$33,Skip!$AG$166:'Skip'!$AG$177,Skip!$AJ$166:'Skip'!$AJ$177)} -> 47600 | H40: {=_xlfn.XLOOKUP(H$33,Skip!$AG$166:'Skip'!$AG$177,Skip!$AJ$166:'Skip'!$AJ$177)} -> 35240 | I40: {=_xlfn.XLOOKUP(I$33,Skip!$AG$166:'Skip'!$AG$177,Skip!$AJ$166:'Skip'!$AJ$177)} -> 29930 | J40: {=_xlfn.XLOOKUP(J$33,Skip!$AG$166:'Skip'!$AG$177,Skip!$AJ$166:'Skip'!$AJ$177)} -> 44420 | K40: {=_xlfn.XLOOKUP(K$33,Skip!$AG$166:'Skip'!$AG$177,Skip!$AJ$166:'Skip'!$AJ$177)} -> 52390 | ... M40: {=_xlfn.XLOOKUP(M$33,Skip!$AG$166:'Skip'!$AG$177,Skip!$AJ$166:'Skip'!$AJ$177)} -> 48360
A41: Með Well to tank | B41: tCO2í | D41: {=_xlfn.XLOOKUP(D$33,Skip!$AG$166:'Skip'!$AG$177,Skip!$AH$166:'Skip'!$AH$177)} -> 37920 | E41: {=_xlfn.XLOOKUP(E$33,Skip!$AG$166:'Skip'!$AG$177,Skip!$AH$166:'Skip'!$AH$177)} -> 42600 | F41: {=_xlfn.XLOOKUP(F$33,Skip!$AG$166:'Skip'!$AG$177,Skip!$AH$166:'Skip'!$AH$177)} -> 49460 | G41: {=_xlfn.XLOOKUP(G$33,Skip!$AG$166:'Skip'!$AG$177,Skip!$AH$166:'Skip'!$AH$177)} -> 58440 | H41: {=_xlfn.XLOOKUP(H$33,Skip!$AG$166:'Skip'!$AG$177,Skip!$AH$166:'Skip'!$AH$177)} -> 43590 | I41: {=_xlfn.XLOOKUP(I$33,Skip!$AG$166:'Skip'!$AG$177,Skip!$AH$166:'Skip'!$AH$177)} -> 36810 | J41: {=_xlfn.XLOOKUP(J$33,Skip!$AG$166:'Skip'!$AG$177,Skip!$AH$166:'Skip'!$AH$177)} -> 54290 | K41: {=_xlfn.XLOOKUP(K$33,Skip!$AG$166:'Skip'!$AG$177,Skip!$AH$166:'Skip'!$AH$177)} -> 63990 | ... M41: {=_xlfn.XLOOKUP(M$33,Skip!$AG$166:'Skip'!$AG$177,Skip!$AH$166:'Skip'!$AH$177)} -> 59050 | O41: =K41-K40 -> 11600
A42: Fjöldi flughreyfinga | D42: =HLOOKUP(Flug!$AY$9,Flug!$AW$9:$BA$105,MATCH(D$33,Flug!$AX$9:$AX$105,0),FALSE) -> 63732 | E42: =HLOOKUP(Flug!$AY$9,Flug!$AW$9:$BA$105,MATCH(E$33,Flug!$AX$9:$AX$105,0),FALSE) -> 64656 | F42: =HLOOKUP(Flug!$AY$9,Flug!$AW$9:$BA$105,MATCH(F$33,Flug!$AX$9:$AX$105,0),FALSE) -> 64190 | G42: =HLOOKUP(Flug!$AY$9,Flug!$AW$9:$BA$105,MATCH(G$33,Flug!$AX$9:$AX$105,0),FALSE) -> 59689 | H42: =HLOOKUP(Flug!$AY$9,Flug!$AW$9:$BA$105,MATCH(H$33,Flug!$AX$9:$AX$105,0),FALSE) -> 40561 | I42: =HLOOKUP(Flug!$AY$9,Flug!$AW$9:$BA$105,MATCH(I$33,Flug!$AX$9:$AX$105,0),FALSE) -> 49012 | J42: =HLOOKUP(Flug!$AY$9,Flug!$AW$9:$BA$105,MATCH(J$33,Flug!$AX$9:$AX$105,0),FALSE) -> 42772 | K42: =Flug!AY98 -> 44569 | L42: =Flug!AY109 -> 41537 | M42: =Flug!AY120 -> 36062 | O42: https://www.isavia.is/fyrirtaekid/um-isavia/utgefid-efni/flugtolur/flugtolur
A43: Losun vegna flugumferðar | B43: tCO2í | D43: =HLOOKUP(Flug!$BA$9,Flug!$AW$9:$BA$105,MATCH(D$33,Flug!$AX$9:$AX$105,0),FALSE) -> 5400.716 | E43: =HLOOKUP(Flug!$BA$9,Flug!$AW$9:$BA$105,MATCH(E$33,Flug!$AX$9:$AX$105,0),FALSE) -> 4792.3454 | F43: =HLOOKUP(Flug!$BA$9,Flug!$AW$9:$BA$105,MATCH(F$33,Flug!$AX$9:$AX$105,0),FALSE) -> 7325.3867 | G43: =HLOOKUP(Flug!$BA$9,Flug!$AW$9:$BA$105,MATCH(G$33,Flug!$AX$9:$AX$105,0),FALSE) -> 6937.1983 | H43: =HLOOKUP(Flug!$BA$9,Flug!$AW$9:$BA$105,MATCH(H$33,Flug!$AX$9:$AX$105,0),FALSE) -> 4542.5583 | I43: =HLOOKUP(Flug!$BA$9,Flug!$AW$9:$BA$105,MATCH(I$33,Flug!$AX$9:$AX$105,0),FALSE) -> 6698.8814 | J43: =HLOOKUP(Flug!$BA$9,Flug!$AW$9:$BA$105,MATCH(J$33,Flug!$AX$9:$AX$105,0),FALSE) -> 5939.1766 | K43: =Flug!BA98 -> 6401.2505 | L43: =Flug!BA109 -> 6339.5654 | M43: =Flug!BA120 -> 4239.9557
A45: Úrgangur og fráveita | B45: Einingar | C45: 2015 | D45: 2016 | E45: 2017 | F45: 2018 | G45: 2019 | H45: 2020 | I45: 2021 | J45: 2022 | K45: 2023 | L45: 2024 | M45: 2025
A46: Magn urðað | B46: t | C46: =_xlfn.XLOOKUP(C$45,Úrgangur!$W$11:$W$45,Úrgangur!$X$11:$X$45,0,0,1)*1000 -> 111738.16 | D46: =_xlfn.XLOOKUP(D$45,Úrgangur!$W$11:$W$45,Úrgangur!$X$11:$X$45,0,0,1)*1000 -> 122551.5 | E46: =_xlfn.XLOOKUP(E$45,Úrgangur!$W$11:$W$45,Úrgangur!$X$11:$X$45,0,0,1)*1000 -> 141925.36 | F46: =_xlfn.XLOOKUP(F$45,Úrgangur!$W$11:$W$45,Úrgangur!$X$11:$X$45,0,0,1)*1000 -> 147361.95 | G46: =_xlfn.XLOOKUP(G$45,Úrgangur!$W$11:$W$45,Úrgangur!$X$11:$X$45,0,0,1)*1000 -> 130971.52 | H46: =_xlfn.XLOOKUP(H$45,Úrgangur!$W$11:$W$45,Úrgangur!$X$11:$X$45,0,0,1)*1000 -> 105254.99 | I46: =_xlfn.XLOOKUP(I$45,Úrgangur!$W$11:$W$45,Úrgangur!$X$11:$X$45,0,0,1)*1000 -> 96272.45 | J46: =_xlfn.XLOOKUP(J$45,Úrgangur!$W$11:$W$45,Úrgangur!$X$11:$X$45,0,0,1)*1000 -> 67470.67 | ... L46: =_xlfn.XLOOKUP(L$45,Úrgangur!$W$11:$W$45,Úrgangur!$X$11:$X$45,0,0,1)*1000 -> 15879.49 | M46: =_xlfn.XLOOKUP(M$45,Úrgangur!$W$11:$W$450,Úrgangur!$X$11:$X$450,0,0,1)*1000 -> 28946 | N46: =K46/F46 -> 0.48328587 | O46: https://sorpa.is/um-sorpu/utgefid-efni/arsskyrslur
A47: Magn urðað - RVK | B47: t | C47: =_xlfn.XLOOKUP(C$45,Úrgangur!$W$11:$W$45,Úrgangur!$AF$11:$AF$45,0,0,1) -> 64287.472 | D47: =_xlfn.XLOOKUP(D$45,Úrgangur!$W$11:$W$45,Úrgangur!$AF$11:$AF$45,0,0,1) -> 70068.874 | E47: =_xlfn.XLOOKUP(E$45,Úrgangur!$W$11:$W$45,Úrgangur!$AF$11:$AF$45,0,0,1) -> 80522.811 | F47: =_xlfn.XLOOKUP(F$45,Úrgangur!$W$11:$W$45,Úrgangur!$AF$11:$AF$45,0,0,1) -> 83312.512 | G47: =_xlfn.XLOOKUP(G$45,Úrgangur!$W$11:$W$45,Úrgangur!$AF$11:$AF$45,0,0,1) -> 73709.259 | H47: =_xlfn.XLOOKUP(H$45,Úrgangur!$W$11:$W$45,Úrgangur!$AF$11:$AF$45,0,0,1) -> 58954.366 | I47: =_xlfn.XLOOKUP(I$45,Úrgangur!$W$11:$W$45,Úrgangur!$AF$11:$AF$45,0,0,1) -> 53971.021 | J47: =_xlfn.XLOOKUP(J$45,Úrgangur!$W$11:$W$45,Úrgangur!$AF$11:$AF$45,0,0,1) -> 37808.395 | ... L47: =_xlfn.XLOOKUP(L$45,Úrgangur!$W$11:$W$45,Úrgangur!$AF$11:$AF$45,0,0,1) -> 8912.4051 | M47: =_xlfn.XLOOKUP(M$45,Úrgangur!$W$11:$W$450,Úrgangur!$AF$11:$AF$450,0,0,1) -> 16148.124 | N47: =L46/F46 -> 0.10775841
A48: Losun vegna urðunar | B48: tCO2í | C48: =_xlfn.XLOOKUP(C$45,Úrgangur!$W$11:$W$45,Úrgangur!$AE$11:$AE$45,0,0,1) -> 101618.2 | D48: =_xlfn.XLOOKUP(D$45,Úrgangur!$W$11:$W$45,Úrgangur!$AE$11:$AE$45,0,0,1) -> 103972.79 | E48: =_xlfn.XLOOKUP(E$45,Úrgangur!$W$11:$W$45,Úrgangur!$AE$11:$AE$45,0,0,1) -> 104850.04 | F48: =_xlfn.XLOOKUP(F$45,Úrgangur!$W$11:$W$45,Úrgangur!$AE$11:$AE$45,0,0,1) -> 104977.4 | G48: =_xlfn.XLOOKUP(G$45,Úrgangur!$W$11:$W$45,Úrgangur!$AE$11:$AE$45,0,0,1) -> 81313.908 | H48: =_xlfn.XLOOKUP(H$45,Úrgangur!$W$11:$W$45,Úrgangur!$AE$11:$AE$45,0,0,1) -> 108873.39 | I48: =_xlfn.XLOOKUP(I$45,Úrgangur!$W$11:$W$45,Úrgangur!$AE$11:$AE$45,0,0,1) -> 111546.63 | J48: =_xlfn.XLOOKUP(J$45,Úrgangur!$W$11:$W$45,Úrgangur!$AE$11:$AE$45,0,0,1) -> 117757.83 | ... L48: =_xlfn.XLOOKUP(L$45,Úrgangur!$W$11:$W$45,Úrgangur!$AE$11:$AE$45,0,0,1) -> 95186.311 | M48: =_xlfn.XLOOKUP(M$45,Úrgangur!$W$11:$W$450,Úrgangur!$AE$11:$AE$450,0,0,1) -> 85028.94 | O48: sorpagraentbokhald2020undirritad.pdf (dccweb.net)
A49: Urðun úrgangs Reykjavíkur | B49: tCO2í | C49: =_xlfn.XLOOKUP(C$45,Úrgangur!$W$11:$W$45,Úrgangur!$AG$11:$AG$45,0,0,1) -> 58465.052 | D49: =_xlfn.XLOOKUP(D$45,Úrgangur!$W$11:$W$45,Úrgangur!$AG$11:$AG$45,0,0,1) -> 59446.492 | E49: =_xlfn.XLOOKUP(E$45,Úrgangur!$W$11:$W$45,Úrgangur!$AG$11:$AG$45,0,0,1) -> 59487.747 | F49: =_xlfn.XLOOKUP(F$45,Úrgangur!$W$11:$W$45,Úrgangur!$AG$11:$AG$45,0,0,1) -> 59349.992 | G49: =_xlfn.XLOOKUP(G$45,Úrgangur!$W$11:$W$45,Úrgangur!$AG$11:$AG$45,0,0,1) -> 45762.528 | H49: =_xlfn.XLOOKUP(H$45,Úrgangur!$W$11:$W$45,Úrgangur!$AG$11:$AG$45,0,0,1) -> 60981.069 | I49: =_xlfn.XLOOKUP(I$45,Úrgangur!$W$11:$W$45,Úrgangur!$AG$11:$AG$45,0,0,1) -> 62533.833 | J49: =_xlfn.XLOOKUP(J$45,Úrgangur!$W$11:$W$45,Úrgangur!$AG$11:$AG$45,0,0,1) -> 65987.702 | ... L49: =_xlfn.XLOOKUP(L$45,Úrgangur!$W$11:$W$45,Úrgangur!$AG$11:$AG$45,0,0,1) -> 53423.565 | M49: =_xlfn.XLOOKUP(M$45,Úrgangur!$W$11:$W$450,Úrgangur!$AG$11:$AG$450,0,0,1) -> 47435.151 | U49: 111738.16 | V49: 122551.5 | W49: 141925.36 | X49: 147361.95 | Y49: 130971.52 | AA49: 105254.99 | AB49: 96272.45 | AC49: 67470.67 | AD49: 53841.21
A50: Magn jarðgert | B50: t | C50: =_xlfn.XLOOKUP(C$45,Úrgangur!$W$11:$W$45,Úrgangur!$AN$11:$AN$45,0,0,1) -> 0 | D50: =_xlfn.XLOOKUP(D$45,Úrgangur!$W$11:$W$45,Úrgangur!$AN$11:$AN$45,0,0,1) -> 0 | E50: =_xlfn.XLOOKUP(E$45,Úrgangur!$W$11:$W$45,Úrgangur!$AN$11:$AN$45,0,0,1) -> 0 | F50: =_xlfn.XLOOKUP(F$45,Úrgangur!$W$11:$W$45,Úrgangur!$AN$11:$AN$45,0,0,1) -> 0 | G50: =_xlfn.XLOOKUP(G$45,Úrgangur!$W$11:$W$45,Úrgangur!$AN$11:$AN$45,0,0,1) -> 0 | H50: =_xlfn.XLOOKUP(H$45,Úrgangur!$W$11:$W$45,Úrgangur!$AN$11:$AN$45,0,0,1) -> 2100 | I50: =_xlfn.XLOOKUP(I$45,Úrgangur!$W$11:$W$45,Úrgangur!$AN$11:$AN$45,0,0,1) -> 18000 | J50: =_xlfn.XLOOKUP(J$45,Úrgangur!$W$11:$W$45,Úrgangur!$AN$11:$AN$45,0,0,1) -> 26896 | ... L50: =_xlfn.XLOOKUP(L$45,Úrgangur!$W$11:$W$45,Úrgangur!$AN$11:$AN$45,0,0,1) -> 19204 | M50: =_xlfn.XLOOKUP(M$45,Úrgangur!$W$11:$W$450,Úrgangur!$AN$11:$AN$450,0,0,1) -> 19397 | N50: =L50*L8 -> 12206.651
A51: Losun vegna jarðgerðar | B51: tCO2í | C51: =_xlfn.XLOOKUP(C$45,Úrgangur!$W$11:$W$45,Úrgangur!$AQ$11:$AQ$45,0,0,1) -> 0 | D51: =_xlfn.XLOOKUP(D$45,Úrgangur!$W$11:$W$45,Úrgangur!$AQ$11:$AQ$45,0,0,1) -> 0 | E51: =_xlfn.XLOOKUP(E$45,Úrgangur!$W$11:$W$45,Úrgangur!$AQ$11:$AQ$45,0,0,1) -> 0 | F51: =_xlfn.XLOOKUP(F$45,Úrgangur!$W$11:$W$45,Úrgangur!$AQ$11:$AQ$45,0,0,1) -> 0 | G51: =_xlfn.XLOOKUP(G$45,Úrgangur!$W$11:$W$45,Úrgangur!$AQ$11:$AQ$45,0,0,1) -> 0 | H51: =_xlfn.XLOOKUP(H$45,Úrgangur!$W$11:$W$45,Úrgangur!$AQ$11:$AQ$45,0,0,1) -> 434.7 | I51: =_xlfn.XLOOKUP(I$45,Úrgangur!$W$11:$W$45,Úrgangur!$AQ$11:$AQ$45,0,0,1) -> 3726 | J51: =_xlfn.XLOOKUP(J$45,Úrgangur!$W$11:$W$45,Úrgangur!$AQ$11:$AQ$45,0,0,1) -> 5567.472 | ... L51: =_xlfn.XLOOKUP(L$45,Úrgangur!$W$11:$W$45,Úrgangur!$AQ$11:$AQ$45,0,0,1) -> 3975.228 | M51: =_xlfn.XLOOKUP(M$45,Úrgangur!$W$11:$W$450,Úrgangur!$AQ$11:$AQ$450,0,0,1) -> 4015.179
A52: Jarðgerð úrgangs Reykjavíkur | B52: tCO2í | C52: =_xlfn.XLOOKUP(C$45,Úrgangur!$W$11:$W$45,Úrgangur!$AR$11:$AR$45,0,0,1) -> 0 | D52: =_xlfn.XLOOKUP(D$45,Úrgangur!$W$11:$W$45,Úrgangur!$AR$11:$AR$45,0,0,1) -> 0 | E52: =_xlfn.XLOOKUP(E$45,Úrgangur!$W$11:$W$45,Úrgangur!$AR$11:$AR$45,0,0,1) -> 0 | F52: =_xlfn.XLOOKUP(F$45,Úrgangur!$W$11:$W$45,Úrgangur!$AR$11:$AR$45,0,0,1) -> 0 | G52: =_xlfn.XLOOKUP(G$45,Úrgangur!$W$11:$W$45,Úrgangur!$AR$11:$AR$45,0,0,1) -> 0 | H52: =_xlfn.XLOOKUP(H$45,Úrgangur!$W$11:$W$45,Úrgangur!$AR$11:$AR$45,0,0,1) -> 243.47979 | I52: =_xlfn.XLOOKUP(I$45,Úrgangur!$W$11:$W$45,Úrgangur!$AR$11:$AR$45,0,0,1) -> 2088.8221 | J52: =_xlfn.XLOOKUP(J$45,Úrgangur!$W$11:$W$45,Úrgangur!$AR$11:$AR$45,0,0,1) -> 3119.8324 | ... L52: =_xlfn.XLOOKUP(L$45,Úrgangur!$W$11:$W$45,Úrgangur!$AR$11:$AR$45,0,0,1) -> 2231.1071 | M52: =_xlfn.XLOOKUP(M$45,Úrgangur!$W$11:$W$450,Úrgangur!$AR$11:$AR$450,0,0,1) -> 2239.9506
A53: Magn sent út til brennslu | B53: t | C53: =_xlfn.XLOOKUP(C$45,Úrgangur!$W$11:$W$45,Úrgangur!$AY$11:$AY$45,0,0,1) -> 0 | D53: =_xlfn.XLOOKUP(D$45,Úrgangur!$W$11:$W$45,Úrgangur!$AY$11:$AY$45,0,0,1) -> 0 | E53: =_xlfn.XLOOKUP(E$45,Úrgangur!$W$11:$W$45,Úrgangur!$AY$11:$AY$45,0,0,1) -> 0 | F53: =_xlfn.XLOOKUP(F$45,Úrgangur!$W$11:$W$45,Úrgangur!$AY$11:$AY$45,0,0,1) -> 0 | G53: =_xlfn.XLOOKUP(G$45,Úrgangur!$W$11:$W$45,Úrgangur!$AY$11:$AY$45,0,0,1) -> 0 | H53: =_xlfn.XLOOKUP(H$45,Úrgangur!$W$11:$W$45,Úrgangur!$AY$11:$AY$45,0,0,1) -> 13340 | I53: =_xlfn.XLOOKUP(I$45,Úrgangur!$W$11:$W$45,Úrgangur!$AY$11:$AY$45,0,0,1) -> 12790 | J53: =_xlfn.XLOOKUP(J$45,Úrgangur!$W$11:$W$45,Úrgangur!$AY$11:$AY$45,0,0,1) -> 11680 | ... L53: =_xlfn.XLOOKUP(L$45,Úrgangur!$W$11:$W$45,Úrgangur!$AY$11:$AY$45,0,0,1) -> 80700 | M53: =_xlfn.XLOOKUP(M$45,Úrgangur!$W$11:$W$450,Úrgangur!$AY$11:$AY$450,0,0,1) -> 133523.21
A54: Losun vegna brennslu erlendis | B54: tCO2í | C54: =_xlfn.XLOOKUP(C$45,Úrgangur!$W$11:$W$45,Úrgangur!$BA$11:$BA$45,0,0,1) -> 0 | D54: =_xlfn.XLOOKUP(D$45,Úrgangur!$W$11:$W$45,Úrgangur!$BA$11:$BA$45,0,0,1) -> 0 | E54: =_xlfn.XLOOKUP(E$45,Úrgangur!$W$11:$W$45,Úrgangur!$BA$11:$BA$45,0,0,1) -> 0 | F54: =_xlfn.XLOOKUP(F$45,Úrgangur!$W$11:$W$45,Úrgangur!$BA$11:$BA$45,0,0,1) -> 0 | G54: =_xlfn.XLOOKUP(G$45,Úrgangur!$W$11:$W$45,Úrgangur!$BA$11:$BA$45,0,0,1) -> 0 | H54: =_xlfn.XLOOKUP(H$45,Úrgangur!$W$11:$W$45,Úrgangur!$BA$11:$BA$45,0,0,1) -> 9124.56 | I54: =_xlfn.XLOOKUP(I$45,Úrgangur!$W$11:$W$45,Úrgangur!$BA$11:$BA$45,0,0,1) -> 8748.36 | J54: =_xlfn.XLOOKUP(J$45,Úrgangur!$W$11:$W$45,Úrgangur!$BA$11:$BA$45,0,0,1) -> 7989.12 | ... L54: =_xlfn.XLOOKUP(L$45,Úrgangur!$W$11:$W$45,Úrgangur!$BA$11:$BA$45,0,0,1) -> 42448.2 | M54: =_xlfn.XLOOKUP(M$45,Úrgangur!$W$11:$W$4500,Úrgangur!$BA$11:$BA$4500,0,0,1) -> 70233.207
A55: Brennsla úrgangs Reykjavíkur | B55: tCO2í | C55: =_xlfn.XLOOKUP(C$45,Úrgangur!$W$11:$W$45,Úrgangur!$BC$11:$BC$45,0,0,1) -> 0 | D55: =_xlfn.XLOOKUP(D$45,Úrgangur!$W$11:$W$45,Úrgangur!$BC$11:$BC$45,0,0,1) -> 0 | E55: =_xlfn.XLOOKUP(E$45,Úrgangur!$W$11:$W$45,Úrgangur!$BC$11:$BC$45,0,0,1) -> 0 | F55: =_xlfn.XLOOKUP(F$45,Úrgangur!$W$11:$W$45,Úrgangur!$BC$11:$BC$45,0,0,1) -> 0 | G55: =_xlfn.XLOOKUP(G$45,Úrgangur!$W$11:$W$45,Úrgangur!$BC$11:$BC$45,0,0,1) -> 0 | H55: =_xlfn.XLOOKUP(H$45,Úrgangur!$W$11:$W$45,Úrgangur!$BC$11:$BC$45,0,0,1) -> 3261.4886 | I55: =_xlfn.XLOOKUP(I$45,Úrgangur!$W$11:$W$45,Úrgangur!$BC$11:$BC$45,0,0,1) -> 3140.1978 | J55: =_xlfn.XLOOKUP(J$45,Úrgangur!$W$11:$W$45,Úrgangur!$BC$11:$BC$45,0,0,1) -> 2860.0549 | ... L55: =_xlfn.XLOOKUP(L$45,Úrgangur!$W$11:$W$45,Úrgangur!$BC$11:$BC$45,0,0,1) -> 19768.822 | M55: =_xlfn.XLOOKUP(M$45,Úrgangur!$W$11:$W$450,Úrgangur!$BC$11:$BC$450,0,0,1) -> 23569.221
A56: Magn brennt | B56: t | C56: =_xlfn.XLOOKUP(C$45,Úrgangur!$W$11:$W$45,Úrgangur!$BE$11:$BE$45,0,0,1) -> 0 | D56: =_xlfn.XLOOKUP(D$45,Úrgangur!$W$11:$W$45,Úrgangur!$BE$11:$BE$45,0,0,1) -> 11019.04 | E56: =_xlfn.XLOOKUP(E$45,Úrgangur!$W$11:$W$45,Úrgangur!$BE$11:$BE$45,0,0,1) -> 11529.789 | F56: =_xlfn.XLOOKUP(F$45,Úrgangur!$W$11:$W$45,Úrgangur!$BE$11:$BE$45,0,0,1) -> 11479.101 | G56: =_xlfn.XLOOKUP(G$45,Úrgangur!$W$11:$W$45,Úrgangur!$BE$11:$BE$45,0,0,1) -> 10549.953 | H56: =_xlfn.XLOOKUP(H$45,Úrgangur!$W$11:$W$45,Úrgangur!$BE$11:$BE$45,0,0,1) -> 11023.463 | I56: =_xlfn.XLOOKUP(I$45,Úrgangur!$W$11:$W$45,Úrgangur!$BE$11:$BE$45,0,0,1) -> 12646.135 | J56: =_xlfn.XLOOKUP(J$45,Úrgangur!$W$11:$W$45,Úrgangur!$BE$11:$BE$45,0,0,1) -> 11780 | ... L56: =_xlfn.XLOOKUP(L$45,Úrgangur!$W$11:$W$45,Úrgangur!$BE$11:$BE$45,0,0,1) -> 12134.988 | M56: =_xlfn.XLOOKUP(M$45,Úrgangur!$W$11:$W$450,Úrgangur!$BE$11:$BE$450,0,0,1) -> 12993.41
A57: Þar af upprunið í Reykjavík | B57: t | C57: =_xlfn.XLOOKUP(C$45,Úrgangur!$W$11:$W$45,Úrgangur!$BF$11:$BF$45,0,0,1) -> 0 | D57: =_xlfn.XLOOKUP(D$45,Úrgangur!$W$11:$W$45,Úrgangur!$BF$11:$BF$45,0,0,1) -> 6300.1411 | E57: =_xlfn.XLOOKUP(E$45,Úrgangur!$W$11:$W$45,Úrgangur!$BF$11:$BF$45,0,0,1) -> 6541.5445 | F57: =_xlfn.XLOOKUP(F$45,Úrgangur!$W$11:$W$45,Úrgangur!$BF$11:$BF$45,0,0,1) -> 6489.8213 | G57: =_xlfn.XLOOKUP(G$45,Úrgangur!$W$11:$W$45,Úrgangur!$BF$11:$BF$45,0,0,1) -> 5937.3916 | H57: =_xlfn.XLOOKUP(H$45,Úrgangur!$W$11:$W$45,Úrgangur!$BF$11:$BF$45,0,0,1) -> 6174.3512 | I57: =_xlfn.XLOOKUP(I$45,Úrgangur!$W$11:$W$45,Úrgangur!$BF$11:$BF$45,0,0,1) -> 7089.5133 | J57: =_xlfn.XLOOKUP(J$45,Úrgangur!$W$11:$W$45,Úrgangur!$BF$11:$BF$45,0,0,1) -> 6601.1334 | ... L57: =_xlfn.XLOOKUP(L$45,Úrgangur!$W$11:$W$45,Úrgangur!$BF$11:$BF$45,0,0,1) -> 6810.7936 | M57: =_xlfn.XLOOKUP(M$45,Úrgangur!$W$11:$W$450,Úrgangur!$BF$11:$BF$450,0,0,1) -> 7248.6422
A58: Losun vegna brennslu | B58: tCO2í | D58: =HLOOKUP(""&D$45,tblBrennsla[#All],MATCH(Úrgangur!$BJ$31,tblBrennsla[[#All],[Tímabil]],0),FALSE) -> 4309.2965 | E58: =HLOOKUP(""&E$45,tblBrennsla[#All],MATCH(Úrgangur!$BJ$31,tblBrennsla[[#All],[Tímabil]],0),FALSE) -> 4474.4164 | F58: =HLOOKUP(""&F$45,tblBrennsla[#All],MATCH(Úrgangur!$BJ$31,tblBrennsla[[#All],[Tímabil]],0),FALSE) -> 4439.0378 | G58: =HLOOKUP(""&G$45,tblBrennsla[#All],MATCH(Úrgangur!$BJ$31,tblBrennsla[[#All],[Tímabil]],0),FALSE) -> 4061.1759 | H58: =HLOOKUP(""&H$45,tblBrennsla[#All],MATCH(Úrgangur!$BJ$31,tblBrennsla[[#All],[Tímabil]],0),FALSE) -> 4223.2562 | I58: =HLOOKUP(""&I$45,tblBrennsla[#All],MATCH(Úrgangur!$BJ$31,tblBrennsla[[#All],[Tímabil]],0),FALSE) -> 4849.2271 | J58: =HLOOKUP(""&J$45,tblBrennsla[#All],MATCH(Úrgangur!$BJ$31,tblBrennsla[[#All],[Tímabil]],0),FALSE) -> 4515.1753 | K58: =HLOOKUP(""&K$45,tblBrennsla[#All],MATCH(Úrgangur!$BJ$31,tblBrennsla[[#All],[Tímabil]],0),FALSE) -> 4427.4614 | L58: =_xlfn.XLOOKUP(L$45,Úrgangur!$W$11:$W$45,Úrgangur!$BH$11:$BH$45,0,0,1) -> 3582.4774 | M58: =_xlfn.XLOOKUP(M$45,Úrgangur!$W$11:$W$450,Úrgangur!$BH$11:$BH$450,0,0,1) -> 3812.7858
A59: Losun metans vegna dom fráveitu | B59: tCO2í | C59: =Fráveita!C26*0 -> 0 | D59: =Fráveita!D26*0 -> 0 | E59: =Fráveita!E26*0 -> 0 | F59: =Fráveita!F26*0 -> 0 | G59: =Fráveita!G26*0 -> 0 | H59: =Fráveita!H26*0 -> 0 | I59: =Fráveita!I26*0 -> 0 | J59: =Fráveita!J26*0 -> 0 | ... M59: =Fráveita!M26*0 -> 0 | O59: Metanlosun ekki tekin með
A60: Losun glaðlofts vegna dom fráveitu | B60: tCO2í | C60: =Fráveita!C36 -> 1798.2859 | D60: =Fráveita!D36 -> 1805.3702 | E60: =Fráveita!E36 -> 1824.2464 | F60: =Fráveita!F36 -> 1864.0274 | G60: =Fráveita!G36 -> 1897.6171 | H60: =Fráveita!H36 -> 1915.6154 | I60: =Fráveita!I36 -> 1946.8135 | J60: =Fráveita!J36 -> 1977.512 | ... M60: =Fráveita!M36 -> 2090.0556
A61: Losun metans vegna fiskverkunar | B61: tCO2í | C61: =Fráveita!C43 -> 1851.9774 | D61: =Fráveita!D43 -> 1719.354 | E61: =Fráveita!E43 -> 1544.3428 | F61: =Fráveita!F43 -> 1692.7092 | G61: =Fráveita!G43 -> 1335.516 | H61: =Fráveita!H43 -> 1638.9077 | I61: =Fráveita!I43 -> 1644.8987 | J61: =Fráveita!J43 -> 1565.5115 | ... M61: =Fráveita!M43 -> 1589.184
A62: Losun vegna fráveitu | B62: tCO2í | C62: =SUM(C59:C61) -> 3650.2633 | D62: =SUM(D59:D61) -> 3524.7242 | E62: =SUM(E59:E61) -> 3368.5892 | F62: =SUM(F59:F61) -> 3556.7366 | G62: =SUM(G59:G61) -> 3233.1331 | H62: =SUM(H59:H61) -> 3554.5231 | I62: =SUM(I59:I61) -> 3591.7122 | J62: =SUM(J59:J61) -> 3543.0235 | ... M62: =SUM(M59:M61) -> 3679.2396
A63: Samtals losun vegna úrgangs | B63: tCO2í | C63: =C62+C58+C52+C49 -> 62115.316 | D63: =D62+D58+D52+D49 -> 67280.513 | E63: =E62+E58+E52+E49 -> 67330.752 | F63: =F62+F58+F52+F49 -> 67345.766 | G63: =G62+G58+G52+G49 -> 53056.837 | H63: =H62+H58+H52+H49 -> 69002.329 | I63: =I62+I58+I52+I49 -> 73063.594 | J63: =J62+J58+J52+J49 -> 77165.734 | K63: =K62+K58+K52+K49+K55 -> 79277.357 | L63: =L62+L58+L52+L49+L55 -> 82645.835 | M63: =M62+M58+M52+M49+M55 -> 80736.348
A65: Landbúnaður og landnotkun | B65: Einingar | C65: 2015 | D65: 2016 | E65: 2017 | F65: 2018 | G65: 2019 | H65: 2020 | I65: 2021 | J65: 2022 | K65: 2023 | L65: 2024 | M65: 2025
A66: Losun vegna landnotkunar og skógræktar | B66: tCO2í | D66: =SUM(D67:D70) -> 31032.766 | E66: =SUM(E67:E70) -> 31032.766 | F66: =SUM(F67:F70) -> 31032.766 | G66: =SUM(G67:G70) -> 31032.766 | H66: =SUM(H67:H70) -> 31032.766 | I66: =SUM(I67:I70) -> 31032.766 | J66: =SUM(J67:J70) -> 31032.766 | K66: =SUM(K67:K70) -> 31032.766 | ... M66: =SUM(M67:M70) -> 31032.766 | O66: https://www.stjornarradid.is/verkefni/atvinnuvegir/landbunadur/maelabord-landbunadarins-/
A67: 4A - Skóglendi | B67: tCO2í | D67: ='Landbúnaður og landnotkun'!$BK$162 -> -14742.382 | E67: ='Landbúnaður og landnotkun'!$BK$162 -> -14742.382 | F67: ='Landbúnaður og landnotkun'!$BK$162 -> -14742.382 | G67: ='Landbúnaður og landnotkun'!$BK$162 -> -14742.382 | H67: ='Landbúnaður og landnotkun'!$BK$162 -> -14742.382 | I67: ='Landbúnaður og landnotkun'!$BK$162 -> -14742.382 | J67: ='Landbúnaður og landnotkun'!$BK$162 -> -14742.382 | K67: ='Landbúnaður og landnotkun'!$BK$162 -> -14742.382 | ... M67: ='Landbúnaður og landnotkun'!$BK$162 -> -14742.382
A68: 4B - Ræktað land | B68: tCO2í | D68: ='Landbúnaður og landnotkun'!$BK$160 -> 2599.6274 | E68: ='Landbúnaður og landnotkun'!$BK$160 -> 2599.6274 | F68: ='Landbúnaður og landnotkun'!$BK$160 -> 2599.6274 | G68: ='Landbúnaður og landnotkun'!$BK$160 -> 2599.6274 | H68: ='Landbúnaður og landnotkun'!$BK$160 -> 2599.6274 | I68: ='Landbúnaður og landnotkun'!$BK$160 -> 2599.6274 | J68: ='Landbúnaður og landnotkun'!$BK$160 -> 2599.6274 | K68: ='Landbúnaður og landnotkun'!$BK$160 -> 2599.6274 | ... M68: ='Landbúnaður og landnotkun'!$BK$160 -> 2599.6274
A69: 4C - Graslendi | B69: tCO2í | D69: ='Landbúnaður og landnotkun'!$BK$161 -> 43658.603 | E69: ='Landbúnaður og landnotkun'!$BK$161 -> 43658.603 | F69: ='Landbúnaður og landnotkun'!$BK$161 -> 43658.603 | G69: ='Landbúnaður og landnotkun'!$BK$161 -> 43658.603 | H69: ='Landbúnaður og landnotkun'!$BK$161 -> 43658.603 | I69: ='Landbúnaður og landnotkun'!$BK$161 -> 43658.603 | J69: ='Landbúnaður og landnotkun'!$BK$161 -> 43658.603 | K69: ='Landbúnaður og landnotkun'!$BK$161 -> 43658.603 | ... M69: ='Landbúnaður og landnotkun'!$BK$161 -> 43658.603
A70: 4C2/4D Landgræðsla og votlendi | B70: tCO2í | D70: =SUM('Landbúnaður og landnotkun'!$BK$151:$BK$153) -> -483.08278 | E70: =SUM('Landbúnaður og landnotkun'!$BK$151:$BK$153) -> -483.08278 | F70: =SUM('Landbúnaður og landnotkun'!$BK$151:$BK$153) -> -483.08278 | G70: =SUM('Landbúnaður og landnotkun'!$BK$151:$BK$153) -> -483.08278 | H70: =SUM('Landbúnaður og landnotkun'!$BK$151:$BK$153) -> -483.08278 | I70: =SUM('Landbúnaður og landnotkun'!$BK$151:$BK$153) -> -483.08278 | J70: =SUM('Landbúnaður og landnotkun'!$BK$151:$BK$153) -> -483.08278 | K70: =SUM('Landbúnaður og landnotkun'!$BK$151:$BK$153) -> -483.08278 | ... M70: =SUM('Landbúnaður og landnotkun'!$BK$151:$BK$153) -> -483.08278
A71: Losun vegna búfjárræktunar | B71: tCO2í | D71: =INDEX('Landbúnaður og landnotkun'!$B$8:$G$93,MATCH(D65,'Landbúnaður og landnotkun'!$B$8:$B$93,0),MATCH("Losun",'Landbúnaður og landnotkun'!$B$8:$G$8,0)) -> 1829.6519 | E71: =INDEX('Landbúnaður og landnotkun'!$B$8:$G$93,MATCH(E65,'Landbúnaður og landnotkun'!$B$8:$B$93,0),MATCH("Losun",'Landbúnaður og landnotkun'!$B$8:$G$8,0)) -> 2245.4399 | F71: =INDEX('Landbúnaður og landnotkun'!$B$8:$G$93,MATCH(F65,'Landbúnaður og landnotkun'!$B$8:$B$93,0),MATCH("Losun",'Landbúnaður og landnotkun'!$B$8:$G$8,0)) -> 1691.6245 | G71: =INDEX('Landbúnaður og landnotkun'!$B$8:$G$93,MATCH(G65,'Landbúnaður og landnotkun'!$B$8:$B$93,0),MATCH("Losun",'Landbúnaður og landnotkun'!$B$8:$G$8,0)) -> 1710.0062 | H71: =INDEX('Landbúnaður og landnotkun'!$B$8:$G$93,MATCH(H65,'Landbúnaður og landnotkun'!$B$8:$B$93,0),MATCH("Losun",'Landbúnaður og landnotkun'!$B$8:$G$8,0)) -> 2652.4245 | I71: =INDEX('Landbúnaður og landnotkun'!$B$8:$G$930,MATCH(I65,'Landbúnaður og landnotkun'!$B$8:$B$930,0),MATCH("Losun",'Landbúnaður og landnotkun'!$B$8:$G$8,0)) -> 2654.0703 | J71: =INDEX('Landbúnaður og landnotkun'!$B$8:$G$930,MATCH(J65,'Landbúnaður og landnotkun'!$B$8:$B$930,0),MATCH("Losun",'Landbúnaður og landnotkun'!$B$8:$G$8,0)) -> 2565.312 | K71: =INDEX('Landbúnaður og landnotkun'!$B$8:$G$930,MATCH(K65,'Landbúnaður og landnotkun'!$B$8:$B$930,0),MATCH("Losun",'Landbúnaður og landnotkun'!$B$8:$G$8,0)) -> 2225.739 | L71: =INDEX('Landbúnaður og landnotkun'!$B$8:$G$930,MATCH(L65,'Landbúnaður og landnotkun'!$B$8:$B$930,0),MATCH("Losun",'Landbúnaður og landnotkun'!$B$8:$G$8,0)) -> 2248.1211 | M71: =INDEX('Landbúnaður og landnotkun'!$B$8:$G$930,MATCH(M65,'Landbúnaður og landnotkun'!$B$8:$B$930,0),MATCH("Losun",'Landbúnaður og landnotkun'!$B$8:$G$8,0)) -> 2199.0447
A72: Þar af vegna sauðfés | B72: tCO2í | D72: ='Landbúnaður og landnotkun'!G13 -> 133.76218 | E72: ='Landbúnaður og landnotkun'!G30 -> 138.4012 | F72: ='Landbúnaður og landnotkun'!G47 -> 106.19714 | G72: ='Landbúnaður og landnotkun'!G64 -> 63.482771 | H72: ='Landbúnaður og landnotkun'!G81 -> 104.86226 | I72: ='Landbúnaður og landnotkun'!G98 -> 104.86226 | J72: ='Landbúnaður og landnotkun'!G115 -> 106.26886 | K72: ='Landbúnaður og landnotkun'!G132 -> 45.929693 | L72: ='Landbúnaður og landnotkun'!G149 -> 60.339665 | M72: ='Landbúnaður og landnotkun'!G166 -> 37.747699
A73: Þar af vegna nautgripa | B73: tCO2í | D73: ='Landbúnaður og landnotkun'!G17 -> 272.8222 | E73: ='Landbúnaður og landnotkun'!G34 -> 261.98564 | F73: ='Landbúnaður og landnotkun'!G51 -> 285.13554 | G73: ='Landbúnaður og landnotkun'!G68 -> 288.01217 | H73: ='Landbúnaður og landnotkun'!G85 -> 281.89345 | I73: ='Landbúnaður og landnotkun'!G102 -> 281.89345 | J73: ='Landbúnaður og landnotkun'!G119 -> 286.20144 | K73: ='Landbúnaður og landnotkun'!G136 -> 194.17072 | L73: ='Landbúnaður og landnotkun'!G153 -> 220.637 | M73: ='Landbúnaður og landnotkun'!G170 -> 220.637
A74: Þar af vegna svína | B74: tCO2í | D74: ='Landbúnaður og landnotkun'!G21 -> 641.31773 | E74: ='Landbúnaður og landnotkun'!G38 -> 1039.9697 | F74: ='Landbúnaður og landnotkun'!G55 -> 576.69458 | G74: ='Landbúnaður og landnotkun'!G72 -> 678.98959 | H74: ='Landbúnaður og landnotkun'!H89 -> 1595.7746 | I74: ='Landbúnaður og landnotkun'!H106 -> 1595.7746 | J74: ='Landbúnaður og landnotkun'!G123 -> 1603.6047 | K74: ='Landbúnaður og landnotkun'!G140 -> 1389.754 | L74: ='Landbúnaður og landnotkun'!G157 -> 1389.754 | M74: ='Landbúnaður og landnotkun'!G174 -> 1430.6926
A75: Þar af vegna hrossa | B75: tCO2í | D75: ='Landbúnaður og landnotkun'!G22 -> 390.35349 | E75: ='Landbúnaður og landnotkun'!G39 -> 383.10407 | F75: ='Landbúnaður og landnotkun'!G56 -> 263.76743 | G75: ='Landbúnaður og landnotkun'!G73 -> 230.86621 | H75: ='Landbúnaður og landnotkun'!G90 -> 258.7486 | I75: ='Landbúnaður og landnotkun'!G107 -> 258.7486 | J75: ='Landbúnaður og landnotkun'!G124 -> 174.54377 | K75: ='Landbúnaður og landnotkun'!G141 -> 152.23786 | L75: ='Landbúnaður og landnotkun'!G158 -> 99.818963 | M75: ='Landbúnaður og landnotkun'!G175 -> 46.284771
A76: Þar af vegna geita | B76: tCO2í | D76: ='Landbúnaður og landnotkun'!G23 -> 5.4859286 | E76: ='Landbúnaður og landnotkun'!G40 -> 5.4859286 | F76: ='Landbúnaður og landnotkun'!G57 -> 6.5831144 | G76: ='Landbúnaður og landnotkun'!G74 -> 1.4629143 | H76: ='Landbúnaður og landnotkun'!G91 -> 6.5831144 | I76: ='Landbúnaður og landnotkun'!G108 -> 8.2288929 | J76: ='Landbúnaður og landnotkun'!G125 -> 8.9603501 | K76: ='Landbúnaður og landnotkun'!G142 -> 8.9603501 | L76: ='Landbúnaður og landnotkun'!G159 -> 6.2173858 | M76: ='Landbúnaður og landnotkun'!G176 -> 4.5716072
A77: Þar af vegna hænsna | B77: tCO2í | D77: ='Landbúnaður og landnotkun'!G24 -> 385.9104 | E77: ='Landbúnaður og landnotkun'!G41 -> 416.49332 | F77: ='Landbúnaður og landnotkun'!G58 -> 453.24669 | G77: ='Landbúnaður og landnotkun'!G75 -> 447.19255 | H77: ='Landbúnaður og landnotkun'!G92 -> 404.56256 | I77: ='Landbúnaður og landnotkun'!G109 -> 404.56256 | J77: ='Landbúnaður og landnotkun'!G126 -> 385.73288 | K77: ='Landbúnaður og landnotkun'!G143 -> 434.68636 | L77: ='Landbúnaður og landnotkun'!G160 -> 471.35404 | M77: ='Landbúnaður og landnotkun'!G177 -> 459.11107
D78: =SUM(D72:D77) -> 1829.6519 | E78: =SUM(E72:E77) -> 2245.4399 | F78: =SUM(F72:F77) -> 1691.6245 | G78: =SUM(G72:G77) -> 1710.0062 | H78: =SUM(H72:H77) -> 2652.4245 | I78: =SUM(I72:I77) -> 2654.0703 | J78: =SUM(J72:J77) -> 2565.312 | K78: =SUM(K72:K77) -> 2225.739 | ... M78: =SUM(M72:M77) -> 2199.0447
A80: Efnanotkun | B80: Einingar | C80: 2015 | D80: 2016 | E80: 2017 | F80: 2018 | G80: 2019 | H80: 2020 | I80: 2021 | J80: 2022 | K80: 2023 | L80: 2024 | M80: 2025 | AP80: .
A81: Efni í stað ósóneyðandi efna | B81: tCO2Í | C81: =C87+C89 -> 25426.711 | D81: =D87+D89 -> 29441.234 | E81: =E87+E89 -> 31840.144 | F81: =F87+F89 -> 33904.032 | G81: =G87+G89 -> 38681.062 | H81: =H87+H89 -> 41118.8 | I81: =I87+I89 -> 34758.635 | J81: =J87+J89 -> 29861.725 | ... M81: =M87+M89 -> 27325.858
A82: Heildar losun frá notkun kælimiðla | B82: tCO2Í | C82: 179661.6 | D82: 203881.36 | E82: 188905.07 | F82: 190357.39 | G82: 201720.61 | H82: 196827.24 | I82: =61891+45820+32610+15320+930+820+10 -> 157401 | J82: 133000 | K82: 123519 | L82: 106750 | M82: =AVERAGE(I82:L82) -> 130167.5 | T82: Year | U82: 2F1a Commercial | V82: 2F1b Domestic | W82: 2F1c Industrial | X82: 2F1d Transport | Y82: 2F1e Mobile AC | Z82: 2F1f Stationary AC | AA82: Year | AB82: Total tCO₂e | AC82: 2F1a | AD82: 2F1b | AE82: 2F1c | AF82: 2F1d | AG82: 2F1e | AI82: 2F1a | AJ82: 2F1b | AK82: 2F1c | AL82: 2F1d | AM82: 2F1e
A83: Hlutfall fiskiskipa | B83: - | C83: 0.5 | D83: 0.5 | E83: 0.65 | F83: 0.47 | G83: 0.5 | H83: 0.5 | I83: =(45820)/I82 -> 0.29110361 | J83: 0.3 | K83: 0.3 | L83: 0.3 | M83: =AVERAGE(I83:L83) -> 0.2977759 | T83: 2015 | U83: 0.11 | V83: 0.01 | W83: 0.18 | X83: 0.62 | Y83: 0.08 | Z83: 0 | AA83: 2015 | AB83: 179662 | AC83: 19763 | AD83: 1797 | AE83: 32339 | AF83: 111390 | AG83: 14373 | AH83: 0.36776834 | AI83: =AC83*$AH83 -> 7268.2057 | AJ83: =AD83*$AH83 -> 660.87971 | AK83: =AE83*$AH83 -> 11893.26 | AL83: =AF83*$AH83 -> 40965.715 | AM83: =AG83*$AH83 -> 5285.9343 | AO83: =AM83+SUM(AI83:AK83) -> 25108.28
A84: Losun fiskiskipa | B84: tCO2Í | C84: =C83*C82 -> 89830.798 | D84: =D83*D82 -> 101940.68 | E84: =E83*E82 -> 122788.29 | F84: =F83*F82 -> 89467.973 | G84: =G83*G82 -> 100860.3 | H84: =H83*H82 -> 98413.621 | I84: =I83*I82 -> 45820 | J84: =J83*J82 -> 39900 | ... M84: =M83*M82 -> 38760.745 | T84: 2016 | U84: 0.14 | V84: 0.01 | W84: 0.17 | X84: 0.61 | Y84: 0.07 | Z84: 0 | AA84: 2016 | AB84: 203881 | AC84: 28543 | AD84: 2039 | AE84: 34660 | AF84: 124368 | AG84: 14272 | AH84: 0.36580623 | AI84: =AC84*$AH84 -> 10441.207 | AJ84: =AD84*$AH84 -> 745.8789 | AK84: =AE84*$AH84 -> 12678.844 | AL84: =AF84*$AH84 -> 45494.589 | AM84: =AG84*$AH84 -> 5220.7865 | AO84: =AM84+SUM(AI84:AK84) -> 29086.717
A85: Hlutfall 2Fd - Transport | B85: tCO2Í | C85: 0.61999755 | D85: 0.61000289 | E85: 0.54000159 | F85: 0.50999963 | G85: 0.47000064 | H85: 0.42000335 | I85: 0.38999752 | J85: 0.38 | K85: 0.42999862 | L85: 0.47000468 | M85: =AVERAGE(H85:L85) -> 0.41800084 | T85: 2017 | U85: 0.18 | V85: 0.01 | W85: 0.17 | X85: 0.54 | Y85: 0.1 | Z85: 0 | AA85: 2017 | AB85: 188905 | AC85: 34003 | AD85: 1889 | AE85: 32114 | AF85: 102009 | AG85: 18891 | AH85: 0.36243748 | AI85: =AC85*$AH85 -> 12323.962 | AJ85: =AD85*$AH85 -> 684.6444 | AK85: =AE85*$AH85 -> 11639.317 | AL85: =AF85*$AH85 -> 36971.885 | AM85: =AG85*$AH85 -> 6846.8065 | AO85: =AM85+SUM(AI85:AK85) -> 31494.73
A86: Önnur losun | B86: tCO2Í | C86: =C82-C85*C82 -> 68271.846 | D86: =D82-D85*D82 -> 79513.141 | E86: =E82-E85*E82 -> 86896.03 | F86: =F82-F85*F82 -> 93275.19 | G86: =G82-G85*G82 -> 106911.79 | H86: =H82-H85*H82 -> 114159.14 | I86: =I82-I85*I82 -> 96015 | J86: =J82-J85*J82 -> 82460 | ... M86: =M82-M85*M82 -> 75757.376 | T86: 2018 | U86: 0.18 | V86: 0.01 | W86: 0.21 | X86: 0.51 | Y86: 0.09 | Z86: 0 | AA86: 2018 | AB86: 190357 | AC86: 34264 | AD86: 1904 | AE86: 39975 | AF86: 97082 | AG86: 17132 | AH86: 0.35986884 | AI86: =AC86*$AH86 -> 12330.546 | AJ86: =AD86*$AH86 -> 685.19028 | AK86: =AE86*$AH86 -> 14385.757 | AL86: =AF86*$AH86 -> 34936.787 | AM86: =AG86*$AH86 -> 6165.273 | AO86: =AM86+SUM(AI86:AK86) -> 33566.766
A87: Losun vegna kælimiðla innan RVK | B87: tCO2Í | C87: =C86*C9 -> 25108.224 | D87: =D86*D9 -> 29086.402 | E87: =E86*E9 -> 31494.379 | F87: =F86*F9 -> 33566.835 | G87: =G86*G9 -> 38351.042 | H87: =H86*H9 -> 40805.116 | I87: =I86*I9 -> 34464.298 | J87: =J86*J9 -> 29520.163 | ... M87: =M86*M9 -> 26994.902 | T87: 2019 | U87: 0.17 | V87: 0.01 | W87: 0.24 | X87: 0.47 | Y87: 0.11 | Z87: 0 | AA87: 2019 | AB87: 201721 | AC87: 34292 | AD87: 2017 | AE87: 48413 | AF87: 94809 | AG87: 22189 | AH87: 0.35871668 | AI87: =AC87*$AH87 -> 12301.112 | AJ87: =AD87*$AH87 -> 723.53154 | AK87: =AE87*$AH87 -> 17366.551 | AL87: =AF87*$AH87 -> 34009.57 | AM87: =AG87*$AH87 -> 7959.5644 | AO87: =AM87+SUM(AI87:AK87) -> 38350.759
A88: Aerosols í heildina | B88: ktCO2í | C88: 0.866 | D88: 0.97 | E88: 0.954 | F88: 0.937 | G88: 0.92 | H88: 0.87758304 | I88: 0.82 | J88: 0.9541 | K88: 1.02 | L88: 0.97222164 | M88: =AVERAGE(H88:L88) -> 0.92878094 | T88: 2020 | U88: 0.2 | V88: 0.01 | W88: 0.25 | X88: 0.42 | Y88: 0.12 | Z88: 0 | AA88: 2020 | AB88: 196827 | AC88: 39365 | AD88: 1968 | AE88: 49207 | AF88: 82668 | AG88: 23619 | AH88: 0.35744064 | AI88: =AC88*$AH88 -> 14070.651 | AJ88: =AD88*$AH88 -> 703.44318 | AK88: =AE88*$AH88 -> 17588.582 | AL88: =AF88*$AH88 -> 29548.903 | AM88: =AG88*$AH88 -> 8442.3905 | AO88: =AM88+SUM(AI88:AK88) -> 40805.066
A89: Losun vegna Aerosols | B89: tCO2Í | C89: =C88*C$9*1000 -> 318.48738 | D89: =D88*D$9*1000 -> 354.83204 | E89: =E88*E$9*1000 -> 345.76536 | F89: =F88*F$9*1000 -> 337.19711 | G89: =G88*G$9*1000 -> 330.01934 | H89: =H88*H$9*1000 -> 313.68385 | I89: =I88*I$9*1000 -> 294.33656 | J89: =J88*J$9*1000 -> 341.56182 | ... M89: =M88*M$9*1000 -> 330.9559 | T89: 2021 | U89: 0.2 | V89: 0.01 | W89: 0.28 | X89: 0.39 | Y89: 0.12 | Z89: 0 | AA89: 2021 | AB89: 157401 | AC89: 31480 | AD89: 1574 | AE89: 44072 | AF89: 61386 | AG89: 18888 | AH89: 0.35894702 | AI89: =AC89*$AH89 -> 11299.652 | AJ89: =AD89*$AH89 -> 564.98261 | AK89: =AE89*$AH89 -> 15819.513 | AL89: =AF89*$AH89 -> 22034.322 | AM89: =AG89*$AH89 -> 6779.7913 | AO89: =AM89+SUM(AI89:AK89) -> 34463.939
A90: Glaðloft og gufa frá landspítala | B90: tCO2Í | C90: =C91+C92 -> 1891 | D90: =D91+D92 -> 1906 | E90: =E91+E92 -> 1973 | F90: =F91+F92 -> 2112 | G90: =G91+G92 -> 1149 | H90: =H91+H92 -> 1184 | I90: =I91+I92 -> 431 | J90: =J91+J92 -> 631 | ... M90: =M91+M92 -> 528.63 | O90: https://assets.ctfassets.net/8k0h54kbe6bj/6jVPhZQHd6dIJQ8utu5ZL8/edaf3fba9c92d39cc3cc290ce25da6f7/d9eaa75d-4ac7-47ea-a9a0-adf0706cdaff.pdf | T90: 2022 | U90: 0.2 | V90: 0.01 | W90: 0.3 | X90: 0.38 | Y90: 0.11 | Z90: 0 | AA90: 2022 | AB90: 133000 | AC90: 26600 | AD90: 1330 | AE90: 39900 | AF90: 50540 | AG90: 14630 | AH90: 0.35799374 | AI90: =AC90*$AH90 -> 9522.6334 | AJ90: =AD90*$AH90 -> 476.13167 | AK90: =AE90*$AH90 -> 14283.95 | AL90: =AF90*$AH90 -> 18093.003 | AM90: =AG90*$AH90 -> 5237.4484 | AO90: =AM90+SUM(AI90:AK90) -> 29520.163
A91: Losun vegna glaðlofts spítala | B91: tCO2Í | C91: 1598 | D91: 1520 | E91: 1630 | F91: 1816 | G91: 981 | H91: 1000 | I91: 409 | J91: 533 | K91: 50 | L91: 358 | M91: 307 | T91: 2023 | U91: 0.21 | V91: 0.01 | W91: 0.31 | X91: 0.43 | Y91: 0.04 | Z91: 0 | AA91: 2023 | AB91: 123519 | AC91: 25939 | AD91: 1235 | AE91: 38291 | AF91: 53113 | AG91: 4941 | AH91: 0.35791993 | AI91: =AC91*$AH91 -> 9284.085 | AJ91: =AD91*$AH91 -> 442.03111 | AK91: =AE91*$AH91 -> 13705.112 | AL91: =AF91*$AH91 -> 19010.201 | AM91: =AG91*$AH91 -> 1768.4824 | AO91: =AM91+SUM(AI91:AK91) -> 25199.711
A92: Gufuframleiðsla spítala | B92: tCO2Í | C92: =258+35 -> 293 | D92: =298+88 -> 386 | E92: =283+60 -> 343 | F92: =233+63 -> 296 | G92: =141+27 -> 168 | H92: =175+9 -> 184 | I92: =14+8 -> 22 | J92: =16+82 -> 98 | K92: 100 | L92: 54.54 | M92: 221.63 | T92: 2024 | U92: 0.11 | V92: 0.01 | W92: 0.33 | X92: 0.47 | Y92: 0.08 | Z92: 0 | AA92: 2024 | AB92: 106750 | AC92: 11743 | AD92: 1068 | AE92: 35228 | AF92: 50173 | AG92: 8540 | AH92: 0.35674935 | AI92: =AC92*$AH92 -> 4189.3076 | AJ92: =AD92*$AH92 -> 381.0083 | AK92: =AE92*$AH92 -> 12567.566 | AL92: =AF92*$AH92 -> 17899.185 | AM92: =AG92*$AH92 -> 3046.6394 | AO92: =AM92+SUM(AI92:AK92) -> 20184.521
A93: Leysiefni og eldsneytistengt (CFR 2D) | B93: tCO2Í | C93: =C97+C99+C101+C103 -> 3689.6361 | D93: =D97+D99+D101+D103 -> 3763.5515 | E93: =E97+E99+E101+E103 -> 3811.4648 | F93: =F97+F99+F101+F103 -> 4188.8322 | G93: =G97+G99+G101+G103 -> 4025.3281 | H93: =H97+H99+H101+H103 -> 3842.9834 | I93: =I97+I99+I101+I103 -> 3979.3309 | J93: =J97+J99+J101+J103 -> 4011.4258 | ... M93: =M97+M99+M101+M103 -> 4090.3487 | T93: 2025 | U93: =AVERAGE(U88:U92) -> 0.184 | X93: =AVERAGE(X89:X92) -> 0.4175 | AB93: =AVERAGE(AB89:AB92) -> 130167.5 | AC93: =AVERAGE(AC89:AC92) -> 23940.5 | AD93: =AVERAGE(AD89:AD92) -> 1301.75 | AE93: =AVERAGE(AE89:AE92) -> 39372.75 | AF93: =AVERAGE(AF89:AF92) -> 53803 | AG93: =AVERAGE(AG89:AG92) -> 11749.75 | AH93: 0.35633364 | AI93: =AC93*$AH93 -> 8530.8056 | AJ93: =AD93*$AH93 -> 463.85732 | AK93: =AE93*$AH93 -> 14029.836 | AL93: =AF93*$AH93 -> 19171.819 | AM93: =AG93*$AH93 -> 4186.8312 | AO93: =AM93+SUM(AI93:AK93) -> 27211.33
A94: LPG almenningur | B94: t | C94: =0.93*1000*C$9 -> 342.02456 | D94: =0.96*1000*D$9 -> 351.17398 | E94: =1.38*1000*E$9 -> 500.16373 | F94: =1.58*1000*F$9 -> 568.59277 | G94: =1.14*1000*G$9 -> 408.93701 | H94: =1.1*1000*H$9 -> 393.18471 | I94: =1.06*1000*I$9 -> 380.48384 | J94: =1*1000*J$9 -> 357.99374 | K94: =0.97*1000*K$9 -> 347.18233 | L94: =1.01*1000*L$9 -> 360.31684 | M94: =AVERAGE(G94:L94) -> 374.68308 | O94: NIR | AB94: =AB93*(1-X93) -> 75822.569 | AF94: =AB93-AF93 -> 76364.5
A95: LPG commercial, institutional | B95: t | C95: =0.371*1000*C$9 -> 136.44205 | D95: =0.4*1000*D$9 -> 146.32249 | E95: =0.12*1000*E$9 -> 43.492498 | F95: =0.081*1000*F$9 -> 29.149376 | G95: =0.59*1000*G$9 -> 211.64284 | H95: =0.411*1000*H$9 -> 146.9081 | I95: =0.458*1000*I$9 -> 164.39774 | J95: =0.575*1000*J$9 -> 205.8464 | K95: =0.635*1000*K$9 -> 227.27916 | L95: =0.627*1000*L$9 -> 223.68184 | M95: =AVERAGE(G95:L95) -> 196.62601 | AF95: =AB94*AH93 -> 27018.132 | AM95: =M87-AM93 -> 22808.071
A96: LPG notkun samtals | B96: TJ | C96: =(C94+C95)*47.3/1000 -> 22.631471 | D96: =(D94+D95)*47.3/1000 -> 23.531583 | E96: =(E94+E95)*47.3/1000 -> 25.714939 | F96: =(F94+F95)*47.3/1000 -> 28.273204 | G96: =(G94+G95)*47.3/1000 -> 29.353427 | H96: =(H94+H95)*47.3/1000 -> 25.54639 | I96: =(I94+I95)*47.3/1000 -> 25.772899 | J96: =(J94+J95)*47.3/1000 -> 26.669638 | ... M96: =(M94+M95)*47.3/1000 -> 27.02292 | AC96: 0.61999755 | AD96: =AF83/AB83 -> 0.61999755
A97: Losun vegna notkunar kósangasa | B97: tCO2Í | C97: =C96*(63100+5*28+0.1*265)/1000 -> 1431.8139 | D97: =D96*(63100+5*28+0.1*265)/1000 -> 1488.7609 | E97: =E96*(63100+5*28+0.1*265)/1000 -> 1626.8942 | F97: =F96*(63100+5*28+0.1*265)/1000 -> 1788.7466 | G97: =G96*(63100+5*28+0.1*265)/1000 -> 1857.0886 | H97: =H96*(63100+5*28+0.1*265)/1000 -> 1616.2307 | I97: =I96*(63100+5*28+0.1*265)/1000 -> 1630.5611 | J97: =J96*(63100+5*28+0.1*265)/1000 -> 1687.2947 | K97: =K96*(63100+5*29.6+0.1*273)/1000 -> 1719.3182 | L97: =L96*(63100+5*29.6+0.1*273)/1000 -> 1747.8623 | M97: =M96*(63100+5*29.6+0.1*273)/1000 -> 1709.8834 | AC97: 0.61000289 | AD97: =AF84/AB84 -> 0.61000289
A98: Sumolía í heildina | B98: ktCO2í | C98: 2.5370111 | D98: 2.3699898 | E98: 2.0833186 | F98: 2.4789868 | G98: 2.0695284 | H98: 2.11 | I98: 2.0921 | J98: 2.2221 | K98: 2.04 | L98: 2.014608 | M98: =AVERAGE(H98:L98) -> 2.0957616 | AC98: 0.54000159 | AD98: =AF85/AB85 -> 0.54000159
A99: Losun vegna smurolíu | B99: tCO2Í | C99: =C98*C$9*1000 -> 933.03235 | D99: =D98*D$9*1000 -> 866.95702 | E99: =E98*E$9*1000 -> 755.07274 | F99: =F98*F$9*1000 -> 892.1101 | G99: =G98*G$9*1000 -> 742.37436 | H99: =H98*H$9*1000 -> 754.19976 | I99: =I98*I$9*1000 -> 750.95306 | J99: =J98*J$9*1000 -> 795.49788 | ... M99: =M98*M$9*1000 -> 746.79037 | AC99: 0.50999963 | AD99: =AF86/AB86 -> 0.50999963
A100: Paraffin í heildina | B100: ktCO2í | C100: 0.34289574 | D100: 0.34325812 | E100: 0.34718623 | F100: 0.32726601 | G100: 0.28593197 | H100: 0.33971317 | I100: 0.3389 | J100: 0.32 | K100: 0.28 | L100: 0.29412 | M100: =AVERAGE(H100:L100) -> 0.31454663 | AC100: 0.47000064 | AD100: =AF87/AB87 -> 0.47000064
A101: Losun vegna Paraffin vax | B101: tCO2Í | C101: =C100*C$9*1000 -> 126.1062 | D101: =D100*D$9*1000 -> 125.56596 | E101: =E100*E$9*1000 -> 125.8333 | F101: =F100*F$9*1000 -> 117.77284 | G101: =G100*G$9*1000 -> 102.56857 | H101: =H100*H$9*1000 -> 121.42729 | I101: =I100*I$9*1000 -> 121.64715 | J101: =J100*J$9*1000 -> 114.558 | K101: =K100*L$9*1000 -> 99.889817 | L101: =AVERAGE(G101:K101) -> 112.01816 | M101: =AVERAGE(H101:L101) -> 113.90808 | AC101: 0.42000335 | AD101: =AF88/AB88 -> 0.42000335
A102: Annað (2D3) í heildina | B102: ktCO2í | C102: 3.2593442 | D102: 3.5053193 | E102: 3.5969364 | F102: 3.8630813 | G102: 3.6889741 | H102: 3.78 | I102: =1.9975+0.008+0.9013+0.1139+0.0047+0.0087+0.1882+0.0907+0.0514+0.7481 -> 4.1125 | J102: =2.04+0.01+0.8+0.1+0+0.01+0.2+0+0.06+0.11+0.62 -> 3.95 | K102: =1.49+0.01+0.77+0.12+0+0.01+0.1+0+0.07+0.14+0.73 -> 3.44 | L102: 6.042554 | M102: =AVERAGE(H102:L102) -> 4.2650108 | AC102: 0.38999752 | AD102: =AF89/AB89 -> 0.38999752
A103: Losun vegna annað (2D3) | B103: tCO2Í | C103: =C102*C$9*1000 -> 1198.6836 | D103: =D102*D$9*1000 -> 1282.2676 | E103: =E102*E$9*1000 -> 1303.6646 | F103: =F102*F$9*1000 -> 1390.2026 | G103: =G102*G$9*1000 -> 1323.2965 | H103: =H102*H$9*1000 -> 1351.1256 | I103: =I102*I$9*1000 -> 1476.1696 | J103: =J102*J$9*1000 -> 1414.0753 | ... M103: =M102*M$9*1000 -> 1519.7668 | AC103: 0.38 | AD103: =AF90/AB90 -> 0.38
A104: Samtals losun vegna efnanotkunar | B104: tCO2í | C104: =C81+C90+C93 -> 31007.347 | D104: =D81+D90+D93 -> 35110.786 | E104: =E81+E90+E93 -> 37624.609 | F104: =F81+F90+F93 -> 40204.864 | G104: =G81+G90+G93 -> 43855.39 | H104: =H81+H90+H93 -> 46145.784 | I104: =I81+I90+I93 -> 39168.966 | J104: =J81+J90+J93 -> 34504.151 | ... M104: =M81+M90+M93 -> 31944.837 | AC104: 0.42999862 | AD104: =AF91/AB91 -> 0.42999862
...

Sheet Byggingariðnaður
B2: 2024
AI42: 2010 | AJ42: 2011 | AK42: 2012 | AL42: 2013 | AM42: 2014
AI43: =564 -> 564 | AJ43: =(500+481)/2 -> 490.5 | AK43: =(376) -> 376 | AL43: =(421+509)/2 -> 465 | AM43: =(897+577) -> 1474
AI44: 10 | AJ44: 113 | AK44: 356 | AL44: 614 | AM44: 597
AO50: 44440 | AP50: 44621 | AQ50: 44805 | AR50: 45139
AO51: 2462 | AP51: 2637 | AQ51: 2433 | AR51: 2331
AJ53: 2015 | AK53: 2016 | AL53: 2017 | AM53: 2018 | AN53: 2019 | AO53: 2020 | AP53: 2021 | AQ53: 2022 | AR53: 2023
AJ54: =(867+1027)/2 -> 947 | AK54: =(1103+1266)/2 -> 1184.5 | AL54: =(1509+1228)/2 -> 1368.5 | AM54: =(2355+1726)/2 -> 2040.5 | AN54: =(2642+2735)/2 -> 2688.5 | AO54: =(2499+2556)/2 -> 2527.5 | AP54: =AO51 -> 2462 | AQ54: =(AP51+AQ51)/2 -> 2535 | AR54: =AR51 -> 2331
Q68: Byggingarefni | R68: 0.306749 | S68: tCO2e/m2
Q69: Staðbundin orka á byggingarsvæði | R69: 0.046688 | S69: tCO2e/m2
C144: 46266
U149: 50 | V149: 5 | W149: =U149*V149 -> 250
U150: 90 | V150: 1 | W150: =U150*V150 -> 90
U151: 130 | V151: 5 | W151: =U151*V151 -> 650
U152: 180 | V152: 10 | W152: =U152*V152 -> 1800
U153: 240 | V153: 10 | W153: =U153*V153 -> 2400
U154: 320 | V154: 8 | W154: =U154*V154 -> 2560
U156: 30 | V156: 7 | W156: =U156*V156 -> 210
U157: 50 | V157: 283 | W157: =U157*V157 -> 14150
U158: 70 | V158: 454 | W158: =U158*V158 -> 31780
U159: 90 | V159: 489 | W159: =U159*V159 -> 44010
U160: 125 | V160: 445 | W160: =U160*V160 -> 55625
U161: 200 | V161: 96 | W161: =U161*V161 -> 19200
U162: 250 | V162: 5 | W162: =U162*V162 -> 1250
V163: =SUM(V149:V162) -> 1818 | W163: =SUM(W149:W162) -> 173975 | X163: =W163/V163 -> 95.69582
V164: =SUMPRODUCT(U156:U162,V156:V162) -> 166225

Sheet Notkunarflokkun 2024
A1: Orkunotkun -2023 | D1: Eining
A2: Svæðisheiti | B2: Notendaflokkur [númer] | C2: Lýsing notkunarflokks | D2: Orkunotkun [kWh]
A4: Reykjavík | B4: 0108 | C4: Búrekstur | D4: 14940 | E4: W
B5: 0109 | C5: Fiskrækt | D5: 11833.2 | E5: W | G5: =D4+D6+D7+D8 -> 7637279.6
B6: 0111 | C6: Garðyrkja, lýsing | D6: 7432523.7 | E6: W | G6: =G5*7.6/1000000 -> 58.043325
B7: 0113 | C7: Svínabú | D7: 28807 | E7: W
B8: 0116 | C8: Garðyrkja og ylrækt annað en lýs | D8: 161008.87 | E8: W
B9: 0117 | C9: Fóðurframleiðsla önnur en framle | D9: 5816254.6 | E9: W
B10: 0121 | C10: Skógræktarstöðvar | D10: 77848.46 | E10: W | I10: kWh
B11: 0122 | C11: Fiskveiðar | D11: 757169.64 | E11: W | P11: B | Q11: CB | R11: W | S11: IP | T11: E | U11: T | V11: S | W11: O
B12: 0123 | C12: Sportveiði | D12: 5380.98 | E12: W | G12: Byggingar - Íbúðir | H12: Buildings | I12: =SUMIF($E$4:$E$78,K12,$D$4:$D$78) -> 2.4188382e+08 | J12: =I12/$D$80 -> 0.29904084 | K12: B | P12: {=_xlfn._xlws.FILTER(C:C, E:E=K12, "No match")} -> Gististaðir | Q12: {=_xlfn._xlws.FILTER(C:C, E:E=K13, "No match")} -> Sjúkrahús, elli- og vistheimili | R12: {=_xlfn._xlws.FILTER(C:C, E:E=K14, "No match")} -> Búrekstur | S12: {=_xlfn._xlws.FILTER(C:C, E:E=K15, "No match")} -> Sláturhús - kjötiðnaður | T12: {=_xlfn._xlws.FILTER(C:C, E:E=K16, "No match")} -> Raforkuvinnsla | U12: {=_xlfn._xlws.FILTER(C:C, E:E=K17, "No match")} -> Samgöngur, aðrar en rafkn farart | V12: {=_xlfn._xlws.FILTER(C:C, E:E=K18, "No match")} -> Viðsk., handiðnir og óopinb þjón | W12: {=_xlfn._xlws.FILTER(C:C, E:E=K19, "No match")} -> No match
B13: 0410 | C13: Sláturhús - kjötiðnaður | D13: 2103897.8 | E13: IP | G13: Byggingar - Rekstur | H13: Comercial Buildings | I13: =SUMIF($E$4:$E$78,K13,$D$4:$D$78) -> 2.5026768e+08 | J13: =I13/$D$80 -> 0.3094058 | K13: CB | P13: Almenn heimilisnotkun án rafhita | Q13: Skólar | R13: Fiskrækt | S13: Mjólkuriðnaður | T13: Rafveitur | U13: Rafknúin farartæki | V13: Póstur og sími
B14: 0420 | C14: Mjólkuriðnaður | D14: 4413220.7 | E14: IP | G14: Atvinnurekstur | H14: Comercial Activities | I14: =SUMIF($E$4:$E$78,K14,$D$4:$D$78) -> 22733632 | J14: =I14/$D$80 -> 0.028105577 | K14: W | P14: Almenn heimilisnotkun með rafhit | Q14: Sundlaugar og íþróttahús | R14: Garðyrkja, lýsing | S14: Fiskfrysting | T14: Hitaveitur | U14: Rafmagn til skipa | V14: Tryggingar og lífeyrissjóðir
B15: 0431 | C15: Fiskfrysting | D15: 7343334.9 | E15: IP | G15: Iðnaðarferlar | H15: Industrial Processes | I15: =SUMIF($E$4:$E$78,K15,$D$4:$D$78) -> 82225906 | J15: =I15/$D$80 -> 0.10165584 | K15: IP | P15: Sérmæld rafhitun íbúðarhúsnæðis | Q15: Félagsheimili | R15: Svínabú | S15: Brauð og kökugerð | T15: Vatnsveitur | V15: Þjónusta við atvinnurekstur
B16: 0460 | C16: Brauð og kökugerð | D16: 13566970 | E16: IP | G16: Orka | H16: Energy | I16: =SUMIF($E$4:$E$78,K16,$D$4:$D$78) -> 32887339 | J16: =I16/$D$80 -> 0.040658599 | K16: E | P16: Sumarbústaðir | Q16: Kirkjur | R16: Garðyrkja og ylrækt annað en lýs | S16: Sælgætisgerð | V16: Gagnaver
B17: 0480 | C17: Sælgætisgerð | D17: 3354573.6 | E17: IP | G17: Samgöngur | H17: Transport | I17: =SUMIF($E$4:$E$78,K17,$D$4:$D$78) -> 44006229 | J17: =I17/$D$80 -> 0.054404878 | K17: T | L17: Of which electric vehicles | N17: =D68/D80 -> 0.018092995 | Q17: Dagheimili og leikskólar | R17: Fóðurframleiðsla önnur en framle | S17: Drykkjarvöruiðnaður | V17: Önnur þjónusta og handiðnir
B18: 0491 | C18: Drykkjarvöruiðnaður | D18: 17380821 | E18: IP | G18: Þjónusta | H18: Services | I18: =SUMIF($E$4:$E$78,K18,$D$4:$D$78) -> 1.3486091e+08 | J18: =I18/$D$80 -> 0.16672847 | K18: S | L18: Of which "other services" | N18: =D67/D80 -> 0.11974947 | Q18: Almenn stjórnsýsla | R18: Skógræktarstöðvar | S18: Annar matvælaiðnaður | V18: Götu- og hafnarlýsing
B19: 0492 | C19: Annar matvælaiðnaður | D19: 2131045.4 | E19: IP | H19: Other | I19: =SUMIF($E$4:$E$78,K19,$D$4:$D$78) -> 0 | J19: =I19/$D$80 -> 0 | K19: O | Q19: Heildverslun | R19: Fiskveiðar | S19: Fataiðnaður | V19: Götu- og hafnarlýsing ómæld
B20: 0520 | C20: Fataiðnaður | D20: 178187.39 | E20: IP | Q20: Smásöluverslun | R20: Sportveiði | S20: Leður og skóiðnaður
B21: 0530 | C21: Leður og skóiðnaður | D21: 21584.32 | E21: IP | Q21: Veitingastaðir | R21: Malbikun | S21: Veiðarfæragerð
B22: 0540 | C22: Veiðarfæragerð | D22: 430681 | E22: IP | I22: =SUM(I12:I20) -> 8.0886552e+08 | Q22: Peningastofnanir | R22: Skipasmíðar | S22: Timbur og korkiðnaður
B23: 0610 | C23: Timbur og korkiðnaður | D23: 722206.25 | E23: IP | I23: =I22-D80 -> 0 | Q23: Heilbrigðisþjón á vegum einkaaði | R23: Byggingastarfs. og opinb. framkv | S23: Pappa og pappírsvörugerð
B24: 0620 | C24: Pappa og pappírsvörugerð | D24: 314280.35 | E24: IP | Q24: Menningarmál | S24: Prentun, útgáfa og skyld starfse
B25: 0630 | C25: Prentun, útgáfa og skyld starfse | D25: 4197356.2 | E25: IP | S25: Gúmvöruiðnaður
B26: 0700 | C26: Gúmvöruiðnaður | D26: 222238.51 | E26: IP | S26: Framleiðsla á vörum úr olíu
B27: 0820 | C27: Framleiðsla á vörum úr olíu | D27: 202818.41 | E27: IP | S27: Lifrarbr., lýsishreinsun
B28: 0821 | C28: Malbikun | D28: 14643.13 | E28: W | I28: =I22*7.6/1000000 -> 6147.3779 | S28: Málningar-, lakk og límgerð
B29: 0833 | C29: Lifrarbr., lýsishreinsun | D29: 14404171 | E29: IP | S29: Sápu- og þvottaefnisgerð
B30: 0835 | C30: Málningar-, lakk og límgerð | D30: 238763.22 | E30: IP | S30: Gleriðnaður
B31: 0839 | C31: Sápu- og þvottaefnisgerð | D31: 5746217.8 | E31: IP | I31: =D4+D5+D6+D7+D8+D9+D10+D11-D9 -> 8484130.9 | S31: Leirsmíði og postulínsiðnaður
B32: 0920 | C32: Gleriðnaður | D32: 10518.68 | E32: IP | S32: Sementsgerð
B33: 0930 | C33: Leirsmíði og postulínsiðnaður | D33: 158845.52 | E33: IP | S33: Steinsteypugerð
B34: 0940 | C34: Sementsgerð | D34: 439169.52 | E34: IP | S34: Annar undirstöðuiðnaður úr járni
B35: 0990 | C35: Steinsteypugerð | D35: 1555366.4 | E35: IP | S35: Járnsmiðjur
B36: 1020 | C36: Annar undirstöðuiðnaður úr járni | D36: 6249.55 | E36: IP | S36: Framleiðsla raftækja
B37: 1210 | C37: Járnsmiðjur | D37: 2798606.2 | E37: IP | S37: Framl samgöngutækja á landi
B38: 1220 | C38: Framleiðsla raftækja | D38: 90115.07 | E38: IP | S38: Handiðnaður
B39: 1230 | C39: Skipasmíðar | D39: 82660.72 | E39: W | I39: 2.4188382e+08
B40: 1240 | C40: Framl samgöngutækja á landi | D40: 6983.43 | E40: IP | I40: 2.5026768e+08
B41: 1300 | C41: Handiðnaður | D41: 187684.18 | E41: IP | I41: 22733632
B42: 1400 | C42: Byggingastarfs. og opinb. framkv | D42: 8330561.6 | E42: W | I42: 82225906
B43: 1510 | C43: Raforkuvinnsla | D43: 142537 | E43: E | I43: 32887339
B44: 1511 | C44: Rafveitur | D44: 2168200.4 | E44: E | I44: 44006229
B45: 1512 | C45: Hitaveitur | D45: 24853527 | E45: E | I45: 1.3486091e+08
B46: 1521 | C46: Vatnsveitur | D46: 5723074.6 | E46: E | I46: 0
B47: 1522 | C47: Sjúkrahús, elli- og vistheimili | D47: 29159139 | E47: CB
B48: 1523 | C48: Skólar | D48: 27213199 | E48: CB
B49: 1524 | C49: Sundlaugar og íþróttahús | D49: 12549565 | E49: CB
B50: 1527 | C50: Félagsheimili | D50: 2178084.6 | E50: CB
B51: 1528 | C51: Kirkjur | D51: 1470208.6 | E51: CB
B52: 1529 | C52: Dagheimili og leikskólar | D52: 2357856.2 | E52: CB
B53: 1540 | C53: Almenn stjórnsýsla | D53: 34677790 | E53: CB
B54: 1600 | C54: Viðsk., handiðnir og óopinb þjón | D54: 713609.08 | E54: S
B55: 1611 | C55: Heildverslun | D55: 16726841 | E55: CB
B56: 1612 | C56: Smásöluverslun | D56: 66519648 | E56: CB
B57: 1621 | C57: Veitingastaðir | D57: 18513502 | E57: CB
B58: 1622 | C58: Gististaðir | D58: 21993654 | E58: B
... B66: 1660 | C66: Menningarmál | D66: 20990631 | E66: CB
B67: 1670 | C67: Önnur þjónusta og handiðnir | D67: 96861216 | E67: S | F67: 26646948
B68: 1700 | C68: Rafknúin farartæki | D68: 14634800 | E68: T | F68: 14634800
B69: 1811 | C69: Götu- og hafnarlýsing | D69: 6738363.8 | E69: S | F69: =F67+F68 -> 41281747
B70: 1812 | C70: Rafmagn til skipa | D70: 2724482.2 | E70: T | F70: 41281747
B71: 1910 | C71: Almenn heimilisnotkun án rafhita | D71: 2.1872628e+08 | E71: B | F71: =F70+D70 -> 44006229
B72: 1920 | C72: Almenn heimilisnotkun með rafhit | D72: 11299.684 | E72: B
B73: 1930 | C73: Sérmæld rafhitun íbúðarhúsnæðis | D73: 376357.22 | E73: B
B74: 1940 | C74: Sumarbústaðir | D74: 776228.49 | E74: B
A75: Reykjavik samtals | D75: 8.0123363e+08
B78: 1811 | C78: Götu- og hafnarlýsing ómæld | D78: 7631889 | E78: S | F78: Mikil minnkun milli ára skýrist af mælavæðingu götulýsingar
C80: Samtals með ómældu | D80: 8.0886552e+08

Sheet Götuumferð
A4: Tafla 1. sýnir meðalumferð á dag eftir mánuðum í þremur völdum sniðum innan höfuðborgarsvæðis.
C5: Höfuðborgarsvæðið | N5: Sniðtalning - RVK
C6: Hafnarfjarðarvegur sunnan Kópavogslækjar | D6: Reykjanesbraut við Dalveg í Kópavogi | E6: Vesturlandsvegur (Nesbraut) móts við Skeljung, (ofan Ártúnsbrekku) | F6: Samanlögð meðalumferð á talningastöðum | G6: Meðalumfer/dag fyrir hvern mánuð lagður saman (reiknitala) | H6: ---- Mismunur ---- | N6: Sæbraut
F7: samtals | AK7: Fjöldi bíla - | AM7: 29/7/2026 - RVK | AP7: 2024 | AQ7: Fjöldi ökutækja | AR7: Fjöldi í úrtaki | AS7: Hlutfall í úrtaki | AT7: Meðalakstur á dag | AU7: Meðalakstur á ári | BE7: =BF7*0.9 -> 0.47957016 | BF7: =(BF11+BF15+BF16)/($EZ$11+$EZ$12+$EZ$15+$EZ$16) -> 0.53285573 | CC7: 2025 | CI7: Fjöldi bíla - lok árs 2022 | CK7: 02/9/2025 - RVK | CN7: 2024 | CO7: Fjöldi ökutækja | CP7: Fjöldi í úrtaki | CQ7: Hlutfall í úrtaki | CR7: Meðalakstur á dag | CS7: Meðalakstur á ári | DC7: =DD7*0.9 -> 0.47957016 | DD7: =(DD11+DD15+DD16)/($EZ$11+$EZ$12+$EZ$15+$EZ$16) -> 0.53285573 | EA7: 2024 | EJ7: 2023 | EK7: Fjöldi ökutækja | EL7: Fjöldi í úrtaki | EM7: Hlutfall í úrtaki | EN7: Meðalakstur á dag | EO7: Meðalakstur á ári | FA7: =FB7*0.9 -> 0.53630325 | FB7: =(EZ11+EZ15+EZ16)/($EZ$11+$EZ$12+$EZ$15+$EZ$16) -> 0.5958925 | FW7: 2023 | GF7: 2022 | GG7: Fjöldi ökutækja | GH7: Fjöldi í úrtaki | GI7: Hlutfall í úrtaki | GJ7: Meðalakstur á dag | GK7: Meðalakstur á ári | HR7: 2022 | HX7: 2021 | HY7: Fjöldi ökutækja | HZ7: Fjöldi í úrtaki | IA7: Hlutfall í úrtaki | IB7: Meðalakstur á dag | IC7: Meðalakstur á ári | JJ7: 2021 | JP7: 2020 | JQ7: Fjöldi ökutækja | JR7: Fjöldi í úrtaki | JS7: Hlutfall í úrtaki | JT7: Meðalakstur á dag | JU7: Meðalakstur á ári | LA7: 2020 | LF7: 2019 | LG7: Fjöldi ökutækja | LH7: Fjöldi í úrtaki | LI7: Hlutfall í úrtaki | LJ7: Meðalakstur á dag | LK7: Meðalakstur á ári | MQ7: 2019 | MV7: 2018 | MW7: Fjöldi ökutækja | MX7: Fjöldi í úrtaki | MY7: Hlutfall í úrtaki | MZ7: Meðalakstur á dag | NA7: Meðalakstur á ári | OG7: 2018 | OL7: 2017 | OQ7: 2016
A8: Lengd vegkafla í km → | C8: 1.01 | D8: 1.66 | E8: 0.6 | F8: 3.27 | I8: Umferð | L8: Meðalumferð | AL8: Fjöldi | AP8: Bensín | BE8: =BF8*0.9 -> 0.26415433 | BF8: =(BF12)/($EZ$11+$EZ$12+$EZ$15+$EZ$16) -> 0.29350481 | BO8: Emission factors (T/TJ) | BS8: 28 | BT8: 265 | BY8: UST stuðlar 6.0.2 | CJ8: Fjöldi | CN8: Bensín | DC8: =DD8*0.9 -> 0.26415433 | DD8: =(DD12)/($EZ$11+$EZ$12+$EZ$15+$EZ$16) -> 0.29350481 | DM8: Emission factors (T/TJ) | DQ8: 28 | DR8: 265 | DW8: UST stuðlar 6.0.2 | EJ8: Bensín | EX8: =FX8 -> 224.02576 | EY8: M km | FA8: =FB8*0.9 -> 0.36369675 | FB8: =(EZ12)/($EZ$11+$EZ$12+$EZ$15+$EZ$16) -> 0.4041075 | FI8: Emission factors (T/TJ) | FM8: 28 | FN8: 265 | FS8: UST stuðlar 6.0.1 | FX8: =AG54-AF54 -> 224.02576 | FY8: M km | GF8: Bensín | GT8: =HS8 -> 213.37717 | GU8: M km | HE8: Emission factors (T/TJ) | HI8: 28 | HJ8: 265 | HO8: UST stuðlar | HS8: =AG53-AF53 -> 213.37717 | HT8: M km | HX8: Bensín | IL8: =JK8 -> 211.72516 | IM8: M km | IW8: Emission factors (T/TJ) | JA8: 28 | JB8: 265 | JG8: UST stuðlar | JJ8: Akstur | JK8: =AG52-AF52 -> 211.72516 | JL8: M km | JP8: Bensín | KN8: Emission factors (T/TJ) | KR8: 28 | KS8: 265 | KX8: UST stuðlar | LF8: Bensín | MD8: Emission factors (T/TJ) | MH8: 29.8 | MI8: 273 | MN8: UST stuðlar | MV8: Bensín | NT8: Emission factors (T/TJ) | NX8: 29.8 | NY8: 273 | OD8: UST stuðlar
A9: Ár↓ mán.↓ Vegnr.→ | C9: 40-03 | D9: 41-12 | E9: 49-01 | G9: Uppsafnað | I9: Vegkaflar | L9: Samtals | AK9: Orkugjafi/ökutækafl. | AP9: Fólksbifreiðar | AQ9: 38332 | AR9: 27966 | AS9: =AR9/AQ9 -> 0.7295732 | AT9: 29.3 | AU9: 10683 | AW9: =AQ9/AQ31 -> 0.44568465 | AX9: =AR9/AR31 -> 0.5214327 | AY9: =AQ9*AU9/1000000 -> 409.50076 | BA9: =AY9/$CW$37 -> 0.31370847 | BH9: L/100km | BI9: L/km | BJ9: kg/L | BK9: kg/km (kT/mkm) | BL9: TJ/kT | BM9: TJ/mkm | BN9: CO2 | BO9: CH4 | BP9: N2O | BQ9: TJ | BR9: CO2 | BS9: CH4 | BT9: N2O | BV9: CO2-íg/L | BW9: kg CO2 íg | BX9: T CO2 íg | BY9: gCO2/km | BZ9: tCO2 íg | CC9: Akstur | CD9: =IF($S$15=2012,VLOOKUP(CC7,$S$18:$V$31,4),VLOOKUP(CC7,$S$18:$AF$31,14)) -> 1155.0237 | CE9: M km | CI9: Orkugjafi/ökutækafl. | CN9: Fólksbifreiðar | CO9: 38332 | CP9: 27966 | CQ9: =CP9/CO9 -> 0.7295732 | CR9: 29.3 | CS9: 10683 | CU9: =CO9/CO31 -> 0.44568465 | CV9: =CP9/CP31 -> 0.5214327 | CW9: =CO9*CS9/1000000 -> 409.50076 | CY9: =CW9/$CW$37 -> 0.31370847 | DF9: L/100km | DG9: L/km | DH9: kg/L | DI9: kg/km (kT/mkm) | DJ9: TJ/kT | DK9: TJ/mkm | DL9: CO2 | DM9: CH4 | DN9: N2O | DO9: TJ | DP9: CO2 | DQ9: CH4 | DR9: N2O | DT9: CO2-íg/L | DU9: kg CO2 íg | DV9: T CO2 íg | DW9: gCO2/km | DX9: tCO2 íg | EA9: Akstur | EB9: =IF($S$15=2012,VLOOKUP(EA7,$S$18:$V$30,4),VLOOKUP(EA7,$S$18:$AF$30,14)) -> 1158.6417 | EC9: M km | EJ9: Fólksbifreiðar | EK9: 140832 | EL9: 83100 | EM9: 0.59 | EN9: 31.55 | EO9: 11516 | EQ9: =EK9/EK31 -> 0.47060082 | ER9: =EL9/EL31 -> 0.52292764 | ES9: =EK9*EO9/1000000 -> 1621.8213 | EU9: =ES9/$ES$37 -> 0.32635607 | EV9: =ES9/$ES$31 -> 0.40347223 | EX9: =FX9-FX8 -> 1001.2139 | EY9: M km | FB9: L/100km | FC9: L/km | FD9: kg/L | FE9: kg/km (kT/mkm) | FF9: TJ/kT | FG9: TJ/mkm | FH9: CO2 | FI9: CH4 | FJ9: N2O | FK9: TJ | FL9: CO2 | FM9: CH4 | FN9: N2O | FP9: CO2-íg/L | FQ9: kg CO2 íg | FR9: T CO2 íg | FS9: gCO2/km | FT9: tCO2 íg | FW9: Akstur | FX9: =IF($S$15=2012,VLOOKUP(FW7,$S$43:$V$57,4),VLOOKUP(FW7,$S$43:$AG$57,15)) -> 1225.2397 | FY9: M km | GF9: Fólksbifreiðar | GG9: 145524 | GH9: 81692 | GI9: 0.56 | GJ9: 33.11 | GK9: 12087 | GM9: =GG9/GG30 -> 0.50608242 | GN9: =GH9/GH30 -> 0.55218564 | GP9: =GK9*GG9/1000000 -> 1758.9486 | GQ9: =GP9/$GP$36 -> 0.35799061 | GR9: =GP9/$GP$30 -> 0.44184217 | GT9: =HS9-HS8 -> 953.62334 | GU9: M km | GX9: L/100km | GY9: L/km | GZ9: kg/L | HA9: kg/km (kT/mkm) | HB9: TJ/kT | HC9: TJ/mkm | HD9: CO2 | HE9: CH4 | HF9: N2O | HG9: TJ | HH9: CO2 | HI9: CH4 | HJ9: N2O | HL9: CO2-íg/L | HM9: kg CO2 íg | HN9: T CO2 íg | HO9: gCO2/km | HP9: tCO2 íg | HR9: Akstur | HS9: =IF($S$15=2012,VLOOKUP(HR7,$S$43:$V$57,4),VLOOKUP(HR7,$S$43:$AG$57,15)) -> 1167.0005 | HT9: M km | HX9: Fólksbifreiðar | HY9: 149903 | HZ9: 82425 | IA9: 0.55 | IB9: 30.19 | IC9: 11020 | IE9: =HY9/HY30 -> 0.54458891 | IF9: =HZ9/HZ30 -> 0.57982484 | IH9: =IC9*HY9/1000000 -> 1651.9311 | II9: =IH9/$JZ$36 -> 0.39640246 | IJ9: =IH9/$IH$30 -> 0.47221223 | IL9: =JK9-JK8 -> 946.24017 | IM9: M km | IP9: L/100km | IQ9: L/km | IR9: kg/L | IS9: kg/km (kT/mkm) | IT9: TJ/kT | IU9: TJ/mkm | IV9: CO2 | IW9: CH4 | IX9: N2O | IY9: TJ | IZ9: CO2 | JA9: CH4 | JB9: N2O | JD9: CO2-íg/L | JE9: kg CO2 íg | JF9: T CO2 íg | JG9: gCO2/km | JH9: tCO2 íg | JJ9: Akstur | JK9: =IF($S$15=2012,VLOOKUP(JJ7,$S$43:$V$57,4),VLOOKUP(JJ7,$S$43:$AG$57,15)) -> 1157.9653 | JL9: M km | JP9: Fólksbifreiðar | JQ9: 156335 | JR9: 82309 | JS9: 0.53 | JT9: 30.22 | JU9: 11029 | JW9: =JQ9/JQ30 -> 0.57984534 | JX9: =JR9/JR30 -> 0.62281226 | JZ9: =JU9*JQ9/1000000 -> 1724.2187 | KA9: =JZ9/$JZ$36 -> 0.41374883 | KG9: L/100km | KH9: L/km | KI9: kg/L | KJ9: kg/km (kT/mkm) | KK9: TJ/kT | KL9: TJ/mkm | KM9: CO2 | KN9: CH4 | KO9: N2O | KP9: TJ | KQ9: CO2 | KR9: CH4 | KS9: N2O | KU9: CO2-íg/L | KV9: kg CO2 íg | KW9: T CO2 íg | KX9: gCO2/km | KY9: tCO2 íg | LA9: Akstur | LB9: =IF($S$15=2012,VLOOKUP(LA7,$S$43:$V$57,4),VLOOKUP(LA7,$S$43:$AG$57,15)) -> 1062.8935 | LC9: M km | LF9: Fólksbifreiðar | LG9: 163424 | LH9: 84654 | LI9: 0.52 | LJ9: 30.85 | LK9: 11261 | LM9: =LG9/LG23 -> 0.60566664 | LN9: =LH9/LH23 -> 0.67010211 | LP9: =LK9*LG9/1000000 -> 1840.3177 | LQ9: =LP9/$LP$36 -> 0.4332475 | LW9: L/100km | LX9: L/km | LY9: kg/L | LZ9: kg/km (kT/mkm) | MA9: TJ/kT | MB9: TJ/mkm | MC9: CO2 | MD9: CH4 | ME9: N2O | MF9: TJ | MG9: CO2 | MH9: CH4 | MI9: N2O | MK9: CO2-íg/L | ML9: kg CO2 íg | MM9: T CO2 íg | MN9: gCO2/km | MO9: tCO2 íg | MQ9: Akstur | MR9: =IF($S$15=2012,VLOOKUP(MQ7,$S$43:$V$57,4),VLOOKUP(MQ7,$S$43:$AG$57,15)) -> 1195.9859 | MS9: M km | MV9: Fólksbifreiðar | MW9: 167978 | MX9: 97278 | MY9: 0.54 | MZ9: 31.07 | NA9: 11339 | NC9: =MW9/MW23 -> 0.62822992 | ND9: =MX9/MX23 -> 0.743636 | NF9: =NA9*MW9/1000000 -> 1904.7025 | NG9: =NF9/$LP$36 -> 0.44840498 | NM9: L/100km | NN9: L/km | NO9: kg/L | NP9: kg/km (kT/mkm) | NQ9: TJ/kT | NR9: TJ/mkm | NS9: CO2 | NT9: CH4 | NU9: N2O | NV9: TJ | NW9: CO2 | NX9: CH4 | NY9: N2O | OA9: CO2-íg/L | OB9: kg CO2 íg | OC9: T CO2 íg | OD9: gCO2/km | OE9: tCO2 íg | OG9: Akstur | OH9: =IF($S$15=2012,VLOOKUP(OG7,$S$43:$V$57,4),VLOOKUP(OG7,$S$43:$AG$57,15)) -> 1182.8713 | OI9: M km | OL9: Akstur | OM9: =OH9/(1+T24) -> 1150.6055 | ON9: M km | OQ9: Akstur | OR9: =OM9/(1+T23) -> 1065.3485 | OS9: M km
B10: Umferð→ | C10: Fjöldi bíla pr. dag | F10: Σ umf/dag | G10: Σ umferð | I10: 40-03 | J10: 41-12 | K10: 49-01 | L10: Mánaða | M10: Af er árs | AK10: Bensín | AP10: Hópbifreiðar ≤5t | AQ10: 9 | AR10: 12 | AS10: =AR10/AQ10 -> 1.3333333 | AT10: 17.2 | AU10: 6263 | AW10: =AQ10/AQ32 -> 0.055555556 | AX10: =AR10/AR32 -> 0.074074074 | AY10: =AQ10*AU10/1000000 -> 0.056367 | BA10: =AY10/$CW$37 -> 4.3181374e-05 | CI10: Bensín | CN10: Hópbifreiðar ≤5t | CO10: 9 | CP10: 12 | CQ10: =CP10/CO10 -> 1.3333333 | CR10: 17.2 | CS10: 6263 | CU10: =CO10/CO32 -> 0.055555556 | CV10: =CP10/CP32 -> 0.074074074 | CW10: =CO10*CS10/1000000 -> 0.056367 | CY10: =CW10/$CW$37 -> 4.3181374e-05 | EJ10: Hópbifreiðar ≤5t | EK10: 114 | EL10: 63 | EM10: 0.55 | EN10: 36.65 | EO10: 13377 | EQ10: =EK10/EK32 -> 0.088923557 | ER10: =EL10/EL32 -> 0.081712062 | ES10: =EK10*EO10/1000000 -> 1.524978 | EU10: =ES10/$ES$37 -> 0.00030686847 | EV10: =ES10/$ES$40 -> 0.0016055378 | GF10: Hópbifreiðar ≤5t | GG10: 117 | GH10: 50 | GI10: 0.43 | GJ10: 12.52 | GK10: 4571 | GM10: =GG10/GG31 -> 0.089108911 | GN10: =GH10/GH31 -> 0.067204301 | GP10: =GK10*GG10/1000000 -> 0.534807 | GQ10: =GP10/$GP$36 -> 0.00010884678 | GR10: =GP10/$GP$38 -> 0.00057355041 | HX10: Hópbifreiðar ≤5t | HY10: 117 | HZ10: 50 | IA10: 0.43 | IB10: 23.12 | IC10: 8440 | IE10: =HY10/HY31 -> 0.086092715 | IF10: =HZ10/HZ31 -> 0.073855244 | IH10: =IC10*HY10/1000000 -> 0.98748 | II10: =IH10/$IH$36 -> 0.00023402478 | IJ10: =IH10/$IH$37 -> 0.001369081 | JP10: Hópbifreiðar ≤5t | JQ10: 95 | JR10: 49 | JS10: 0.52 | JT10: 17.82 | JU10: 6503 | JW10: =JQ10/JQ31 -> 0.070058997 | JX10: =JR10/JR31 -> 0.080592105 | JZ10: =JU10*JQ10/1000000 -> 0.617785 | KA10: =JZ10/$JZ$36 -> 0.00014824559 | LF10: Hópbifreiðar ≤5t | LG10: 95 | LH10: 65 | LI10: 0.68 | LJ10: 24.99 | LK10: 9123 | LM10: =LG10/LG24 -> 0.068542569 | LN10: =LH10/LH24 -> 0.085638999 | LP10: =LK10*LG10/1000000 -> 0.866685 | LQ10: =LP10/$LP$36 -> 0.00020403494 | MV10: Hópbifreiðar ≤5t | MW10: 98 | MX10: 67 | MY10: 0.68 | MZ10: 19.28 | NA10: 7037 | NC10: =MW10/MW24 -> 0.067679558 | ND10: =MX10/MX24 -> 0.086451613 | NF10: =NA10*MW10/1000000 -> 0.689626 | NG10: =NF10/$LP$36 -> 0.00016235172
A11: 2005 | B11: Janúar | C11: 36964 | D11: 35212 | E11: 32382 | F11: 104558 | G11: 104558 | AK11: Fólksbifreiðar | AL11: 36334 | AP11: Hópbifreiðar >5t | AQ11: 0 | AR11: 1 | AS11: =AR11/AQ11 -> #DIV/0! | AT11: - | AU11: - | AW11: =AQ11/AQ33 -> 0 | AX11: =AR11/AR33 -> 0.0018083183 | AY11: 0 | BA11: =AY11/$CW$37 -> 0 | BD11: Fólksbílar | BE11: Bensín | BF11: =BA9 -> 0.31370847 | BG11: =BF11*$EB$9 -> 363.47573 | BH11: 8 | BI11: =BH11/100 -> 0.08 | BJ11: 0.75 | BK11: =BJ11*BI11 -> 0.06 | BL11: 44.3 | BM11: =BL11*BK11 -> 2.658 | BN11: 72.335002 | BO11: 0.007163716 | BP11: 0.00047891016 | BQ11: =BM11*BG11 -> 966.11849 | BR11: =$DO11*BN11 -> 69884.183 | BS11: =$DO11*BO11 -> 6.9209984 | BT11: =$DO11*BP11 -> 0.46268396 | BU11: =BR11+BS11*$HI$8+BT11*$HJ$8 -> 70200.582 | BV11: 2.34 | BW11: =BV11*BI11*BG11*1000000 -> 68042657 | BX11: =BW11/1000 -> 68042.657 | BY11: 207 | BZ11: =BY11/10^6*BG11*10^6 -> 75239.476 | CD11: Leið 1 | CE11: UST 1 | CF11: UST 2 | CI11: Fólksbifreiðar | CJ11: 35011 | CN11: Hópbifreiðar >5t | CO11: 0 | CP11: 1 | CQ11: =CP11/CO11 -> #DIV/0! | CR11: - | CS11: - | CU11: =CO11/CO33 -> 0 | CV11: =CP11/CP33 -> 0.0018083183 | CW11: 0 | CY11: =CW11/$CW$37 -> 0 | DB11: Fólksbílar | DC11: Bensín | DD11: =CY9 -> 0.31370847 | DE11: =DD11*$EB$9 -> 363.47573 | DF11: 8 | DG11: =DF11/100 -> 0.08 | DH11: 0.75 | DI11: =DH11*DG11 -> 0.06 | DJ11: 44.3 | DK11: =DJ11*DI11 -> 2.658 | DL11: 72.335002 | DM11: 0.007163716 | DN11: 0.00047891016 | DO11: =DK11*DE11 -> 966.11849 | DP11: =$DO11*DL11 -> 69884.183 | DQ11: =$DO11*DM11 -> 6.9209984 | DR11: =$DO11*DN11 -> 0.46268396 | DS11: =DP11+DQ11*$HI$8+DR11*$HJ$8 -> 70200.582 | DT11: 2.34 | DU11: =DT11*DG11*DE11*1000000 -> 68042657 | DV11: =DU11/1000 -> 68042.657 | DW11: 207 | DX11: =DW11/10^6*DE11*10^6 -> 75239.476 | EB11: Leið 1 | EC11: UST 1 | ED11: UST 2 | EJ11: Hópbifreiðar >5t | EK11: 6 | EL11: 3 | EM11: 0.5 | EN11: - | EO11: - | EQ11: =EK11/EK33 -> 0.0030785018 | ER11: =EL11/EL33 -> 0.0025795357 | ES11: 0 | EU11: =ES11/$ES$37 -> 0 | EV11: =ES11/$ES$40 -> 0 | EX11: Fólksbílar | EY11: Bensín | EZ11: =EV9 -> 0.40347223 | FA11: =EZ11*$EX$9 -> 403.96201 | FB11: 8 | FC11: =FB11/100 -> 0.08 | FD11: 0.75 | FE11: =FD11*FC11 -> 0.06 | FF11: 44.3 | FG11: =FF11*FE11 -> 2.658 | FH11: 72.335002 | FI11: 0.007163716 | FJ11: 0.00047891016 | FK11: =FG11*FA11 -> 1073.731 | FL11: =$FK11*FH11 -> 77668.337 | FM11: =$FK11*FI11 -> 7.6919041 | FN11: =$FK11*FJ11 -> 0.5142207 | FO11: =FL11+FM11*$HI$8+FN11*$HJ$8 -> 78019.978 | FP11: 2.34 | FQ11: =FP11*FC11*FA11*1000000 -> 75621689 | FR11: =FQ11/1000 -> 75621.689 | FS11: 211 | FT11: =FS11/10^6*FA11*10^6 -> 85235.984 | FX11: Leið 1 | FY11: UST 1 | FZ11: UST 2 | GF11: Hópbifreiðar >5t | GG11: 4 | GH11: 3 | GI11: 0.75 | GJ11: 18.41 | GK11: 6721 | GM11: =GG11/GG32 -> 0.0021645022 | GN11: =GH11/GH32 -> 0.0029644269 | GP11: =GK11*GG11/1000000 -> 0.026884 | GQ11: =GP11/$GP$36 -> 5.4715752e-06 | GR11: =GP11/$GP$38 -> 2.8831577e-05 | GT11: Fólksbílar | GU11: Bensín | GV11: =GR9 -> 0.44184217 | GW11: =GV11*$GT$9 -> 421.351 | GX11: 8 | GY11: =GX11/100 -> 0.08 | GZ11: 0.75 | HA11: =GZ11*GY11 -> 0.06 | HB11: 44.3 | HC11: =HB11*HA11 -> 2.658 | HD11: 70.976974 | HE11: 0.0073169105 | HF11: 0.00060998105 | HG11: =HC11*GW11 -> 1119.951 | HH11: =$HG11*HD11 -> 79490.731 | HI11: =$HG11*HE11 -> 8.194581 | HJ11: =$HG11*HF11 -> 0.68314886 | HK11: =HH11+HI11*$HI$8+HJ11*$HJ$8 -> 79901.213 | HL11: 2.34 | HM11: =HL11*GY11*GW11*1000000 -> 78876908 | HN11: =HM11/1000 -> 78876.908 | HO11: 211 | HP11: =HO11/10^6*GW11*10^6 -> 88905.061 | HS11: Leið 1 | HT11: UST 1 | HU11: UST 2 | HX11: Hópbifreiðar >5t | HY11: 5 | HZ11: 5 | IA11: 1 | IB11: 18.41 | IC11: 6721 | IE11: =HY11/HY32 -> 0.0028216704 | IF11: =HZ11/HZ32 -> 0.0056947608 | IH11: =IC11*HY11/1000000 -> 0.033605 | II11: =IH11/$JZ$36 -> 8.0639592e-06 | IJ11: =IH11/$IH$37 -> 4.659129e-05 | IL11: Fólksbílar | IM11: Bensín | IN11: =IJ9 -> 0.47221223 | IO11: =IN11*$IL$9 -> 446.82618 | IP11: 8 | IQ11: =IP11/100 -> 0.08 | IR11: 0.75 | IS11: =IR11*IQ11 -> 0.06 | IT11: 44.3 | IU11: =IT11*IS11 -> 2.658 | IV11: 70.976974 | IW11: 0.0073169105 | IX11: 0.00060998105 | IY11: =IU11*IO11 -> 1187.664 | IZ11: =$IY11*IV11 -> 84296.796 | JA11: =$IY11*IW11 -> 8.6900311 | JB11: =$IY11*IX11 -> 0.72445252 | JC11: =IZ11+JA11*$JA$8+JB11*$JB$8 -> 84732.097 | JD11: 2.34 | JE11: =JD11*IQ11*IO11*1000000 -> 83645861 | JF11: =JE11/1000 -> 83645.861 | JG11: 211 | JH11: =JG11/10^6*IO11*10^6 -> 94280.324 | JK11: Leið 1 | JL11: UST 1 | JM11: UST 2 | JP11: Hópbifreiðar >5t | JQ11: 6 | JR11: 5 | JS11: 0.83 | JT11: 23.05 | JU11: 8412 | JW11: =JQ11/JQ32 -> 0.0034305317 | JX11: =JR11/JR32 -> 0.0062893082 | JZ11: =JU11*JQ11/1000000 -> 0.050472 | KA11: =JZ11/$JZ$36 -> 1.2111416e-05 | KC11: Fólksbílar | KD11: Bensín | KE11: =KA9 -> 0.41374883 | KF11: =KE11*$LB$9 -> 439.77092 | KG11: 8 | KH11: =KG11/100 -> 0.08 | KI11: 0.75 | KJ11: =KI11*KH11 -> 0.06 | KK11: 44.3 | KL11: =KK11*KJ11 -> 2.658 | KM11: 72.416541 | KN11: =7.87852632644844/1000 -> 0.0078785263 | KO11: =0.93521034397128/1000 -> 0.00093521034 | KP11: =KL11*KF11 -> 1168.9111 | KQ11: =$KP11*KM11 -> 84648.5 | KR11: =$KP11*KN11 -> 9.209297 | KS11: =$KP11*KO11 -> 1.0931778 | KT11: =KQ11+KR11*$KR$8+KS11*$KS$8 -> 85196.052 | KU11: 2.34 | KV11: =KU11*KH11*KF11*1000000 -> 82325117 | KW11: =KV11/1000 -> 82325.117 | KX11: 211 | KY11: =KX11/10^6*KF11*10^6 -> 92791.665 | LB11: Leið 1 | LC11: UST 1 | LD11: UST 2 | LF11: Hópbifreiðar >5t | LG11: 6 | LH11: 4 | LI11: 0.67 | LJ11: 80.1 | LK11: 29237 | LM11: =LG11/LG25 -> 0.0033482143 | LN11: =LH11/LH25 -> 0.004048583 | LP11: =LK11*LG11/1000000 -> 0.175422 | LQ11: =LP11/$LP$36 -> 4.1297839e-05 | LS11: Fólksbílar | LT11: Bensín | LU11: =LQ9 -> 0.4332475 | LV11: =LU11*MR$9 -> 518.15792 | LW11: 8 | LX11: =LW11/100 -> 0.08 | LY11: 0.75 | LZ11: =LY11*LX11 -> 0.06 | MA11: 44.3 | MB11: =MA11*LZ11 -> 2.658 | MC11: 72.416541 | MD11: =7.87852632644844/1000 -> 0.0078785263 | ME11: =0.93521034397128/1000 -> 0.00093521034 | MF11: =MB11*LV11 -> 1377.2637 | MG11: =$MF11*MC11 -> 99736.676 | MH11: =$MF11*MD11 -> 10.850809 | MI11: =$MF11*ME11 -> 1.2880313 | MJ11: =MG11+MH11*$KR$8+MI11*$KS$8 -> 100381.83 | MK11: 2.34 | ML11: =MK11*LX11*LV11*1000000 -> 96999162 | MM11: =ML11/1000 -> 96999.162 | MN11: 211 | MO11: =MN11/10^6*LV11*10^6 -> 109331.32 | MR11: Leið 1 | MS11: UST 1 | MT11: UST 2 | MV11: Hópbifreiðar >5t | MW11: 6 | MX11: 4 | MY11: 0.67 | MZ11: 87.43 | NA11: 31911 | NC11: =MW11/MW25 -> 0.0034285714 | ND11: =MX11/MX25 -> 0.0042060988 | NF11: =NA11*MW11/1000000 -> 0.191466 | NG11: =NF11/$LP$36 -> 4.5074917e-05 | NI11: Fólksbílar | NJ11: Bensín | NK11: =NG9 -> 0.44840498 | NL11: =NK11*OH$9 -> 530.40538 | NM11: 8 | NN11: =NM11/100 -> 0.08 | NO11: 0.75 | NP11: =NO11*NN11 -> 0.06 | NQ11: 44.3 | NR11: =NQ11*NP11 -> 2.658 | NS11: 72.416541 | NT11: =7.87852632644844/1000 -> 0.0078785263 | NU11: =0.93521034397128/1000 -> 0.00093521034 | NV11: =NR11*NL11 -> 1409.8175 | NW11: =$NV11*NS11 -> 102094.11 | NX11: =$NV11*NT11 -> 11.107284 | NY11: =$NV11*NU11 -> 1.3184759 | NZ11: =NW11+NX11*$KR$8+NY11*$KS$8 -> 102754.51 | OA11: 2.34 | OB11: =OA11*NN11*NL11*1000000 -> 99291888 | OC11: =OB11/1000 -> 99291.888 | OD11: 207 | OE11: =OD11/10^6*NL11*10^6 -> 109793.91 | OH11: Leið 1 | OI11: UST 1 | OJ11: UST 2 | OM11: Leið 1 | ON11: UST 1 | OO11: UST 2 | OR11: Leið 1 | OS11: UST 1 | OT11: UST 2
B12: Febrúar | C12: 39806 | D12: 37070.58 | E12: 35244 | F12: 112120.58 | G12: 216678.58 | AK12: Hópbifreiðar ≤5t | AL12: 6 | AP12: Sendibifreiðar | AQ12: 1012 | AR12: 592 | AS12: =AR12/AQ12 -> 0.58498024 | AT12: 25.6 | AU12: 9355 | AW12: =AQ12/AQ34 -> 0.12517007 | AX12: =AR12/AR34 -> 0.11457325 | AY12: =AQ12*AU12/1000000 -> 9.46726 | BA12: =AY12/$CW$37 -> 0.0072526353 | BE12: Dísil | BF12: =BA16 -> 0.26199812 | BG12: =BF12*$EB$9 -> 303.56196 | BH12: 10.5 | BI12: =BH12/100 -> 0.105 | BJ12: 0.865 | BK12: =BJ12*BI12 -> 0.090825 | BL12: 43 | BM12: =BL12*BK12 -> 3.905475 | BN12: 73.510933 | BO12: 5.4063124e-05 | BP12: 0.0025456285 | BQ12: =BM12*BG12 -> 1185.5537 | BR12: =$DO12*BN12 -> 87151.156 | BS12: =$DO12*BO12 -> 0.064094735 | BT12: =$DO12*BP12 -> 3.0179791 | BU12: =BR12+BS12*$HI$8+BT12*$HJ$8 -> 87952.715 | BV12: 2.72 | BW12: =BV12*BI12*BG12*1000000 -> 86697297 | BX12: =BW12/1000 -> 86697.297 | BY12: 188 | BZ12: =BY12/10^6*BG12*10^6 -> 57069.649 | CI12: Hópbifreiðar ≤5t | CJ12: 6 | CN12: Sendibifreiðar | CO12: 1012 | CP12: 592 | CQ12: =CP12/CO12 -> 0.58498024 | CR12: 25.6 | CS12: 9355 | CU12: =CO12/CO34 -> 0.12517007 | CV12: =CP12/CP34 -> 0.11457325 | CW12: =CO12*CS12/1000000 -> 9.46726 | CY12: =CW12/$CW$37 -> 0.0072526353 | DC12: Dísil | DD12: =CY16 -> 0.26199812 | DE12: =DD12*$EB$9 -> 303.56196 | DF12: 10.5 | DG12: =DF12/100 -> 0.105 | DH12: 0.865 | DI12: =DH12*DG12 -> 0.090825 | DJ12: 43 | DK12: =DJ12*DI12 -> 3.905475 | DL12: 73.510933 | DM12: 5.4063124e-05 | DN12: 0.0025456285 | DO12: =DK12*DE12 -> 1185.5537 | DP12: =$DO12*DL12 -> 87151.156 | DQ12: =$DO12*DM12 -> 0.064094735 | DR12: =$DO12*DN12 -> 3.0179791 | DS12: =DP12+DQ12*$HI$8+DR12*$HJ$8 -> 87952.715 | DT12: 2.72 | DU12: =DT12*DG12*DE12*1000000 -> 86697297 | DV12: =DU12/1000 -> 86697.297 | DW12: 188 | DX12: =DW12/10^6*DE12*10^6 -> 57069.649 | EJ12: Sendibifreiðar | EK12: 5931 | EL12: 2894 | EM12: 0.49 | EN12: 29.76 | EO12: 10862 | EQ12: =EK12/EK34 -> 0.18268905 | ER12: =EL12/EL34 -> 0.14985501 | ES12: =EK12*EO12/1000000 -> 64.422522 | EU12: =ES12/$ES$37 -> 0.012963624 | EV12: =ES12/$ES$40 -> 0.067825761 | EY12: Dísil | EZ12: =EV16 -> 0.360728 | FA12: =EZ12*$EX$9 -> 361.1659 | FB12: 10.5 | FC12: =FB12/100 -> 0.105 | FD12: 0.865 | FE12: =FD12*FC12 -> 0.090825 | FF12: 43 | FG12: =FF12*FE12 -> 3.905475 | FH12: 73.510933 | FI12: 5.4063124e-05 | FJ12: 0.0025456285 | FK12: =FG12*FA12 -> 1410.5244 | FL12: =$FK12*FH12 -> 103688.96 | FM12: =$FK12*FI12 -> 0.076257355 | FN12: =$FK12*FJ12 -> 3.590671 | FO12: =FL12+FM12*$HI$8+FN12*$HJ$8 -> 104642.63 | FP12: 2.72 | FQ12: =FP12*FC12*FA12*1000000 -> 1.0314898e+08 | FR12: =FQ12/1000 -> 103148.98 | FS12: 187.9 | FT12: =FS12/10^6*FA12*10^6 -> 67863.072 | GF12: Sendibifreiðar | GG12: 5809 | GH12: 2878 | GI12: 0.5 | GJ12: 30.37 | GK12: 11085 | GM12: =GG12/GG33 -> 0.18217455 | GN12: =GH12/GH33 -> 0.16202218 | GP12: =GK12*GG12/1000000 -> 64.392765 | GQ12: =GP12/$GP$36 -> 0.013105559 | GR12: =GP12/$GP$38 -> 0.069057617 | GU12: Dísil | GV12: =GR16 -> 0.37846413 | GW12: =GV12*$GT$9 -> 360.91223 | GX12: 10.5 | GY12: =GX12/100 -> 0.105 | GZ12: 0.865 | HA12: =GZ12*GY12 -> 0.090825 | HB12: 43 | HC12: =HB12*HA12 -> 3.905475 | HD12: 74.054734 | HE12: 0.00011457692 | HF12: 0.0025659043 | HG12: =HC12*GW12 -> 1409.5337 | HH12: =$HG12*HD12 -> 104382.64 | HI12: =$HG12*HE12 -> 0.16150003 | HJ12: =$HG12*HF12 -> 3.6167286 | HK12: =HH12+HI12*$HI$8+HJ12*$HJ$8 -> 105345.6 | HL12: 2.72 | HM12: =HL12*GY12*GW12*1000000 -> 1.0307653e+08 | HN12: =HM12/1000 -> 103076.53 | HO12: 187.9 | HP12: =HO12/10^6*GW12*10^6 -> 67815.408 | HX12: Sendibifreiðar | HY12: 5806 | HZ12: 2916 | IA12: 0.5 | IB12: 27.27 | IC12: 9954 | IE12: =HY12/HY33 -> 0.19156026 | IF12: =HZ12/HZ33 -> 0.17446452 | IH12: =IC12*HY12/1000000 -> 57.792924 | II12: =IH12/$JZ$36 -> 0.013868168 | IJ12: =IH12/$IH$37 -> 0.080126377 | IM12: Dísil | IN12: =IJ16 -> 0.39091666 | IO12: =IN12*$IL$9 -> 369.90104 | IP12: 10.5 | IQ12: =IP12/100 -> 0.105 | IR12: 0.865 | IS12: =IR12*IQ12 -> 0.090825 | IT12: 43 | IU12: =IT12*IS12 -> 3.905475 | IV12: 74.054734 | IW12: 0.00011457692 | IX12: 0.0025659043 | IY12: =IU12*IO12 -> 1444.6393 | IZ12: =$IY12*IV12 -> 106982.38 | JA12: =$IY12*IW12 -> 0.16552232 | JB12: =$IY12*IX12 -> 3.7068062 | JC12: =IZ12+JA12*$JA$8+JB12*$JB$8 -> 107969.32 | JD12: 2.72 | JE12: =JD12*IQ12*IO12*1000000 -> 1.0564374e+08 | JF12: =JE12/1000 -> 105643.74 | JG12: 187.9 | JH12: =JG12/10^6*IO12*10^6 -> 69504.406 | JP12: Sendibifreiðar | JQ12: 6011 | JR12: 2928 | JS12: 0.49 | JT12: 27.99 | JU12: 10214 | JW12: =JQ12/JQ33 -> 0.20403245 | JX12: =JR12/JR33 -> 0.19220165 | JZ12: =JU12*JQ12/1000000 -> 61.396354 | KA12: =JZ12/$JZ$36 -> 0.014732858 | KD12: Dísil | KE12: =KA16 -> 0.328722 | KF12: =KE12*$LB$9 -> 349.39647 | KG12: 10.5 | KH12: =KG12/100 -> 0.105 | KI12: 0.865 | KJ12: =KI12*KH12 -> 0.090825 | KK12: 43 | KL12: =KK12*KJ12 -> 3.905475 | KM12: 73.367637 | KN12: =0.06636778941357/1000 -> 6.6367789e-05 | KO12: =2.52657658902305/1000 -> 0.0025265766 | KP12: =KL12*KF12 -> 1364.5592 | KQ12: =$KP12*KM12 -> 100114.48 | KR12: =$KP12*KN12 -> 0.090562776 | KS12: =$KP12*KO12 -> 3.4476633 | KT12: =KQ12+KR12*$KR$8+KS12*$KS$8 -> 101030.65 | KU12: 2.72 | KV12: =KU12*KH12*KF12*1000000 -> 99787632 | KW12: =KV12/1000 -> 99787.632 | KX12: 187.9 | KY12: =KX12/10^6*KF12*10^6 -> 65651.597 | LF12: Sendibifreiðar | LG12: 6269 | LH12: 3214 | LI12: 0.51 | LJ12: 29.17 | LK12: 10647 | LM12: =LG12/LG26 -> 0.21662808 | LN12: =LH12/LH26 -> 0.21798698 | LP12: =LK12*LG12/1000000 -> 66.746043 | LQ12: =LP12/$LP$36 -> 0.01571335 | LT12: Dísil | LU12: =LQ16 -> 0.32956545 | LV12: =LU12*MR$9 -> 394.15565 | LW12: 10.5 | LX12: =LW12/100 -> 0.105 | LY12: 0.865 | LZ12: =LY12*LX12 -> 0.090825 | MA12: 43 | MB12: =MA12*LZ12 -> 3.905475 | MC12: 73.367637 | MD12: =0.06636778941357/1000 -> 6.6367789e-05 | ME12: =2.52657658902305/1000 -> 0.0025265766 | MF12: =MB12*LV12 -> 1539.365 | MG12: =$MF12*MC12 -> 112939.57 | MH12: =$MF12*MD12 -> 0.10216425 | MI12: =$MF12*ME12 -> 3.8893236 | MJ12: =MG12+MH12*$KR$8+MI12*$KS$8 -> 113973.1 | MK12: 2.72 | ML12: =MK12*LX12*LV12*1000000 -> 1.1257085e+08 | MM12: =ML12/1000 -> 112570.85 | MN12: 187.9 | MO12: =MN12/10^6*LV12*10^6 -> 74061.846 | MV12: Sendibifreiðar | MW12: 6543 | MX12: 3392 | MY12: 0.52 | MZ12: 27.78 | NA12: 10139 | NC12: =MW12/MW26 -> 0.23318721 | ND12: =MX12/MX26 -> 0.23229695 | NF12: =NA12*MW12/1000000 -> 66.339477 | NG12: =NF12/$LP$36 -> 0.015617637 | NJ12: Dísil | NK12: =NG16 -> 0.31929874 | NL12: =NK12*OH$9 -> 377.68931 | NM12: 10.5 | NN12: =NM12/100 -> 0.105 | NO12: 0.865 | NP12: =NO12*NN12 -> 0.090825 | NQ12: 43 | NR12: =NQ12*NP12 -> 3.905475 | NS12: 73.367637 | NT12: =0.06636778941357/1000 -> 6.6367789e-05 | NU12: =2.52657658902305/1000 -> 0.0025265766 | NV12: =NR12*NL12 -> 1475.0562 | NW12: =$NV12*NS12 -> 108221.38 | NX12: =$NV12*NT12 -> 0.097896216 | NY12: =$NV12*NU12 -> 3.7268424 | NZ12: =NW12+NX12*$KR$8+NY12*$KS$8 -> 109211.74 | OA12: 2.72 | OB12: =OA12*NN12*NL12*1000000 -> 1.0786807e+08 | OC12: =OB12/1000 -> 107868.07 | OD12: 188 | OE12: =OD12/10^6*NL12*10^6 -> 71005.59
B13: Mars | C13: 39314 | D13: 37980.726 | E13: 36152 | F13: 113446.73 | G13: 330125.31 | U13: LÍKAN 2012 | Z13: UPPFÆRSLA 2021 (Líkan 2019) | AC13: UPPFÆRSLA 2024 | AF13: =Z25/AC25 -> 1.2194184 | AK13: Hópbifreiðar >5t | AL13: 3 | AP13: Vörubifreiðar ≤12t | AQ13: 33 | AR13: 31 | AS13: =AR13/AQ13 -> 0.93939394 | AT13: 7.2 | AU13: 2620 | AW13: =AQ13/AQ35 -> 0.034482759 | AX13: =AR13/AR35 -> 0.03329753 | AY13: =AQ13*AU13/1000000 -> 0.08646 | BA13: =AY13/$CW$37 -> 6.6234882e-05 | BE13: Rafmagn | BF13: =BA23 -> 0.092981486 | BG13: =BF13*$EB$9 -> 107.73223 | BH13: 0 | BI13: =BH13/100 -> 0 | BK13: =BJ13*BI13 -> 0 | BL13: 0 | BM13: =BL13*BK13 -> 0 | BN13: 72.335002 | BO13: 0.007163716 | BP13: 0.00047891016 | BQ13: =BM13*BG13 -> 0 | BR13: =$DO13*BN13 -> 0 | BS13: =$DO13*BO13 -> 0 | BT13: =$DO13*BP13 -> 0 | BU13: =BR13+BS13*$HI$8+BT13*$HJ$8 -> 0 | BV13: 2.34 | BW13: =BV13*BI13*BG13*1000000 -> 0 | BX13: =BW13/1000 -> 0 | BY13: 1.6 | BZ13: =BY13/10^6*BG13*10^6 -> 172.37157 | CC13: Fólksbifreiðar | CD13: =SUM(BU11:BU19) -> 181278.92 | CE13: =SUM(BX11:BX19) -> 193297.02 | CF13: =SUM(BZ11:BZ19) -> 160661.7 | CI13: Sendibifreiðar | CJ13: 1012 | CN13: Vörubifreiðar ≤12t | CO13: 33 | CP13: 31 | CQ13: =CP13/CO13 -> 0.93939394 | CR13: 7.2 | CS13: 2620 | CU13: =CO13/CO35 -> 0.034482759 | CV13: =CP13/CP35 -> 0.03329753 | CW13: =CO13*CS13/1000000 -> 0.08646 | CY13: =CW13/$CW$37 -> 6.6234882e-05 | DC13: Rafmagn | DD13: =CY23 -> 0.092981486 | DE13: =DD13*$EB$9 -> 107.73223 | DF13: 0 | DG13: =DF13/100 -> 0 | DI13: =DH13*DG13 -> 0 | DJ13: 0 | DK13: =DJ13*DI13 -> 0 | DL13: 72.335002 | DM13: 0.007163716 | DN13: 0.00047891016 | DO13: =DK13*DE13 -> 0 | DP13: =$DO13*DL13 -> 0 | DQ13: =$DO13*DM13 -> 0 | DR13: =$DO13*DN13 -> 0 | DS13: =DP13+DQ13*$HI$8+DR13*$HJ$8 -> 0 | DT13: 2.34 | DU13: =DT13*DG13*DE13*1000000 -> 0 | DV13: =DU13/1000 -> 0 | DW13: 1.6 | DX13: =DW13/10^6*DE13*10^6 -> 172.37157 | EA13: Fólksbifreiðar | EB13: =SUM(DS11:DS19) -> 181278.92 | EC13: =SUM(DV11:DV19) -> 193297.02 | ED13: =SUM(DX11:DX19) -> 160661.7 | EJ13: Vörubifreiðar ≤12t | EK13: 616 | EL13: 181 | EM13: 0.29 | EN13: 11.78 | EO13: 4300 | EQ13: =EK13/EK35 -> 0.094536525 | ER13: =EL13/EL35 -> 0.047870934 | ES13: =EK13*EO13/1000000 -> 2.6488 | EU13: =ES13/$ES$37 -> 0.00053301307 | EV13: =ES13/$ES$40 -> 0.0027887278 | EY13: Rafmagn | EZ13: =EV23 -> 0.094129257 | FA13: =EZ13*$EX$9 -> 94.243522 | FB13: 0 | FC13: =FB13/100 -> 0 | FE13: =FD13*FC13 -> 0 | FF13: 0 | FG13: =FF13*FE13 -> 0 | FH13: 72.335002 | FI13: 0.007163716 | FJ13: 0.00047891016 | FK13: =FG13*FA13 -> 0 | FL13: =$FK13*FH13 -> 0 | FM13: =$FK13*FI13 -> 0 | FN13: =$FK13*FJ13 -> 0 | FO13: =FL13+FM13*$HI$8+FN13*$HJ$8 -> 0 | FP13: 2.34 | FQ13: =FP13*FC13*FA13*1000000 -> 0 | FR13: =FQ13/1000 -> 0 | FS13: 0 | FT13: =FS13/10^6*FA13*10^6 -> 0 | FW13: Fólksbifreiðar | FX13: =SUM(FO11:FO19) -> 197187.69 | FY13: =SUM(FR11:FR19) -> 203079.33 | FZ13: =SUM(FT11:FT19) -> 171499.41 | GF13: Vörubifreiðar ≤12t | GG13: 619 | GH13: 171 | GI13: 0.28 | GJ13: 14.65 | GK13: 5347 | GM13: =GG13/GG34 -> 0.097265871 | GN13: =GH13/GH34 -> 0.048169014 | GP13: =GK13*GG13/1000000 -> 3.309793 | GQ13: =GP13/$GP$36 -> 0.00067362675 | GR13: =GP13/$GP$38 -> 0.0035495667 | GU13: Rafmagn | GV13: =GR23 -> 0.059959061 | GW13: =GV13*$GT$9 -> 57.17836 | GX13: 0 | GY13: =GX13/100 -> 0 | GZ13: 0 | HA13: =GZ13*GY13 -> 0 | HB13: 0 | HC13: =HB13*HA13 -> 0 | HD13: 70.976974 | HE13: 0.0073169105 | HF13: 0.00060998105 | HG13: =HC13*GW13 -> 0 | HH13: =$HG13*HD13 -> 0 | HI13: =$HG13*HE13 -> 0 | HJ13: =$HG13*HF13 -> 0 | HK13: =HH13+HI13*$HI$8+HJ13*$HJ$8 -> 0 | HL13: 2.34 | HM13: =HL13*GY13*GW13*1000000 -> 0 | HN13: =HM13/1000 -> 0 | HO13: 0 | HP13: =HO13/10^6*GW13*10^6 -> 0 | HR13: Fólksbifreiðar | HS13: =SUM(HK11:HK18) -> 197313.82 | HT13: =SUM(HN11:HN18) -> 202462.65 | HU13: =SUM(HP11:HP18) -> 171796.85 | HX13: Vörubifreiðar ≤12t | HY13: 618 | HZ13: 127 | IA13: 0.21 | IB13: 19.5 | IC13: 7118 | IE13: =HY13/HY34 -> 0.099324976 | IF13: =HZ13/HZ34 -> 0.039937107 | IH13: =IC13*HY13/1000000 -> 4.398924 | II13: =IH13/$JZ$36 -> 0.0010555793 | IJ13: =IH13/$IH$37 -> 0.0060988408 | IM13: Rafmagn | IN13: =IJ23 -> 0.035992775 | IO13: =IN13*$IL$9 -> 34.057809 | IP13: 0 | IQ13: =IP13/100 -> 0 | IR13: 0 | IS13: =IR13*IQ13 -> 0 | IT13: 0 | IU13: =IT13*IS13 -> 0 | IV13: 70.976974 | IW13: 0.0073169105 | IX13: 0.00060998105 | IY13: =IU13*IO13 -> 0 | IZ13: =$IY13*IV13 -> 0 | JA13: =$IY13*IW13 -> 0 | JB13: =$IY13*IX13 -> 0 | JC13: =IZ13+JA13*$JA$8+JB13*$JB$8 -> 0 | JD13: 2.34 | JE13: =JD13*IQ13*IO13*1000000 -> 0 | JF13: =JE13/1000 -> 0 | JG13: 0 | JH13: =JG13/10^6*IO13*10^6 -> 0 | JJ13: Fólksbifreiðar | JK13: =SUM(JC11:JC18) -> 202765.45 | JL13: =SUM(JF11:JF18) -> 206357.93 | JM13: =SUM(JH11:JH18) -> 176258.49 | JP13: Vörubifreiðar ≤12t | JQ13: 624 | JR13: 121 | JS13: 0.19 | JT13: 16.83 | JU13: 6144 | JW13: =JQ13/JQ34 -> 0.10274988 | JX13: =JR13/JR34 -> 0.041466758 | JZ13: =JU13*JQ13/1000000 -> 3.833856 | KA13: =JZ13/$JZ$36 -> 0.00091998388 | KD13: Rafmagn | KE13: =KA23 -> 0.017689023 | KF13: =KE13*$LB$9 -> 18.801547 | KG13: 0 | KH13: =KG13/100 -> 0 | KI13: 0 | KJ13: =KI13*KH13 -> 0 | KK13: 0 | KL13: =KK13*KJ13 -> 0 | KM13: 0 | KN13: 0 | KO13: 0 | KP13: =KL13*KF13 -> 0 | KQ13: =$KP13*KM13 -> 0 | KR13: =$KP13*KN13 -> 0 | KS13: =$KP13*KO13 -> 0 | KT13: =KQ13+KR13*$KR$8+KS13*$KS$8 -> 0 | KU13: 2.34 | KV13: =KU13*KH13*KF13*1000000 -> 0 | KW13: =KV13/1000 -> 0 | KX13: 0 | KY13: =KX13/10^6*KF13*10^6 -> 0 | LA13: Fólksbifreiðar | LB13: =SUM(KT11:KT18) -> 193663.4 | LC13: =SUM(KW11:KW18) -> 194380.13 | LD13: =SUM(KY11:KY18) -> 167348.6 | LF13: Vörubifreiðar ≤12t | LG13: 635 | LH13: 158 | LI13: 0.25 | LJ13: 21.98 | LK13: 8021 | LM13: =LG13/LG27 -> 0.10786479 | LN13: =LH13/LH27 -> 0.053980184 | LP13: =LK13*LG13/1000000 -> 5.093335 | LQ13: =LP13/$LP$36 -> 0.0011990727 | LT13: Annað, þmt rafmagn | LU13: =LQ23 -> 0.05710295 | LV13: =LU13*MR$9 -> 68.294325 | LW13: 3 | LX13: =LW13/100 -> 0.03 | LY13: 0.75 | LZ13: =LY13*LX13 -> 0.0225 | MA13: 43 | MB13: =MA13*LZ13 -> 0.9675 | MC13: 72.416541 | MD13: =7.87852632644844/1000 -> 0.0078785263 | ME13: =0.93521034397128/1000 -> 0.00093521034 | MF13: =MB13*LV13 -> 66.07476 | MG13: =$MF13*MC13 -> 4784.9056 | MH13: =$MF13*MD13 -> 0.52057173 | MI13: =$MF13*ME13 -> 0.061793799 | MJ13: =MG13+MH13*$KR$8+MI13*$KS$8 -> 4815.8569 | MK13: 2.34 | ML13: =MK13*LX13*LV13*1000000 -> 4794261.6 | MM13: =ML13/1000 -> 4794.2616 | MN13: 0 | MO13: =MN13/10^6*LV13*10^6 -> 0 | MQ13: Fólksbifreiðar | MR13: =SUM(MJ11:MJ18) -> 219170.79 | MS13: =SUM(MM11:MM18) -> 214364.28 | MT13: =SUM(MO11:MO18) -> 183393.17 | MV13: Vörubifreiðar ≤12t | MW13: 642 | MX13: 137 | MY13: 0.21 | MZ13: 16.7 | NA13: 6095 | NC13: =MW13/MW27 -> 0.11169102 | ND13: =MX13/MX27 -> 0.049369369 | NF13: =NA13*MW13/1000000 -> 3.91299 | NG13: =NF13/$LP$36 -> 0.00092119592 | NJ13: Annað, þmt rafmagn | NK13: =NG23 -> 0.044497912 | NL13: =NK13*OH$9 -> 52.635303 | NM13: 3 | NN13: =NM13/100 -> 0.03 | NO13: 0.75 | NP13: =NO13*NN13 -> 0.0225 | NQ13: 0 | NR13: =NQ13*NP13 -> 0 | NS13: 72.416541 | NT13: =7.87852632644844/1000 -> 0.0078785263 | NU13: =0.93521034397128/1000 -> 0.00093521034 | NV13: =NR13*NL13 -> 0 | NW13: =$NV13*NS13 -> 0 | NX13: =$NV13*NT13 -> 0 | NY13: =$NV13*NU13 -> 0 | NZ13: =NW13+NX13*$KR$8+NY13*$KS$8 -> 0 | OA13: 2.34 | OB13: =OA13*NN13*NL13*1000000 -> 3694998.2 | OC13: =OB13/1000 -> 3694.9982 | OD13: 0 | OE13: =OD13/10^6*NL13*10^6 -> 0 | OG13: Fólksbifreiðar | OH13: =SUM(NZ11:NZ18) -> 211966.25 | OI13: =SUM(OC11:OC18) -> 210854.95 | OJ13: =SUM(OE11:OE18) -> 180799.5 | OL13: Fólksbifreiðar | OM13: =OH13/(1+$T$24) -> 206184.32 | ON13: =OI13/(1+$T$24) -> 205103.34 | OO13: =OJ13/(1+$T$24) -> 175867.74 | OQ13: Fólksbifreiðar | OR13: =OM13/(1+$T$23) -> 190906.59 | OS13: =ON13/(1+$T$23) -> 189905.71 | OT13: =OO13/(1+$T$23) -> 162836.38
B14: Apríl | C14: 40771.076 | D14: 40551 | E14: 37617 | F14: 118939.08 | G14: 449064.38 | X14: =V18/X18 -> 0.736424 | AK14: Sendibifreiðar | AL14: 1149 | AP14: Vörubifreiðar >12t | AQ14: 2 | AR14: 2 | AS14: =AR14/AQ14 -> 1 | AT14: - | AU14: - | AW14: =AQ14/AQ36 -> 0.0013614704 | AX14: =AR14/AR36 -> 0.0016025641 | AY14: 0 | BA14: =AY14/$CW$37 -> 0 | BE14: Metan | BF14: =BA28 -> 0 | BG14: =BF14*$EB$9 -> 0 | BH14: 0 | BI14: =BH14/100 -> 0 | BJ14: 0 | BK14: =BJ14*BI14 -> 0 | BL14: 0 | BM14: =BL14*BK14 -> 0 | BN14: 72.335002 | BO14: 0.007163716 | BP14: 0.00047891016 | BQ14: =BM14*BG14 -> 0 | BR14: =$DO14*BN14 -> 0 | BS14: =$DO14*BO14 -> 0 | BT14: =$DO14*BP14 -> 0 | BU14: =BR14+BS14*$HI$8+BT14*$HJ$8 -> 0 | BV14: 2.34 | BW14: =BV14*BI14*BG14*1000000 -> 0 | BX14: =BW14/1000 -> 0 | BY14: 2.6 | BZ14: =BY14/10^6*BG14*10^6 -> 0 | CC14: Smáar hópbifreiðar | CD14: =SUM(BU20:BU21) -> 691.96523 | CE14: =SUM(BX20:BX21) -> 676.75897 | CF14: =SUM(BZ20:BZ21) -> 519.85574 | CI14: Vörubifreiðar ≤12t | CJ14: 34 | CN14: Vörubifreiðar >12t | CO14: 2 | CP14: 2 | CQ14: =CP14/CO14 -> 1 | CR14: - | CS14: - | CU14: =CO14/CO36 -> 0.0013614704 | CV14: =CP14/CP36 -> 0.0016025641 | CW14: 0 | CY14: =CW14/$CW$37 -> 0 | DC14: Metan | DD14: =CY28 -> 0 | DE14: =DD14*$EB$9 -> 0 | DF14: 0 | DG14: =DF14/100 -> 0 | DH14: 0 | DI14: =DH14*DG14 -> 0 | DJ14: 0 | DK14: =DJ14*DI14 -> 0 | DL14: 72.335002 | DM14: 0.007163716 | DN14: 0.00047891016 | DO14: =DK14*DE14 -> 0 | DP14: =$DO14*DL14 -> 0 | DQ14: =$DO14*DM14 -> 0 | DR14: =$DO14*DN14 -> 0 | DS14: =DP14+DQ14*$HI$8+DR14*$HJ$8 -> 0 | DT14: 2.34 | DU14: =DT14*DG14*DE14*1000000 -> 0 | DV14: =DU14/1000 -> 0 | DW14: 2.6 | DX14: =DW14/10^6*DE14*10^6 -> 0 | EA14: Smáar hópbifreiðar | EB14: =SUM(DS20:DS21) -> 691.96523 | EC14: =SUM(DV20:DV21) -> 676.75897 | ED14: =SUM(DX20:DX21) -> 519.85574 | EJ14: Vörubifreiðar >12t | EK14: 14 | EL14: 5 | EM14: 0.36 | EN14: - | EO14: - | EQ14: =EK14/EK36 -> 0.0017930328 | ER14: =EL14/EL36 -> 0.0011649581 | ES14: 0 | EU14: =ES14/$ES$37 -> 0 | EV14: =ES14/$ES$40 -> 0 | EY14: Metan | EZ14: =EV28 -> 0.00088286191 | FA14: 4 | FB14: 0 | FC14: =FB14/100 -> 0 | FD14: 0 | FE14: =FD14*FC14 -> 0 | FF14: 0 | FG14: =FF14*FE14 -> 0 | FH14: 72.335002 | FI14: 0.007163716 | FJ14: 0.00047891016 | FK14: =FG14*FA14 -> 0 | FL14: =$FK14*FH14 -> 0 | FM14: =$FK14*FI14 -> 0 | FN14: =$FK14*FJ14 -> 0 | FO14: =FL14+FM14*$HI$8+FN14*$HJ$8 -> 0 | FP14: 2.34 | FQ14: =FP14*FC14*FA14*1000000 -> 0 | FR14: =FQ14/1000 -> 0 | FS14: 0 | FT14: =FS14/10^6*FA14*10^6 -> 0 | FW14: Smáar hópbifreiðar | FX14: =SUM(FO20:FO21) -> 1576.7722 | FY14: =SUM(FR20:FR21) -> 1542.0579 | FZ14: =SUM(FT20:FT21) -> 1524.4355 | GF14: Vörubifreiðar >12t | GG14: 13 | GH14: 3 | GI14: 0.23 | GJ14: - | GK14: - | GM14: =GG14/GG35 -> 0.0017317171 | GN14: =GH14/GH35 -> 0.00075150301 | GP14: 0 | GQ14: =GP14/$GP$36 -> 0 | GR14: =GP14/$GP$38 -> 0 | GU14: Bensín / Rafmagn | GV14: =GR24 -> 0.034949739 | GW14: =GV14*$GT$9 -> 33.328887 | GX14: 4.5 | GY14: =GX14/100 -> 0.045 | GZ14: 0.75 | HA14: =GZ14*GY14 -> 0.03375 | HB14: 44.3 | HC14: =HB14*HA14 -> 1.495125 | HD14: 70.976974 | HE14: 0.0073169105 | HF14: 0.00060998105 | HG14: =HC14*GW14 -> 49.830852 | HH14: =$HG14*HD14 -> 3536.8431 | HI14: =$HG14*HE14 -> 0.36460789 | HJ14: =$HG14*HF14 -> 0.030395875 | HK14: =HH14+HI14*$HI$8+HJ14*$HJ$8 -> 3555.107 | HL14: 3.34 | HM14: =HL14*GY14*GW14*1000000 -> 5009331.7 | HN14: =HM14/1000 -> 5009.3317 | HO14: 138.4 | HP14: =HO14/10^6*GW14*10^6 -> 4612.718 | HR14: Smáar hópbifreiðar | HS14: =SUM(HK19:HK20) -> 1860.0835 | HT14: =SUM(HN19:HN20) -> 1806.4783 | HU14: =SUM(HP19:HP20) -> 1768.1376 | HX14: Vörubifreiðar >12t | HY14: 13 | HZ14: 1 | IA14: 0.08 | IB14: - | IC14: - | IE14: =HY14/HY35 -> 0.0018055556 | IF14: =HZ14/HZ35 -> 0.00028011204 | IH14: 0 | II14: =IH14/$JZ$36 -> 0 | IJ14: =IH14/$IH$37 -> 0 | IM14: Bensín / Rafmagn | IN14: =IJ24 -> 0.029604654 | IO14: =IN14*$IL$9 -> 28.013113 | IP14: 4.5 | IQ14: =IP14/100 -> 0.045 | IR14: 0.75 | IS14: =IR14*IQ14 -> 0.03375 | IT14: 44.3 | IU14: =IT14*IS14 -> 1.495125 | IV14: 70.976974 | IW14: 0.0073169105 | IX14: 0.00060998105 | IY14: =IU14*IO14 -> 41.883106 | IZ14: =$IY14*IV14 -> 2972.7361 | JA14: =$IY14*IW14 -> 0.30645494 | JB14: =$IY14*IX14 -> 0.025547901 | JC14: =IZ14+JA14*$JA$8+JB14*$JB$8 -> 2988.0871 | JD14: 3.34 | JE14: =JD14*IQ14*IO14*1000000 -> 4210370.9 | JF14: =JE14/1000 -> 4210.3709 | JG14: 138.4 | JH14: =JG14/10^6*IO14*10^6 -> 3877.0149 | JJ14: Smáar hópbifreiðar | JK14: =SUM(JC19:JC20) -> 1587.3665 | JL14: =SUM(JF19:JF20) -> 1542.5981 | JM14: =SUM(JH19:JH20) -> 1520.8297 | JP14: Vörubifreiðar >12t | JQ14: 13 | JR14: 1 | JS14: 0.08 | JT14: - | JU14: - | JW14: =JQ14/JQ35 -> 0.0018465909 | JX14: =JR14/JR35 -> 0.0002895194 | JZ14: 0 | KA14: =JZ14/$JZ$36 -> 0 | KD14: Bensín / Rafmagn | KE14: =KA24 -> 0.019460267 | KF14: =KE14*$LB$9 -> 20.68419 | KG14: 4.5 | KH14: =KG14/100 -> 0.045 | KI14: 0.75 | KJ14: =KI14*KH14 -> 0.03375 | KK14: 44.3 | KL14: =KK14*KJ14 -> 1.495125 | KM14: 72.416541 | KN14: =7.87852632644844/1000 -> 0.0078785263 | KO14: =0.93521034397128/1000 -> 0.00093521034 | KP14: =KL14*KF14 -> 30.92545 | KQ14: =$KP14*KM14 -> 2239.5141 | KR14: =$KP14*KN14 -> 0.24364697 | KS14: =$KP14*KO14 -> 0.028921801 | KT14: =KQ14+KR14*$KR$8+KS14*$KS$8 -> 2254.0005 | KU14: 3.34 | KV14: =KU14*KH14*KF14*1000000 -> 3108833.8 | KW14: =KV14/1000 -> 3108.8338 | KX14: 138.4 | KY14: =KX14/10^6*KF14*10^6 -> 2862.6919 | LA14: Smáar hópbifreiðar | LB14: =SUM(KT19:KT20) -> 1799.3914 | LC14: =SUM(KW19:KW20) -> 1763.1858 | LD14: =SUM(KY19:KY20) -> 1728.0202 | LF14: Vörubifreiðar >12t | LG14: 13 | LH14: 0 | LI14: 0 | LJ14: 0 | LK14: 0 | LM14: =LG14/LG28 -> 0.0018675478 | LN14: =LH14/LH28 -> 0 | LP14: =LK14*LG14/1000000 -> 0 | LQ14: =LP14/$LP$36 -> 0 | LT14: Bensín / Rafmagn | LU14: 0 | LV14: =LU14*MR$9 -> 0 | LW14: 4.5 | LX14: =LW14/100 -> 0.045 | LY14: 0.75 | LZ14: =LY14*LX14 -> 0.03375 | MA14: 44.3 | MB14: =MA14*LZ14 -> 1.495125 | MC14: 73.416541 | MD14: =7.87852632644844/1000 -> 0.0078785263 | ME14: =0.93521034397128/1000 -> 0.00093521034 | MF14: =MB14*LV14 -> 0 | MG14: =$MF14*MC14 -> 0 | MH14: =$MF14*MD14 -> 0 | MI14: =$MF14*ME14 -> 0 | MJ14: =MG14+MH14*$KR$8+MI14*$KS$8 -> 0 | MK14: 3.34 | ML14: =MK14*LX14*LV14*1000000 -> 0 | MM14: =ML14/1000 -> 0 | MN14: 138.4 | MO14: =MN14/10^6*LV14*10^6 -> 0 | MQ14: Smáar hópbifreiðar | MR14: =SUM(MJ19:MJ20) -> 2514.4429 | MS14: =SUM(MM19:MM20) -> 2501.1292 | MT14: =SUM(MO19:MO20) -> 2452.4596 | MV14: Vörubifreiðar >12t | MW14: 12 | MX14: 2 | MY14: 0.17 | MZ14: 3.46 | NA14: 1263 | NC14: =MW14/MW28 -> 0.0017817372 | ND14: =MX14/MX28 -> 0.00061862048 | NF14: =NA14*MW14/1000000 -> 0.015156 | NG14: =NF14/$LP$36 -> 3.5680248e-06 | NJ14: Bensín / Rafmagn | NK14: 0 | NL14: =NK14*OH$9 -> 0 | NM14: 4 | NN14: =NM14/100 -> 0.04 | NO14: 0.75 | NP14: =NO14*NN14 -> 0.03 | NQ14: 44.3 | NR14: =NQ14*NP14 -> 1.329 | NS14: 73.416541 | NT14: =7.87852632644844/1000 -> 0.0078785263 | NU14: =0.93521034397128/1000 -> 0.00093521034 | NV14: =NR14*NL14 -> 0 | NW14: =$NV14*NS14 -> 0 | NX14: =$NV14*NT14 -> 0 | NY14: =$NV14*NU14 -> 0 | NZ14: =NW14+NX14*$KR$8+NY14*$KS$8 -> 0 | OA14: 3.34 | OB14: =OA14*NN14*NL14*1000000 -> 0 | OC14: =OB14/1000 -> 0 | OD14: 137 | OE14: =OD14/10^6*NL14*10^6 -> 0 | OG14: Smáar hópbifreiðar | OH14: =SUM(NZ19:NZ20) -> 2645.674 | OI14: =SUM(OC19:OC20) -> 2632.2061 | OJ14: =SUM(OE19:OE20) -> 2577.152 | OL14: Smáar hópbifreiðar | OM14: =OH14/(1+$T$24) -> 2573.5065 | ON14: =OI14/(1+$T$24) -> 2560.4059 | OO14: =OJ14/(1+$T$24) -> 2506.8536 | OQ14: Smáar hópbifreiðar | OR14: =OM14/(1+$T$23) -> 2382.8161 | OS14: =ON14/(1+$T$23) -> 2370.6863 | OT14: =OO14/(1+$T$23) -> 2321.1021
B15: Maí | C15: 40229 | D15: 40965 | E15: 39578 | F15: 120772 | G15: 569836.38 | S15: 2019 | V15: =Y25/V25 -> 0.88264369 | AA15: Meðalvegalengd (2012) | AK15: Vörubifreiðar ≤12t | AL15: 39 | AP15: Dísel | AV15: =SUM(AQ9:AQ14) -> 39388 | AY15: =AQ15*AU15/1000000 -> 0 | BA15: =AY15/$CW$37 -> 0 | BE15: Bensín / Rafmagn | BF15: =BA24 -> 0.059256607 | BG15: =BF15*$EB$9 -> 68.657179 | BH15: 4.5 | BI15: =BH15/100 -> 0.045 | BJ15: 0.75 | BK15: =BJ15*BI15 -> 0.03375 | BL15: 44.3 | BM15: =BL15*BK15 -> 1.495125 | BN15: 72.335002 | BO15: 0.007163716 | BP15: 0.00047891016 | BQ15: =BM15*BG15 -> 102.65107 | BR15: =$DO15*BN15 -> 7425.265 | BS15: =$DO15*BO15 -> 0.73536307 | BT15: =$DO15*BP15 -> 0.049160638 | BU15: =BR15+BS15*$HI$8+BT15*$HJ$8 -> 7458.8828 | BV15: 3.34 | BW15: =BV15*BI15*BG15*1000000 -> 10319174 | BX15: =BW15/1000 -> 10319.174 | BY15: 137 | BZ15: =BY15/10^6*BG15*10^6 -> 9406.0336 | CC15: Sendibílar | CD15: =SUM(BU22:BU23) -> 38080.301 | CE15: =SUM(BX22:BX23) -> 37361.342 | CF15: =SUM(BZ22:BZ23) -> 25857.626 | CI15: Vörubifreiðar >12t | CJ15: 2 | CN15: Dísel | CT15: =SUM(CO9:CO14) -> 39388 | CW15: =CO15*CS15/1000000 -> 0 | CY15: =CW15/$CW$37 -> 0 | DC15: Bensín / Rafmagn | DD15: =CY24 -> 0.059256607 | DE15: =DD15*$EB$9 -> 68.657179 | DF15: 4.5 | DG15: =DF15/100 -> 0.045 | DH15: 0.75 | DI15: =DH15*DG15 -> 0.03375 | DJ15: 44.3 | DK15: =DJ15*DI15 -> 1.495125 | DL15: 72.335002 | DM15: 0.007163716 | DN15: 0.00047891016 | DO15: =DK15*DE15 -> 102.65107 | DP15: =$DO15*DL15 -> 7425.265 | DQ15: =$DO15*DM15 -> 0.73536307 | DR15: =$DO15*DN15 -> 0.049160638 | DS15: =DP15+DQ15*$HI$8+DR15*$HJ$8 -> 7458.8828 | DT15: 3.34 | DU15: =DT15*DG15*DE15*1000000 -> 10319174 | DV15: =DU15/1000 -> 10319.174 | DW15: 137 | DX15: =DW15/10^6*DE15*10^6 -> 9406.0336 | EA15: Sendibílar | EB15: =SUM(DS22:DS23) -> 38080.301 | EC15: =SUM(DV22:DV23) -> 37361.342 | ED15: =SUM(DX22:DX23) -> 25857.626 | EJ15: Dísel | EP15: =SUM(EK9:EK14) -> 147513 | ES15: =EK15*EO15/1000000 -> 0 | EU15: =ES15/$ES$37 -> 0 | EV15: =ES15/$ES$40 -> 0 | EY15: Bensín / Rafmagn | EZ15: =EV24 -> 0.04573046 | FA15: =EZ15*$EX$9 -> 45.785973 | FB15: 4.5 | FC15: =FB15/100 -> 0.045 | FD15: 0.75 | FE15: =FD15*FC15 -> 0.03375 | FF15: 44.3 | FG15: =FF15*FE15 -> 1.495125 | FH15: 72.335002 | FI15: 0.007163716 | FJ15: 0.00047891016 | FK15: =FG15*FA15 -> 68.455753 | FL15: =$FK15*FH15 -> 4951.747 | FM15: =$FK15*FI15 -> 0.49039757 | FN15: =$FK15*FJ15 -> 0.032784155 | FO15: =FL15+FM15*$HI$8+FN15*$HJ$8 -> 4974.166 | FP15: 3.34 | FQ15: =FP15*FC15*FA15*1000000 -> 6881631.7 | FR15: =FQ15/1000 -> 6881.6317 | FS15: 138.4 | FT15: =FS15/10^6*FA15*10^6 -> 6336.7786 | FW15: Sendibílar | FX15: =SUM(FO22:FO23) -> 41319.283 | FY15: =SUM(FR22:FR23) -> 40516.868 | FZ15: =SUM(FT22:FT23) -> 28675.27 | GF15: Dísel | GL15: =SUM(GK9:GK14) -> 39811 | GP15: =GK15*GG15/1000000 -> 0 | GQ15: =GP15/$GP$36 -> 0 | GR15: =GP15/$GP$38 -> 0 | GU15: Bensín / Raftengill | GV15: =GR25 -> 0.074825272 | GW15: =GV15*$GT$9 -> 71.355125 | GX15: 4.5 | GY15: =GX15/100 -> 0.045 | GZ15: 0.75 | HA15: =GZ15*GY15 -> 0.03375 | HB15: 44.3 | HC15: =HB15*HA15 -> 1.495125 | HD15: 70.976974 | HE15: 0.0073169105 | HF15: 0.00060998105 | HG15: =HC15*GW15 -> 106.68483 | HH15: =$HG15*HD15 -> 7572.1666 | HI15: =$HG15*HE15 -> 0.78060337 | HJ15: =$HG15*HF15 -> 0.065075726 | HK15: =HH15+HI15*$HI$8+HJ15*$HJ$8 -> 7611.2685 | HL15: 4.34 | HM15: =HL15*GY15*GW15*1000000 -> 13935656 | HN15: =HM15/1000 -> 13935.656 | HO15: 138.4 | HP15: =HO15/10^6*GW15*10^6 -> 9875.5494 | HR15: Sendibílar | HS15: =SUM(HK21:HK22) -> 37585.888 | HT15: =SUM(HN21:HN22) -> 36812.863 | HU15: =SUM(HP21:HP22) -> 26129.216 | HX15: Dísel | ID15: =SUM(IC9:IC14) -> 43253 | IH15: =IC15*HY15/1000000 -> 0 | II15: =IH15/$JZ$36 -> 0 | IJ15: =IH15/$IH$37 -> 0 | IM15: Bensín / Raftengill | IN15: =IJ25 -> 0.061302829 | IO15: =IN15*$IL$9 -> 58.007199 | IP15: 4.5 | IQ15: =IP15/100 -> 0.045 | IR15: 0.75 | IS15: =IR15*IQ15 -> 0.03375 | IT15: 44.3 | IU15: =IT15*IS15 -> 1.495125 | IV15: 70.976974 | IW15: 0.0073169105 | IX15: 0.00060998105 | IY15: =IU15*IO15 -> 86.728013 | IZ15: =$IY15*IV15 -> 6155.692 | JA15: =$IY15*IW15 -> 0.63458111 | JB15: =$IY15*IX15 -> 0.052902444 | JC15: =IZ15+JA15*$JA$8+JB15*$JB$8 -> 6187.4794 | JD15: 4.34 | JE15: =JD15*IQ15*IO15*1000000 -> 11328806 | JF15: =JE15/1000 -> 11328.806 | JG15: 138.4 | JH15: =JG15/10^6*IO15*10^6 -> 8028.1963 | JJ15: Sendibílar | JK15: =SUM(JC21:JC22) -> 39874.261 | JL15: =SUM(JF21:JF22) -> 39057.476 | JM15: =SUM(JH21:JH22) -> 27830.363 | JP15: Dísel | JV15: =SUM(JU9:JU14) -> 42302 | JZ15: =JU15*JQ15/1000000 -> 0 | KA15: =JZ15/$JZ$36 -> 0 | KD15: Bensín / Raftengill | KE15: =KA25 -> 0.038165634 | KF15: =KE15*$LB$9 -> 40.566003 | KG15: 4.5 | KH15: =KG15/100 -> 0.045 | KI15: 0.75 | KJ15: =KI15*KH15 -> 0.03375 | KK15: 44.3 | KL15: =KK15*KJ15 -> 1.495125 | KM15: 72.416541 | KN15: =7.87852632644844/1000 -> 0.0078785263 | KO15: =0.93521034397128/1000 -> 0.00093521034 | KP15: =KL15*KF15 -> 60.651245 | KQ15: =$KP15*KM15 -> 4392.1534 | KR15: =$KP15*KN15 -> 0.47784243 | KS15: =$KP15*KO15 -> 0.056721672 | KT15: =KQ15+KR15*$KR$8+KS15*$KS$8 -> 4420.5642 | KU15: 4.34 | KV15: =KU15*KH15*KF15*1000000 -> 7922540.4 | KW15: =KV15/1000 -> 7922.5404 | KX15: 138.4 | KY15: =KX15/10^6*KF15*10^6 -> 5614.3348 | LA15: Sendibílar | LB15: =SUM(KT21:KT22) -> 33730.286 | LC15: =SUM(KW21:KW22) -> 33217.933 | LD15: =SUM(KY21:KY22) -> 23769.258 | LF15: Dísel | LL15: =SUM(LK9:LK14) -> 68289 | LP15: =LK15*LG15/1000000 -> 0 | LQ15: =LP15/$LP$36 -> 0 | LT15: Bensín / Raftengill | LU15: 0 | LV15: =LU15*MR$9 -> 0 | LW15: 4.5 | LX15: =LW15/100 -> 0.045 | LY15: 0.75 | LZ15: =LY15*LX15 -> 0.03375 | MA15: 44.3 | MB15: =MA15*LZ15 -> 1.495125 | MC15: 74.416541 | MD15: =7.87852632644844/1000 -> 0.0078785263 | ME15: =0.93521034397128/1000 -> 0.00093521034 | MF15: =MB15*LV15 -> 0 | MG15: =$MF15*MC15 -> 0 | MH15: =$MF15*MD15 -> 0 | MI15: =$MF15*ME15 -> 0 | MJ15: =MG15+MH15*$KR$8+MI15*$KS$8 -> 0 | MK15: 4.34 | ML15: =MK15*LX15*LV15*1000000 -> 0 | MM15: =ML15/1000 -> 0 | MN15: 138.4 | MO15: =MN15/10^6*LV15*10^6 -> 0 | MQ15: Sendibílar | MR15: =SUM(MJ21:MJ22) -> 37429.789 | MS15: =SUM(MM21:MM22) -> 36887.91 | MT15: =SUM(MO21:MO22) -> 26509.156 | MV15: Dísel | NB15: =SUM(NA9:NA14) -> 67784 | NF15: =NA15*MW15/1000000 -> 0 | NG15: =NF15/$LP$36 -> 0 | NJ15: Bensín / Raftengill | NK15: 0 | NL15: =NK15*OH$9 -> 0 | NM15: 4 | NN15: =NM15/100 -> 0.04 | NO15: 0.75 | NP15: =NO15*NN15 -> 0.03 | NQ15: 44.3 | NR15: =NQ15*NP15 -> 1.329 | NS15: 74.416541 | NT15: =7.87852632644844/1000 -> 0.0078785263 | NU15: =0.93521034397128/1000 -> 0.00093521034 | NV15: =NR15*NL15 -> 0 | NW15: =$NV15*NS15 -> 0 | NX15: =$NV15*NT15 -> 0 | NY15: =$NV15*NU15 -> 0 | NZ15: =NW15+NX15*$KR$8+NY15*$KS$8 -> 0 | OA15: 4.34 | OB15: =OA15*NN15*NL15*1000000 -> 0 | OC15: =OB15/1000 -> 0 | OD15: 137 | OE15: =OD15/10^6*NL15*10^6 -> 0 | OG15: Sendibílar | OH15: =SUM(NZ21:NZ22) -> 35788.298 | OI15: =SUM(OC21:OC22) -> 35266.572 | OJ15: =SUM(OE21:OE22) -> 25385.096 | OL15: Sendibílar | OM15: =OH15/(1+$T$24) -> 34812.081 | ON15: =OI15/(1+$T$24) -> 34304.586 | OO15: =OJ15/(1+$T$24) -> 24692.652 | OQ15: Sendibílar | OR15: =OM15/(1+$T$23) -> 32232.594 | OS15: =ON15/(1+$T$23) -> 31762.703 | OT15: =OO15/(1+$T$23) -> 22862.989
B16: Júní | C16: 39072 | D16: 41329 | E16: 40381 | F16: 120782 | G16: 690618.38 | W16: 0.16 | X16: 0.0194 | Y16: 0.65 | AA16: 4.97 | AB16: km | AF16: 0.65 | AK16: Vörubifreiðar >12t | AL16: 2 | AP16: Fólksbifreiðar | AQ16: 23596 | AR16: 16948 | AS16: =AR16/AQ16 -> 0.71825733 | AT16: 39.7 | AU16: 14494 | AW16: =AQ16/AQ31 -> 0.27434976 | AX16: =AR16/AR31 -> 0.31599948 | AY16: =AQ16*AU16/1000000 -> 342.00042 | BA16: =AY16/$CW$37 -> 0.26199812 | BE16: Bensín / Raftengill | BF16: =BA25 -> 0.1026905 | BG16: =BF16*$EB$9 -> 118.9815 | BH16: 4.5 | BI16: =BH16/100 -> 0.045 | BJ16: 0.75 | BK16: =BJ16*BI16 -> 0.03375 | BL16: 44.3 | BM16: =BL16*BK16 -> 1.495125 | BN16: 72.335002 | BO16: 0.007163716 | BP16: 0.00047891016 | BQ16: =BM16*BG16 -> 177.89221 | BR16: =$DO16*BN16 -> 12867.833 | BS16: =$DO16*BO16 -> 1.2743693 | BT16: =$DO16*BP16 -> 0.085194387 | BU16: =BR16+BS16*$HI$8+BT16*$HJ$8 -> 12926.092 | BV16: 4.34 | BW16: =BV16*BI16*BG16*1000000 -> 23237086 | BX16: =BW16/1000 -> 23237.086 | BY16: 137 | BZ16: =BY16/10^6*BG16*10^6 -> 16300.465 | CC16: Stærri hópbifreiðar | CD16: =SUM(BU24:BU25) -> 15016.496 | CE16: =SUM(BX24:BX25) -> 14831.239 | CF16: =SUM(BZ24:BZ25) -> 19683.029 | CI16: Bifhjól | CJ16: 2905 | CN16: Fólksbifreiðar | CO16: 23596 | CP16: 16948 | CQ16: =CP16/CO16 -> 0.71825733 | CR16: 39.7 | CS16: 14494 | CU16: =CO16/CO31 -> 0.27434976 | CV16: =CP16/CP31 -> 0.31599948 | CW16: =CO16*CS16/1000000 -> 342.00042 | CY16: =CW16/$CW$37 -> 0.26199812 | DC16: Bensín / Raftengill | DD16: =CY25 -> 0.1026905 | DE16: =DD16*$EB$9 -> 118.9815 | DF16: 4.5 | DG16: =DF16/100 -> 0.045 | DH16: 0.75 | DI16: =DH16*DG16 -> 0.03375 | DJ16: 44.3 | DK16: =DJ16*DI16 -> 1.495125 | DL16: 72.335002 | DM16: 0.007163716 | DN16: 0.00047891016 | DO16: =DK16*DE16 -> 177.89221 | DP16: =$DO16*DL16 -> 12867.833 | DQ16: =$DO16*DM16 -> 1.2743693 | DR16: =$DO16*DN16 -> 0.085194387 | DS16: =DP16+DQ16*$HI$8+DR16*$HJ$8 -> 12926.092 | DT16: 4.34 | DU16: =DT16*DG16*DE16*1000000 -> 23237086 | DV16: =DU16/1000 -> 23237.086 | DW16: 137 | DX16: =DW16/10^6*DE16*10^6 -> 16300.465 | EA16: Stærri hópbifreiðar | EB16: =SUM(DS24:DS25) -> 15016.496 | EC16: =SUM(DV24:DV25) -> 14831.239 | ED16: =SUM(DX24:DX25) -> 19683.029 | EJ16: Fólksbifreiðar | EK16: 91558 | EL16: 59550 | EM16: 0.65 | EN16: 43.39 | EO16: 15837 | EQ16: =EK16/EK31 -> 0.30594801 | ER16: =EL16/EL31 -> 0.37473334 | ES16: =EK16*EO16/1000000 -> 1450.004 | EU16: =ES16/$ES$37 -> 0.2917816 | EV16: =ES16/$ES$31 -> 0.360728 | EY16: Bensín / Raftengill | EZ16: =EV25 -> 0.082722885 | FA16: =EZ16*$EX$9 -> 82.823304 | FB16: 4.5 | FC16: =FB16/100 -> 0.045 | FD16: 0.75 | FE16: =FD16*FC16 -> 0.03375 | FF16: 44.3 | FG16: =FF16*FE16 -> 1.495125 | FH16: 72.335002 | FI16: 0.007163716 | FJ16: 0.00047891016 | FK16: =FG16*FA16 -> 123.83119 | FL16: =$FK16*FH16 -> 8957.3296 | FM16: =$FK16*FI16 -> 0.88709149 | FN16: =$FK16*FJ16 -> 0.059304016 | FO16: =FL16+FM16*$HI$8+FN16*$HJ$8 -> 8997.8838 | FP16: 4.34 | FQ16: =FP16*FC16*FA16*1000000 -> 16175391 | FR16: =FQ16/1000 -> 16175.391 | FS16: 138.4 | FT16: =FS16/10^6*FA16*10^6 -> 11462.745 | FW16: Stærri hópbifreiðar | FX16: =SUM(FO24:FO25) -> 12193.568 | FY16: =SUM(FR24:FR25) -> 12043.137 | FZ16: =SUM(FT24:FT25) -> 16717.306 | GF16: Fólksbifreiðar | GG16: 90386 | GH16: 55074 | GI16: 0.61 | GJ16: 45.67 | GK16: 16669 | GM16: =GG16/GG30 -> 0.31433142 | GN16: =GH16/GH30 -> 0.37226499 | GP16: =GK16*GG16/1000000 -> 1506.6442 | GQ16: =GP16/$GP$36 -> 0.30664028 | GR16: =GP16/$GP$30 -> 0.37846413 | GU16: Dísel / Rafmagn | GV16: 0 | GW16: =GV16*$GT$9 -> 0 | GX16: 4.5 | GY16: =GX16/100 -> 0.045 | GZ16: 0.865 | HA16: =GZ16*GY16 -> 0.038925 | HB16: 43 | HC16: =HB16*HA16 -> 1.673775 | HD16: 74.054734 | HE16: 0.00011457692 | HF16: 0.0025659043 | HG16: =HC16*GW16 -> 0 | HH16: =$HG16*HD16 -> 0 | HI16: =$HG16*HE16 -> 0 | HJ16: =$HG16*HF16 -> 0 | HK16: =HH16+HI16*$HI$8+HJ16*$HJ$8 -> 0 | HL16: 5.34 | HM16: =HL16*GY16*GW16*1000000 -> 0 | HN16: =HM16/1000 -> 0 | HO16: 138.4 | HP16: =HO16/10^6*GW16*10^6 -> 0 | HR16: Stærri hópbifreiðar | HS16: =SUM(HK23:HK24) -> 10601.08 | HT16: =SUM(HN23:HN24) -> 10348.636 | HU16: =SUM(HP23:HP24) -> 14365.07 | HX16: Fólksbifreiðar | HY16: 88778 | HZ16: 51515 | IA16: 0.58 | IB16: 42.2 | IC16: 15404 | IE16: =HY16/HY30 -> 0.32252533 | IF16: =HZ16/HZ30 -> 0.36238613 | IH16: =IC16*HY16/1000000 -> 1367.5363 | II16: =IH16/$JZ$36 -> 0.32815822 | IJ16: =IH16/$IH$30 -> 0.39091666 | IM16: Dísel / Rafmagn | IN16: 0 | IO16: =IN16*$IL$9 -> 0 | IP16: 4.5 | IQ16: =IP16/100 -> 0.045 | IR16: 0.865 | IS16: =IR16*IQ16 -> 0.038925 | IT16: 43 | IU16: =IT16*IS16 -> 1.673775 | IV16: 74.054734 | IW16: 0.00011457692 | IX16: 0.0025659043 | IY16: =IU16*IO16 -> 0 | IZ16: =$IY16*IV16 -> 0 | JA16: =$IY16*IW16 -> 0 | JB16: =$IY16*IX16 -> 0 | JC16: =IZ16+JA16*$JA$8+JB16*$JB$8 -> 0 | JD16: 5.34 | JE16: =JD16*IQ16*IO16*1000000 -> 0 | JF16: =JE16/1000 -> 0 | JG16: 138.4 | JH16: =JG16/10^6*IO16*10^6 -> 0 | JJ16: Stærri hópbifreiðar | JK16: =SUM(JC23:JC24) -> 9179.381 | JL16: =SUM(JF23:JF24) -> 8960.8084 | JM16: =SUM(JH23:JH24) -> 12438.56 | JP16: Fólksbifreiðar | JQ16: 88209 | JR16: 44654 | JS16: 0.51 | JT16: 42.55 | JU16: 15530 | JW16: =JQ16/JQ30 -> 0.32716652 | JX16: =JR16/JR30 -> 0.337886 | JZ16: =JU16*JQ16/1000000 -> 1369.8858 | KA16: =JZ16/$JZ$36 -> 0.328722 | KD16: Dísel / Rafmagn | KE16: 0 | KF16: =KE16*$LB$9 -> 0 | KG16: 4.5 | KH16: =KG16/100 -> 0.045 | KI16: 0.865 | KJ16: =KI16*KH16 -> 0.038925 | KK16: 43 | KL16: =KK16*KJ16 -> 1.673775 | KM16: 73.367637 | KN16: =0.06636778941357/1000 -> 6.6367789e-05 | KO16: =2.52657658902305/1000 -> 0.0025265766 | KP16: =KL16*KF16 -> 0 | KQ16: =$KP16*KM16 -> 0 | KR16: =$KP16*KN16 -> 0 | KS16: =$KP16*KO16 -> 0 | KT16: =KQ16+KR16*$KR$8+KS16*$KS$8 -> 0 | KU16: 5.34 | KV16: =KU16*KH16*KF16*1000000 -> 0 | KW16: =KV16/1000 -> 0 | KX16: 138.4 | KY16: =KX16/10^6*KF16*10^6 -> 0 | LA16: Stærri hópbifreiðar | LB16: =SUM(KT23:KT24) -> 10668.041 | LC16: =SUM(KW23:KW24) -> 10534.894 | LD16: =SUM(KY23:KY24) -> 14623.545 | LF16: Fólksbifreiðar | LG16: 87423 | LH16: 38834 | LI16: 0.44 | LJ16: 43.87 | LK16: 16013 | LM16: =LG16/LG23 -> 0.32399889 | LN16: =LH16/LH23 -> 0.30740125 | LP16: =LK16*LG16/1000000 -> 1399.9045 | LQ16: =LP16/$LP$36 -> 0.32956545 | LT16: Dísel / Rafmagn | LU16: 0 | LV16: =LU16*MR$9 -> 0 | LW16: 4.5 | LX16: =LW16/100 -> 0.045 | LY16: 0.865 | LZ16: =LY16*LX16 -> 0.038925 | MA16: 43 | MB16: =MA16*LZ16 -> 1.673775 | MC16: 75.416541 | MD16: =7.87852632644844/1000 -> 0.0078785263 | ME16: =0.93521034397128/1000 -> 0.00093521034 | MF16: =MB16*LV16 -> 0 | MG16: =$MF16*MC16 -> 0 | MH16: =$MF16*MD16 -> 0 | MI16: =$MF16*ME16 -> 0 | MJ16: =MG16+MH16*$KR$8+MI16*$KS$8 -> 0 | MK16: 5.34 | ML16: =MK16*LX16*LV16*1000000 -> 0 | MM16: =ML16/1000 -> 0 | MN16: 138.4 | MO16: =MN16/10^6*LV16*10^6 -> 0 | MQ16: Stærri hópbifreiðar | MR16: =SUM(MJ23:MJ24) -> 13569.745 | MS16: =SUM(MM23:MM24) -> 13399.877 | MT16: =SUM(MO23:MO24) -> 18600.087 | MV16: Fólksbifreiðar | MW16: 84557 | MX16: 37498 | MY16: 0.44 | MZ16: 43.95 | NA16: 16040 | NC16: =MW16/MW23 -> 0.31623925 | ND16: =MX16/MX23 -> 0.28665128 | NF16: =NA16*MW16/1000000 -> 1356.2943 | NG16: =NF16/$LP$36 -> 0.31929874 | NJ16: Dísel / Rafmagn | NK16: 0 | NL16: =NK16*OH$9 -> 0 | NM16: 4 | NN16: =NM16/100 -> 0.04 | NO16: 0.865 | NP16: =NO16*NN16 -> 0.0346 | NQ16: 43 | NR16: =NQ16*NP16 -> 1.4878 | NS16: 75.416541 | NT16: =7.87852632644844/1000 -> 0.0078785263 | NU16: =0.93521034397128/1000 -> 0.00093521034 | NV16: =NR16*NL16 -> 0 | NW16: =$NV16*NS16 -> 0 | NX16: =$NV16*NT16 -> 0 | NY16: =$NV16*NU16 -> 0 | NZ16: =NW16+NX16*$KR$8+NY16*$KS$8 -> 0 | OA16: 5.34 | OB16: =OA16*NN16*NL16*1000000 -> 0 | OC16: =OB16/1000 -> 0 | OD16: 137 | OE16: =OD16/10^6*NL16*10^6 -> 0 | OG16: Stærri hópbifreiðar | OH16: =SUM(NZ23:NZ24) -> 13164.734 | OI16: =SUM(OC23:OC24) -> 12999.854 | OJ16: =SUM(OE23:OE24) -> 18044.764 | OL16: Stærri hópbifreiðar | OM16: =OH16/(1+$T$24) -> 12805.633 | ON16: =OI16/(1+$T$24) -> 12645.25 | OO16: =OJ16/(1+$T$24) -> 17552.547 | OQ16: Stærri hópbifreiðar | OR16: =OM16/(1+$T$23) -> 11856.768 | OS16: =ON16/(1+$T$23) -> 11708.269 | OT16: =OO16/(1+$T$23) -> 16251.948
