Workbook

Sheet Almennir losunarliðir
A1: Umhverfi
A3: Losun (án landnotkunar og skógræktar) | B3: Einingar | C3: 2015 | D3: 2016 | E3: 2017 | F3: 2018 | G3: 2019 | H3: 2020 | I3: 2021
A4: Samtals | B4: tCO2í | C4: =SUM(C5:C8) -> 4792599.9 | D4: =SUM(D5:D8) -> 4742974.3 | E4: =SUM(E5:E8) -> 4820511.6 | F4: =SUM(F5:F8) -> 4847521.3 | G4: =SUM(G5:G8) -> 4739230.8 | H4: =SUM(H5:H8) -> 2869700 | K4: https://www.ust.is/loft/losun-grodurhusalofttegunda/losun-islands/
A5: Orka | B5: tCO2í | C5: 1852173.3 | D5: 1827497.9 | E5: 1870516.2 | F5: 1912881.1 | G5: 1854913.2
A6: Iðnaður og efnanotkun | B6: tCO2í | C6: 1998359.9 | D6: 1986578.5 | E6: 2024053.9 | F6: 2022534.9 | G6: 2024369.7 | H6: 1986000
A7: Landbúnaður | B7: tCO2í | C7: 652566.77 | D7: 654297.8 | E7: 655941.52 | F7: 631905.28 | G7: 618847.81 | H7: 618000
A8: Úrgangur | B8: tCO2í | C8: 289500 | D8: 274600 | E8: 270000 | F8: 280200 | G8: 241100 | H8: 265700 | I8: 268500
A10: Orka | B10: Einingar | C10: 2015 | D10: 2016 | E10: 2017 | F10: 2018 | G10: 2019 | H10: 2020 | I10: 2021
A11: Samtals | B11: tCO2í | C11: =SUM(C12:C19) -> 1852173.3 | D11: =SUM(D12:D19) -> 1827497.9 | E11: =SUM(E12:E19) -> 1870516.2 | F11: =SUM(F12:F19) -> 1912881.1 | G11: =SUM(G12:G19) -> 1854913.2 | H11: =SUM(H12:H19) -> 1575500 | K11: https://www.ust.is/loft/losun-grodurhusalofttegunda/losun-islands/
A12: Fiskiskip | B12: tCO2í | C12: 624190.13 | D12: 521497.73 | E12: 534065.73 | F12: 551731.62 | G12: 522179.89 | H12: 509500 | I12: 574200 | L12: 1824 | M12: 1793 | N12: 1837 | O12: 1877 | P12: 1817
A13: Vegasamgöngur | B13: tCO2í | C13: 820387.13 | D13: 895309.08 | E13: 945294.06 | F13: 971426.25 | G13: 951992.77 | H13: 887000 | L13: =(L12*1000)-C12-C13-C16-C18 -> 94153.995 | M13: =(M12*1000)-D12-D13-D16-D18 -> 87123.449 | N13: =(N12*1000)-E12-E13-E16-E18 -> 67785.244 | O13: =(O12*1000)-F12-F13-F16-F18 -> 82518.607 | P13: =(P12*1000)-G12-G13-G16-G18 -> 87982.577
A14: Innanlandsflug | B14: tCO2í | C14: 20615.905 | D14: 22766.788 | E14: 23154.048 | F14: 24792.599 | G14: 27992.335
A15: Strandsiglingar | B15: tCO2í | C15: 26795.179 | D15: 27989.208 | E15: 31916.375 | F15: 43775.551 | G15: 53539.3
A16: Vélar og tæki | B16: tCO2í | C16: 118189.24 | D16: 137265.14 | E16: 140755.97 | F16: 112341.52 | G16: 88603.151 | L16: =G12+G15 -> 575719.19
A17: Eldsneytisbruni vegna iðnaðar | B17: tCO2í | C17: 66078.679 | D17: 62549.168 | E17: 33581.21 | F17: 40300.869 | G17: 33677.665 | L17: =SUM(G14:G17)+G19-G15 -> 160959.66
A18: Jarðvarmavirkjanir | B18: tCO2í | C18: 167079.5 | D18: 151804.61 | E18: 149099 | F18: 158982 | G18: 166241.61 | H18: 179000 | M18: =13519-9010 -> 4509
A19: Annað | B19: tCO2í | C19: 8837.4919 | D19: 8316.2307 | E19: 12649.825 | F19: 9530.7274 | G19: 10686.511
A21: Losun skipt eftir skuldbindingu (án landnotkunar og skógræktar) | B21: Einingar | C21: 2015 | D21: 2016 | E21: 2017 | F21: 2018 | G21: 2019 | H21: 2020 | I21: 2021
A22: Samtals | B22: tCO2í | C22: =SUM(C23:C25) -> 4763990.7 | D22: =SUM(D23:D25) -> 4716621.3 | E22: =SUM(E23:E25) -> 4795414.4 | F22: =SUM(F23:F25) -> 4822179.6 | G22: =SUM(G23:G25) -> 4722345.9 | K22: https://www.ust.is/loft/losun-grodurhusalofttegunda/losun-islands/
A23: Orka | B23: tCO2í | C23: 20441.659 | D23: 22574.404 | E23: 22958.458 | F23: 24583.191 | G23: 27755.915 | L23: 194 | M23: 218 | N23: 203 | O23: 180 | P23: 223
A24: Iðnaður og efnanotkun | B24: tCO2í | C24: 1812040.9 | D24: 1780964.5 | E24: 1831668.6 | F24: 1854685.2 | G24: 1812707 | L24: =(L23*1000)-C57 -> 14338.404 | M24: =(M23*1000)-D57 -> 14118.639 | N24: =(N23*1000)-E57 -> 14094.934 | O24: =(O23*1000)-F57 -> 16501.028 | P24: =(P23*1000)-G57 -> 15662.498
A25: Landbúnaður | B25: tCO2í | C25: 2931508.1 | D25: 2913082.4 | E25: 2940787.3 | F25: 2942911.2 | G25: 2881883
A27: Iðnaður | B27: Einingar | C27: 2015 | D27: 2016 | E27: 2017 | F27: 2018 | G27: 2019 | H27: 2020 | I27: 2021
A28: Samtals | B28: tCO2í | C28: =SUM(C29:C34) -> 1998359.9 | D28: =SUM(D29:D34) -> 1986578.5 | E28: =SUM(E29:E34) -> 2024053.9 | F28: =SUM(F29:F34) -> 2022534.9 | G28: =SUM(G29:G34) -> 2024369.7 | K28: https://www.ust.is/loft/losun-grodurhusalofttegunda/losun-islands/
A29: Steinefnaiðnaður | B29: tCO2í | C29: 716.54013 | D29: 773.97152 | E29: 902.32273 | F29: 905.21219 | G29: 956.99099
A30: Efnaiðnaður | B30: tCO2í | C30: 0 | D30: 0 | E30: 0 | F30: 0 | G30: 0
A31: Málmiðnaður | B31: tCO2í | C31: 1807454.3 | D31: 1772144.3 | E31: 1823881 | F31: 1845663.9 | G31: 1805668.4
A32: Leysiefni | B32: tCO2í | C32: 5673.5727 | D32: 5757.3939 | E32: 5574.7995 | F32: 6195.7836 | G32: 5552.8913 | L32: =F29+F32+F34 -> 13372.074 | M32: =G29+G32+G34 -> 11363.838
A33: F-gös (m.a. kælimiðlar) | B33: tCO2í | C33: 179661.6 | D33: 203881.36 | E33: 188905.07 | F33: 163498.97 | G33: 207337.5
A34: Efnanotkun | B34: tCO2í | C34: 4853.8679 | D34: 4021.4824 | E34: 4790.7533 | F34: 6271.0784 | G34: 4853.9555
A36: Landbúnaður | B36: Einingar | C36: 2015 | D36: 2016 | E36: 2017 | F36: 2018 | G36: 2019 | H36: 2020
A37: Samtals | B37: tCO2í | C37: =SUM(C38:C41) -> 652566.77 | D37: =SUM(D38:D41) -> 654297.8 | E37: =SUM(E38:E41) -> 655941.52 | F37: =SUM(F38:F41) -> 631905.28 | G37: =SUM(G38:G41) -> 618847.81 | H37: =SUM(H38:H41) -> 618000 | K37: https://www.ust.is/loft/losun-grodurhusalofttegunda/losun-islands/
A38: Iðragerjun | B38: tCO2í | C38: 313841.42 | D38: 318061.83 | E38: 311008.71 | F38: 301140.44 | G38: 296707.11 | H38: 291000
A39: Meðhöndlun húsdýraáburðar | B39: tCO2í | C39: 77802.528 | D39: 79189.008 | E39: 78158.248 | F39: 75781.793 | G39: 73985.766 | H39: 74000
A40: Nytjajarðvegur | B40: tCO2í | C40: 257446.31 | D40: 254138.02 | E40: 264404.8 | F40: 251788.72 | G40: 242288.88 | H40: 248000 | L40: =G41+G39 -> 79851.821
A41: Áburður | B41: tCO2í | C41: 3476.5137 | D41: 2908.9471 | E41: 2369.7696 | F41: 3194.3289 | G41: 5866.0551 | H41: 5000
A43: Úrgangur | B43: Einingar | C43: 2015 | D43: 2016 | E43: 2017 | F43: 2018 | G43: 2019 | H43: 2020
A44: Samtals | B44: tCO2í | C44: =SUM(C45:C48) -> 260890.74 | D44: =SUM(D45:D48) -> 248247.04 | E44: =SUM(E45:E48) -> 244902.79 | F44: =SUM(F45:F48) -> 254858.26 | G44: =SUM(G45:G48) -> 224215.1 | H44: =SUM(H45:H48) -> 246000 | K44: https://www.ust.is/loft/losun-grodurhusalofttegunda/losun-islands/
A45: Urðun úrgangs | B45: tCO2í | C45: 200147.98 | D45: 191971.5 | E45: 184804.85 | F45: 192831.75 | G45: 162892.73 | H45: 187000
A46: Jarðgerð | B46: tCO2í | C46: 3653.6161 | D46: 3912.2494 | E46: 3722.8464 | F46: 4117.4078 | G46: 4093.3116 | H46: 5000
...

Sheet Dashboard
C4: Year: | D4: 2025
B9: Inventory | C9: Emissions (tCO2 íg)
C10: Total | D10: Scope 1 | E10: Scope 2 | F10: Scope 3
B11: Energy | C11: =C12+C14+C15 -> 25196.68 | D11: =C15 -> 10250.817 | E11: =C11-C13-C15 -> 14705.37 | F11: =C13 -> 240.49273
B12: Electricity | C12: =INDEX(Reykjavík!$A$2:$M$73,MATCH("Losun vegna raforku",Reykjavík!$A$2:$A$73,0),MATCH($D$4,Reykjavík!$A$3:$M$3,0)) -> 5728.2842
B13: Distribution losses | C13: =INDEX(Reykjavík!$A$2:$M$73,MATCH(" Þar af vegna dreifitapa",Reykjavík!$A$2:$A$73,0),MATCH($D$4,Reykjavík!$A$3:$M$3,0)) -> 240.49273
B14: Heat | C14: =INDEX(Reykjavík!$A$2:$M$73,MATCH("Losun vegna hitaveitu",Reykjavík!$A$2:$A$73,0),MATCH($D$4,Reykjavík!$A$3:$M$3,0)) -> 9217.5786
B15: Construction - stationary energy | C15: =INDEX(Reykjavík!$A$115:$M$157,MATCH("byggingariðnaður - orka á verkstað",Reykjavík!$A$115:$A$157,0),MATCH($D$4,Reykjavík!$A$3:$M$3,0)) -> 10250.817
B16: Transport | C16: =C17+C18+C20 -> 319948.75 | D16: =C16 -> 319948.75
B17: On-road | C17: =INDEX(Reykjavík!$A$2:$M$73,MATCH("Losun vegna götuumferðar",Reykjavík!$A$2:$A$73,0),MATCH($D$4,Reykjavík!$A$3:$M$3,0)) -> 267348.79
B18: Waterborne navigation | C18: =INDEX(Reykjavík!$A$2:$M$73,MATCH("Losun vegna skipa",Reykjavík!$A$2:$A$73,0),MATCH($D$4,Reykjavík!$A$3:$M$3,0)) -> 48360
B19: WTW | C19: =INDEX(Reykjavík!$A$2:$M$73,MATCH(" Með Well to Tank",Reykjavík!$A$2:$A$73,0),MATCH($D$4,Reykjavík!$A$3:$M$3,0)) -> 59050
B20: Aviation | C20: =INDEX(Reykjavík!$A$2:$M$73,MATCH("Losun vegna flugumferðar",Reykjavík!$A$2:$A$73,0),MATCH($D$4,Reykjavík!$A$3:$M$3,0)) -> 4239.9557
B21: Waste | C21: =C23+C25+C27+C28+C29 -> 80736.348 | D21: =C21-C28-C27 -> 53354.341 | F21: =C28+C27 -> 27382.007
B22: Landfill | C22: =INDEX(Reykjavík!$A$2:$M$73,MATCH("Losun vegna urðunar",Reykjavík!$A$2:$A$73,0),MATCH($D$4,Reykjavík!$A$3:$M$3,0)) -> 85028.94
B23: Originating within RVK | C23: =INDEX(Reykjavík!$A$2:$M$73,MATCH("urðun úrgangs reykjavíkur",Reykjavík!$A$2:$A$73,0),MATCH($D$4,Reykjavík!$A$3:$M$3,0)) -> 47435.151
B24: Composting | C24: =INDEX(Reykjavík!$A$2:$M$73,MATCH("losun vegna jarðgerðar",Reykjavík!$A$2:$A$73,0),MATCH($D$4,Reykjavík!$A$3:$M$3,0)) -> 4015.179
B25: Originating within RVK | C25: =INDEX(Reykjavík!$A$2:$M$73,MATCH("jarðgerð úrgangs reykjavíkur",Reykjavík!$A$2:$A$73,0),MATCH($D$4,Reykjavík!$A$3:$M$3,0)) -> 2239.9506
B26: Foreign inciniration | C26: =INDEX(Reykjavík!$A$2:$M$73,MATCH("Losun vegna brennslu erlendis",Reykjavík!$A$2:$A$73,0),MATCH($D$4,Reykjavík!$A$3:$M$3,0)) -> 70233.207
B27: Originating within RVK | C27: =INDEX(Reykjavík!$A$2:$M$73,MATCH("Brennsla úrgangs Reykjavíkur",Reykjavík!$A$2:$A$73,0),MATCH($D$4,Reykjavík!$A$3:$M$3,0)) -> 23569.221
B28: Domestic inciniration | C28: =INDEX(Reykjavík!$A$2:$M$73,MATCH("Losun vegna brennslu",Reykjavík!$A$2:$A$73,0),MATCH($D$4,Reykjavík!$A$3:$M$3,0)) -> 3812.7858
B29: Fráveita | C29: =INDEX(Reykjavík!$A$2:$M$73,MATCH("Losun vegna fráveitu",Reykjavík!$A$2:$A$73,0),MATCH($D$4,Reykjavík!$A$3:$M$3,0)) -> 3679.2396
B30: AFOLU | C30: =C31+C32 -> 33231.811 | D30: =C30 -> 33231.811
B31: Livestock farming | C31: =INDEX(Reykjavík!$A$2:$M$73,MATCH("Losun vegna búfjárræktunar",Reykjavík!$A$2:$A$73,0),MATCH($D$4,Reykjavík!$A$3:$M$3,0)) -> 2199.0447
B32: Land use | C32: =INDEX(Reykjavík!$A$2:$M$73,MATCH("Losun vegna landnotkunar og skógræktar",Reykjavík!$A$2:$A$73,0),MATCH($D$4,Reykjavík!$A$3:$M$3,0)) -> 31032.766
B33: IPPU | C33: =C34+C36+C35 -> 104772.7 | D33: =C33-C35-C36 -> 31944.837 | F33: =C35+C36 -> 72827.866
B34: Product use | C34: =INDEX(Reykjavík!$A$2:$M$157,MATCH("Samtals losun vegna efnanotkunar",Reykjavík!$A$2:$A$157,0),MATCH($D$4,Reykjavík!$A$3:$M$3,0)) -> 31944.837
B35: Construction materials | C35: =INDEX(Reykjavík!$A$2:$M$157,MATCH("byggingariðnaður - efni",Reykjavík!$A$2:$A$157,0),MATCH($D$4,Reykjavík!$A$3:$M$3,0)) -> 67349.81
B36: Other industry | C36: =INDEX(Reykjavík!$A$2:$M$157,MATCH("losun matvælaframleiðslu í RVK",Reykjavík!$A$2:$A$157,0),MATCH($D$4,Reykjavík!$A$3:$M$3,0)) -> 5478.0557
B37: Total | C37: =C30+C21+C16+C11+C33 -> 563886.29 | D37: =SUM(D11:D35) -> 448730.55 | E37: =SUM(E11:E35) -> 14705.37 | F37: =SUM(F11:F35) -> 100450.37
B38: Total per capita | C38: =Reykjavík!O181 -> 4.063401 | D38: =Reykjavík!O182 -> 3.2335814 | E38: =Reykjavík!O183 -> 0.10596785 | F38: =Reykjavík!O184 -> 0.72385183
B40: BASIC | C40: =C12+C14+C17+C18+C20+C23+C25+C27+C28+C29+C15-C13 -> 425641.28 | D40: =D11+D16+D21 -> 383553.91 | E40: =E11 -> 14705.37 | F40: =F21 -> 27382.007
B41: BASIC + | C41: =C40+C31+C32+C34+C13 -> 491058.42 | D41: =D40+D30+D33 -> 448730.55 | E41: =E40 -> 14705.37 | F41: =F40+F11 -> 27622.5
B42: BASIC + S3 | C42: =C41+C35+C36 -> 563886.29 | D42: =D41 -> 448730.55 | E42: =E41 -> 14705.37 | F42: =F41+F33 -> 100450.37
B64: Emissions sector | C64: Sub-sector
B65: Summary - | C65: BASIC
G80: =Reykjavík!O148 -> 425641.28 | H80: t CO2-equivalents
G81: =Reykjavík!O179 -> 3.0671986 | H81: t CO2-equivalents per capita
B88: Emissions sector | C88: Sub-sector
B89: Summary - | C89: BASIC+
...

Sheet Mælaborð
C4: Ár: | D4: 2025
B9: Samantekt | C9: Losun (tCO2 íg)
C10: Samtals | D10: Umfang 1 | E10: Umfang 2 | F10: Umfang 3
B11: Orkunotkun | C11: =C12+C14+C15 -> 25196.68 | D11: =C15 -> 10250.817 | E11: =C11-C13-C15 -> 14705.37 | F11: =C13 -> 240.49273
B12: Raforka | C12: =INDEX(Reykjavík!$A$2:$M$73,MATCH("Losun vegna raforku",Reykjavík!$A$2:$A$73,0),MATCH($D$4,Reykjavík!$A$3:$M$3,0)) -> 5728.2842
B13: Vegna dreifitapa | C13: =INDEX(Reykjavík!$A$2:$M$73,MATCH(" Þar af vegna dreifitapa",Reykjavík!$A$2:$A$73,0),MATCH($D$4,Reykjavík!$A$3:$M$3,0)) -> 240.49273
B14: Hitaveita | C14: =INDEX(Reykjavík!$A$2:$M$73,MATCH("Losun vegna hitaveitu",Reykjavík!$A$2:$A$73,0),MATCH($D$4,Reykjavík!$A$3:$M$3,0)) -> 9217.5786
B15: Byggingar - staðbundin eldsneytisnotkun | C15: =INDEX(Reykjavík!$A$115:$M$157,MATCH("byggingariðnaður - orka á verkstað",Reykjavík!$A$115:$A$157,0),MATCH($D$4,Reykjavík!$A$3:$M$3,0)) -> 10250.817
B16: Samgöngur | C16: =C17+C18+C20 -> 319948.75 | D16: =C17+C18+C20 -> 319948.75
B17: Götuumferð | C17: =INDEX(Reykjavík!$A$2:$M$73,MATCH("Losun vegna götuumferðar",Reykjavík!$A$2:$A$73,0),MATCH($D$4,Reykjavík!$A$3:$M$3,0)) -> 267348.79
B18: Skipaumferð | C18: =INDEX(Reykjavík!$A$2:$M$73,MATCH("Losun vegna skipa",Reykjavík!$A$2:$A$73,0),MATCH($D$4,Reykjavík!$A$3:$M$3,0)) -> 48360
B19: WTW | C19: =INDEX(Reykjavík!$A$2:$M$73,MATCH(" Með Well to Tank",Reykjavík!$A$2:$A$73,0),MATCH($D$4,Reykjavík!$A$3:$M$3,0)) -> 59050
B20: Flugumferð | C20: =INDEX(Reykjavík!$A$2:$M$73,MATCH("Losun vegna flugumferðar",Reykjavík!$A$2:$A$73,0),MATCH($D$4,Reykjavík!$A$3:$M$3,0)) -> 4239.9557
B21: Úrgangur | C21: =C23+C25+C27+C28+C29 -> 80736.348 | D21: =C23+C25+C29 -> 53354.341 | F21: =C28+C27 -> 27382.007
B22: Urðun | C22: =INDEX(Reykjavík!$A$2:$M$73,MATCH("Losun vegna urðunar",Reykjavík!$A$2:$A$73,0),MATCH($D$4,Reykjavík!$A$3:$M$3,0)) -> 85028.94
B23: Upprunið innan RVK | C23: =INDEX(Reykjavík!$A$2:$M$73,MATCH("urðun úrgangs reykjavíkur",Reykjavík!$A$2:$A$73,0),MATCH($D$4,Reykjavík!$A$3:$M$3,0)) -> 47435.151
B24: Jarðgerð | C24: =INDEX(Reykjavík!$A$2:$M$73,MATCH("losun vegna jarðgerðar",Reykjavík!$A$2:$A$73,0),MATCH($D$4,Reykjavík!$A$3:$M$3,0)) -> 4015.179
B25: Upprunið innan RVK | C25: =INDEX(Reykjavík!$A$2:$M$73,MATCH("jarðgerð úrgangs reykjavíkur",Reykjavík!$A$2:$A$73,0),MATCH($D$4,Reykjavík!$A$3:$M$3,0)) -> 2239.9506
B26: Brennsla erlendis | C26: =INDEX(Reykjavík!$A$2:$M$73,MATCH("Losun vegna brennslu erlendis",Reykjavík!$A$2:$A$73,0),MATCH($D$4,Reykjavík!$A$3:$M$3,0)) -> 70233.207
B27: Upprunið innan RVK | C27: =INDEX(Reykjavík!$A$2:$M$73,MATCH("Brennsla úrgangs Reykjavíkur",Reykjavík!$A$2:$A$73,0),MATCH($D$4,Reykjavík!$A$3:$M$3,0)) -> 23569.221
B28: Brennsla innanlands | C28: =INDEX(Reykjavík!$A$2:$M$73,MATCH("Losun vegna brennslu",Reykjavík!$A$2:$A$73,0),MATCH($D$4,Reykjavík!$A$3:$M$3,0)) -> 3812.7858
B29: Fráveita | C29: =INDEX(Reykjavík!$A$2:$M$73,MATCH("Losun vegna fráveitu",Reykjavík!$A$2:$A$73,0),MATCH($D$4,Reykjavík!$A$3:$M$3,0)) -> 3679.2396
B30: Landbúnaður og landnotkun | C30: =C31+C32+C33 -> 33231.811 | D30: =C30 -> 33231.811
B31: Búfjárræktun | C31: =INDEX(Reykjavík!$A$2:$M$73,MATCH("Losun vegna búfjárræktunar",Reykjavík!$A$2:$A$73,0),MATCH($D$4,Reykjavík!$A$3:$M$3,0)) -> 2199.0447
B32: Landnotkun | C32: =INDEX(Reykjavík!$A$2:$M$73,MATCH("Losun vegna landnotkunar og skógræktar",Reykjavík!$A$2:$A$73,0),MATCH($D$4,Reykjavík!$A$3:$M$3,0))-INDEX(Reykjavík!$A$2:$M$73,MATCH("4A - Skóglendi",Reykjavík!$A$2:$A$73,0),MATCH($D$4,Reykjavík!$A$3:$M$3,0)) -> 45775.148
B33: Skógrækt | C33: =INDEX(Reykjavík!$A$2:$M$73,MATCH("4A - Skóglendi",Reykjavík!$A$2:$A$73,0),MATCH($D$4,Reykjavík!$A$3:$M$3,0)) -> -14742.382
B34: Efnanotkun og iðnaður | C34: =C35+C37+C36 -> 104772.7 | D34: =C34-C36-C37 -> 31944.837 | F34: =C36+C37 -> 72827.866
B35: Efnanotkun | C35: =INDEX(Reykjavík!$A$2:$M$157,MATCH("Samtals losun vegna efnanotkunar",Reykjavík!$A$2:$A$157,0),MATCH($D$4,Reykjavík!$A$3:$M$3,0)) -> 31944.837
B36: Byggingariðnaður - efni | C36: =INDEX(Reykjavík!$A$2:$M$157,MATCH("byggingariðnaður - efni",Reykjavík!$A$2:$A$157,0),MATCH($D$4,Reykjavík!$A$3:$M$3,0)) -> 67349.81
B37: Annað | C37: =INDEX(Reykjavík!$A$2:$M$157,MATCH("losun matvælaframleiðslu í RVK",Reykjavík!$A$2:$A$157,0),MATCH($D$4,Reykjavík!$A$3:$M$3,0)) -> 5478.0557
B38: Samtals | C38: =C30+C21+C16+C11+C34 -> 563886.29 | D38: =SUM(D11:D36) -> 448730.55 | E38: =SUM(E11:E36) -> 14705.37 | F38: =SUM(F11:F36) -> 100450.37
B39: Samtals á íbúa | C39: =Reykjavík!O181 -> 4.063401 | D39: =Reykjavík!O182 -> 3.2335814 | E39: =Reykjavík!O183 -> 0.10596785 | F39: =Reykjavík!O184 -> 0.72385183
B41: BASIC | C41: =C12+C14+C17+C18+C20+C23+C25+C27+C28+C29+C15-C13 -> 425641.28 | D41: =D11+D16+D21 -> 383553.91 | E41: =E11 -> 14705.37 | F41: =F21 -> 27382.007
B42: BASIC + | C42: =C41+C31+C32+C35+C13+C33 -> 491058.42 | D42: =D41+D30+D34 -> 448730.55 | E42: =E41 -> 14705.37 | F42: =F41+F11 -> 27622.5
B43: BASIC + S3 | C43: =C42+C36+C37 -> 563886.29 | D43: =D42 -> 448730.55 | E43: =E42 -> 14705.37 | F43: =F42+F34 -> 100450.37
B64: Losunarflokkur | C64: Undirflokkur
B65: Samantekt - | C65: BASIC
G80: =Reykjavík!O148 -> 425641.28 | H80: t CO2-ígilda
G81: =Reykjavík!O179 -> 3.0671986 | H81: t CO2 ígilda á íbúa
B88: Losunarflokkur | C88: Undirflokkur
...

Sheet Samantekt
C4: Ár: | D4: 2025
B9: Samantekt | C9: Losun (tCO2 íg)
C10: Samtals | D10: Umfang 1 | E10: Umfang 2 | F10: Umfang 3
B11: Orkunotkun | C11: =C12+C14+C15 -> 25196.68 | D11: =C15 -> 10250.817 | E11: =C11-C13-C15 -> 14705.37 | F11: =C13 -> 240.49273 | P11: 2019 | Q11: 2020 | R11: 2021 | S11: 2022 | T11: 2023 | U11: 2024 | V11: 2025 | W11: Breyting m.v. 2019 (t CO₂ íg) | X11: Breyting m.v. 2019 (%) | Y11: 2030 - Áætlun | Z11: 2030 - Markmið | AE11: 2019 | AF11: 2020 | AG11: 2021 | AH11: 2022 | AI11: 2023 | AJ11: 2024 | AK11: 2025 | AL11: 2026 | AM11: 2027 | AN11: 2028 | AO11: 2029 | AP11: 2030 Áætlað | AQ11: 2030 Markmið
B12: Raforka | C12: =INDEX(Reykjavík!$A$2:$M$73,MATCH("Losun vegna raforku",Reykjavík!$A$2:$A$73,0),MATCH($D$4,Reykjavík!$A$3:$M$3,0)) -> 5728.2842 | AD12: Orkunotkun | AE12: =INDEX($M$10:$Z$42,MATCH($AD12,$M$10:$M$42,0),MATCH(AE$11,$M$11:$U$11,0)) -> 22959.108 | AF12: =INDEX($M$10:$Z$42,MATCH($AD12,$M$10:$M$42,0),MATCH(AF$11,$M$11:$U$11,0)) -> 25150.742 | AG12: =INDEX($M$10:$Z$42,MATCH($AD12,$M$10:$M$42,0),MATCH(AG$11,$M$11:$U$11,0)) -> 25840.352 | AH12: =INDEX($M$10:$Z$42,MATCH($AD12,$M$10:$M$42,0),MATCH(AH$11,$M$11:$U$11,0)) -> 26857.089 | AI12: =INDEX($M$10:$Z$42,MATCH($AD12,$M$10:$M$42,0),MATCH(AI$11,$M$11:$U$11,0)) -> 27516.078 | AJ12: =INDEX($M$10:$Z$42,MATCH($AD12,$M$10:$M$42,0),MATCH(AJ$11,$M$11:$U$11,0)) -> 28966.619 | AK12: =INDEX($M$10:$Z$42,MATCH($AD12,$M$10:$M$42,0),MATCH(AK$11,$M$11:$V$11,0)) -> 25196.68 | AL12: 0 | AM12: 0 | AN12: 0 | AO12: 0 | AP12: =_xlfn.XLOOKUP($AD12,$M$10:$M$42,$Y$10:$Y$42) -> 10600 | AQ12: =_xlfn.XLOOKUP($AD12,$M$10:$M$42,$Z$10:$Z$42) -> 6700
B13: Vegna dreifitapa | C13: =INDEX(Reykjavík!$A$2:$M$73,MATCH(" Þar af vegna dreifitapa",Reykjavík!$A$2:$A$73,0),MATCH($D$4,Reykjavík!$A$3:$M$3,0)) -> 240.49273 | M13: Fólksfjöldi Reykjavík | P13: =INDEX(Reykjavík!$A$4:$K$9,MATCH($M13,Reykjavík!$A$4:$A$9,0),MATCH(P$11,Reykjavík!$A$3:$K$3,0)) -> 125360 | Q13: =INDEX(Reykjavík!$A$4:$K$9,MATCH($M13,Reykjavík!$A$4:$A$9,0),MATCH(Q$11,Reykjavík!$A$3:$K$3,0)) -> 126549 | R13: =INDEX(Reykjavík!$A$4:$K$9,MATCH($M13,Reykjavík!$A$4:$A$9,0),MATCH(R$11,Reykjavík!$A$3:$K$3,0)) -> 128610 | S13: =INDEX(Reykjavík!$A$4:$K$9,MATCH($M13,Reykjavík!$A$4:$A$9,0),MATCH(S$11,Reykjavík!$A$3:$K$3,0)) -> 130638 | T13: =INDEX(Reykjavík!$A$4:$K$9,MATCH($M13,Reykjavík!$A$4:$A$9,0),MATCH(T$11,Reykjavík!$A$3:$K$3,0)) -> 134298 | U13: =INDEX(Reykjavík!$A$4:$L$9,MATCH($M13,Reykjavík!$A$4:$A$9,0),MATCH(U$11,Reykjavík!$A$3:$L$3,0)) -> 136894 | V13: =INDEX(Reykjavík!$A$4:$M$9,MATCH($M13,Reykjavík!$A$4:$A$9,0),MATCH(V$11,Reykjavík!$A$3:$M$3,0)) -> 138772 | W13: =V13-P13 -> 13412 | X13: =W13/P13 -> 0.10698787 | Y13: =V13*1.04 -> 144322.88 | Z13: =V13*1.04 -> 144322.88 | AA13: Fólksfjöldi Reykjavík | AD13: Samgöngur | AE13: =INDEX($M$10:$Z$42,MATCH($AD13,$M$10:$M$42,0),MATCH(AE$11,$M$11:$U$11,0)) -> 369991.14 | AF13: =INDEX($M$10:$Z$42,MATCH($AD13,$M$10:$M$42,0),MATCH(AF$11,$M$11:$U$11,0)) -> 316979.93 | AG13: =INDEX($M$10:$Z$42,MATCH($AD13,$M$10:$M$42,0),MATCH(AG$11,$M$11:$U$11,0)) -> 335822.16 | AH13: =INDEX($M$10:$Z$42,MATCH($AD13,$M$10:$M$42,0),MATCH(AH$11,$M$11:$U$11,0)) -> 312504.37 | AI13: =INDEX($M$10:$Z$42,MATCH($AD13,$M$10:$M$42,0),MATCH(AI$11,$M$11:$U$11,0)) -> 340916.85 | AJ13: =INDEX($M$10:$Z$42,MATCH($AD13,$M$10:$M$42,0),MATCH(AJ$11,$M$11:$U$11,0)) -> 334541.33 | AK13: =INDEX($M$10:$Z$42,MATCH($AD13,$M$10:$M$42,0),MATCH(AK$11,$M$11:$V$11,0)) -> 319948.75 | AL13: 0 | AM13: 0 | AN13: 0 | AO13: 0 | AP13: =_xlfn.XLOOKUP(AD13,$M$10:$M$42,$Y$10:$Y$42) -> 85400 | AQ13: =_xlfn.XLOOKUP($AD13,$M$10:$M$42,$Z$10:$Z$42) -> 60100
B14: Hitaveita | C14: =INDEX(Reykjavík!$A$2:$M$73,MATCH("Losun vegna hitaveitu",Reykjavík!$A$2:$A$73,0),MATCH($D$4,Reykjavík!$A$3:$M$3,0)) -> 9217.5786 | M14: Fólksfjöldi Ísland | P14: =INDEX(Reykjavík!$A$4:$K$9,MATCH($M14,Reykjavík!$A$4:$A$9,0),MATCH(P$11,Reykjavík!$A$3:$K$3,0)) -> 349468 | Q14: =INDEX(Reykjavík!$A$4:$K$9,MATCH($M14,Reykjavík!$A$4:$A$9,0),MATCH(Q$11,Reykjavík!$A$3:$K$3,0)) -> 354042 | R14: =INDEX(Reykjavík!$A$4:$K$9,MATCH($M14,Reykjavík!$A$4:$A$9,0),MATCH(R$11,Reykjavík!$A$3:$K$3,0)) -> 358298 | S14: =INDEX(Reykjavík!$A$4:$K$9,MATCH($M14,Reykjavík!$A$4:$A$9,0),MATCH(S$11,Reykjavík!$A$3:$K$3,0)) -> 364917 | T14: =INDEX(Reykjavík!$A$4:$K$9,MATCH($M14,Reykjavík!$A$4:$A$9,0),MATCH(T$11,Reykjavík!$A$3:$K$3,0)) -> 375218 | U14: =INDEX(Reykjavík!$A$4:$L$9,MATCH($M14,Reykjavík!$A$4:$A$9,0),MATCH(U$11,Reykjavík!$A$3:$L$3,0)) -> 383726 | V14: =INDEX(Reykjavík!$A$4:$M$9,MATCH($M14,Reykjavík!$A$4:$A$9,0),MATCH(V$11,Reykjavík!$A$3:$M$3,0)) -> 389444 | W14: =V14-P14 -> 39976 | X14: =W14/P14 -> 0.11439102 | Y14: =U14*1.05 -> 402912.3 | Z14: =V14*1.04 -> 405021.76 | AA14: Fólksfjöldi Ísland | AD14: Úrgangur | AE14: =INDEX($M$10:$Z$42,MATCH($AD14,$M$10:$M$42,0),MATCH(AE$11,$M$11:$U$11,0)) -> 53056.837 | AF14: =INDEX($M$10:$Z$42,MATCH($AD14,$M$10:$M$42,0),MATCH(AF$11,$M$11:$U$11,0)) -> 69002.329 | AG14: =INDEX($M$10:$Z$42,MATCH($AD14,$M$10:$M$42,0),MATCH(AG$11,$M$11:$U$11,0)) -> 73063.594 | AH14: =INDEX($M$10:$Z$42,MATCH($AD14,$M$10:$M$42,0),MATCH(AH$11,$M$11:$U$11,0)) -> 77165.734 | AI14: =INDEX($M$10:$Z$42,MATCH($AD14,$M$10:$M$42,0),MATCH(AI$11,$M$11:$U$11,0)) -> 79277.357 | AJ14: =INDEX($M$10:$Z$42,MATCH($AD14,$M$10:$M$42,0),MATCH(AJ$11,$M$11:$U$11,0)) -> 82645.835 | AK14: =INDEX($M$10:$Z$42,MATCH($AD14,$M$10:$M$42,0),MATCH(AK$11,$M$11:$V$11,0)) -> 80736.348 | AL14: 0 | AM14: 0 | AN14: 0 | AO14: 0 | AP14: =_xlfn.XLOOKUP(AD14,$M$10:$M$42,$Y$10:$Y$42) -> 32100 | AQ14: =_xlfn.XLOOKUP($AD14,$M$10:$M$42,$Z$10:$Z$42) -> 13800
B15: Byggingar - staðbundin eldsneytisnotkun | C15: =INDEX(Reykjavík!$A$115:$M$157,MATCH("byggingariðnaður - orka á verkstað",Reykjavík!$A$115:$A$157,0),MATCH($D$4,Reykjavík!$A$3:$M$3,0)) -> 10250.817 | M15: =Reykjavík!A124 -> Raforka | P15: =INDEX(Reykjavík!$A$124:$K$153,MATCH($M15,Reykjavík!$A$124:$A$153,0),MATCH(P$11,Reykjavík!$A$123:$K$123,0)) -> 5450.5906 | Q15: =INDEX(Reykjavík!$A$124:$K$153,MATCH($M15,Reykjavík!$A$124:$A$153,0),MATCH(Q$11,Reykjavík!$A$123:$K$123,0)) -> 5371.0467 | R15: =INDEX(Reykjavík!$A$124:$K$153,MATCH($M15,Reykjavík!$A$124:$A$153,0),MATCH(R$11,Reykjavík!$A$123:$K$123,0)) -> 4991.7793 | S15: =INDEX(Reykjavík!$A$124:$K$153,MATCH($M15,Reykjavík!$A$124:$A$153,0),MATCH(S$11,Reykjavík!$A$123:$K$123,0)) -> 5336.5331 | T15: =INDEX(Reykjavík!$A$124:$K$153,MATCH($M15,Reykjavík!$A$124:$A$153,0),MATCH(T$11,Reykjavík!$A$123:$K$123,0)) -> 5211.0772 | U15: =INDEX(Reykjavík!$A$124:$L$153,MATCH($M15,Reykjavík!$A$124:$A$153,0),MATCH(U$11,Reykjavík!$A$123:$L$123,0)) -> 6725.7389 | V15: =INDEX(Reykjavík!$A$124:$M$153,MATCH($M15,Reykjavík!$A$124:$A$153,0),MATCH(V$11,Reykjavík!$A$123:$M$123,0)) -> 5728.2842 | W15: =V15-P15 -> 277.69359 | X15: =W15/P15 -> 0.050947431 | AA15: Raforka | AD15: Landbúnaður og landnotkun | AE15: =INDEX($M$10:$Z$42,MATCH($AD15,$M$10:$M$42,0),MATCH(AE$11,$M$11:$U$11,0)) -> 32742.772 | AF15: =INDEX($M$10:$Z$42,MATCH($AD15,$M$10:$M$42,0),MATCH(AF$11,$M$11:$U$11,0)) -> 33685.191 | AG15: =INDEX($M$10:$Z$42,MATCH($AD15,$M$10:$M$42,0),MATCH(AG$11,$M$11:$U$11,0)) -> 33686.836 | AH15: =INDEX($M$10:$Z$42,MATCH($AD15,$M$10:$M$42,0),MATCH(AH$11,$M$11:$U$11,0)) -> 33598.078 | AI15: =INDEX($M$10:$Z$42,MATCH($AD15,$M$10:$M$42,0),MATCH(AI$11,$M$11:$U$11,0)) -> 33258.505 | AJ15: =INDEX($M$10:$Z$42,MATCH($AD15,$M$10:$M$42,0),MATCH(AJ$11,$M$11:$U$11,0)) -> 33280.887 | AK15: =INDEX($M$10:$Z$42,MATCH($AD15,$M$10:$M$42,0),MATCH(AK$11,$M$11:$V$11,0)) -> 33231.811 | AL15: 0 | AM15: 0 | AN15: 0 | AO15: 0 | AP15: =_xlfn.XLOOKUP(AD15,$M$10:$M$42,$Y$10:$Y$42) -> 12600 | AQ15: =_xlfn.XLOOKUP($AD15,$M$10:$M$42,$Z$10:$Z$42) -> 9600
B16: Samgöngur | C16: =C17+C18+C20 -> 319948.75 | D16: =C17+C18+C20 -> 319948.75 | M16: =Reykjavík!A125 -> Hitaveita | P16: =INDEX(Reykjavík!$A$124:$K$153,MATCH($M16,Reykjavík!$A$124:$A$153,0),MATCH(P$11,Reykjavík!$A$123:$K$123,0)) -> 9824.6066 | Q16: =INDEX(Reykjavík!$A$124:$K$153,MATCH($M16,Reykjavík!$A$124:$A$153,0),MATCH(Q$11,Reykjavík!$A$123:$K$123,0)) -> 10619.977 | R16: =INDEX(Reykjavík!$A$124:$K$153,MATCH($M16,Reykjavík!$A$124:$A$153,0),MATCH(R$11,Reykjavík!$A$123:$K$123,0)) -> 10495.976 | S16: =INDEX(Reykjavík!$A$124:$K$153,MATCH($M16,Reykjavík!$A$124:$A$153,0),MATCH(S$11,Reykjavík!$A$123:$K$123,0)) -> 10078.728 | T16: =INDEX(Reykjavík!$A$124:$K$153,MATCH($M16,Reykjavík!$A$124:$A$153,0),MATCH(T$11,Reykjavík!$A$123:$K$123,0)) -> 10591.916 | U16: =INDEX(Reykjavík!$A$124:$L$153,MATCH($M16,Reykjavík!$A$124:$A$153,0),MATCH(U$11,Reykjavík!$A$123:$L$123,0)) -> 11516.18 | V16: =INDEX(Reykjavík!$A$124:$M$153,MATCH($M16,Reykjavík!$A$124:$A$153,0),MATCH(V$11,Reykjavík!$A$123:$M$123,0)) -> 9217.5786 | W16: =V16-P16 -> -607.02804 | X16: =W16/P16 -> -0.061786498 | AA16: Hitaveita | AD16: =M36 -> Efnanotkun og iðnaður | AE16: =INDEX($M$10:$Z$42,MATCH($AD16,$M$10:$M$42,0),MATCH(AE$11,$M$11:$U$11,0)) -> 98035.723 | AF16: =INDEX($M$10:$Z$42,MATCH($AD16,$M$10:$M$42,0),MATCH(AF$11,$M$11:$U$11,0)) -> 110135.63 | AG16: =INDEX($M$10:$Z$42,MATCH($AD16,$M$10:$M$42,0),MATCH(AG$11,$M$11:$U$11,0)) -> 110811.48 | AH16: =INDEX($M$10:$Z$42,MATCH($AD16,$M$10:$M$42,0),MATCH(AH$11,$M$11:$U$11,0)) -> 113098.09 | AI16: =INDEX($M$10:$Z$42,MATCH($AD16,$M$10:$M$42,0),MATCH(AI$11,$M$11:$U$11,0)) -> 108934.2 | AJ16: =INDEX($M$10:$Z$42,MATCH($AD16,$M$10:$M$42,0),MATCH(AJ$11,$M$11:$U$11,0)) -> 97928.562 | AK16: =INDEX($M$10:$Z$42,MATCH($AD16,$M$10:$M$42,0),MATCH(AK$11,$M$11:$V$11,0)) -> 104772.7 | AL16: 0 | AM16: 0 | AN16: 0 | AO16: 0 | AP16: =_xlfn.XLOOKUP(AD16,$M$10:$M$42,$Y$10:$Y$42) -> 33800 | AQ16: =_xlfn.XLOOKUP($AD16,$M$10:$M$42,$Z$10:$Z$42) -> 21300
B17: Götuumferð | C17: =INDEX(Reykjavík!$A$2:$M$73,MATCH("Losun vegna götuumferðar",Reykjavík!$A$2:$A$73,0),MATCH($D$4,Reykjavík!$A$3:$M$3,0)) -> 267348.79 | M17: =Reykjavík!A144 -> Staðbundin eldsneytisnotkun | P17: =INDEX(Reykjavík!$A$124:$K$153,MATCH($M17,Reykjavík!$A$124:$A$153,0),MATCH(P$11,Reykjavík!$A$123:$K$123,0)) -> 7683.911 | Q17: =INDEX(Reykjavík!$A$124:$K$153,MATCH($M17,Reykjavík!$A$124:$A$153,0),MATCH(Q$11,Reykjavík!$A$123:$K$123,0)) -> 9159.7187 | R17: =INDEX(Reykjavík!$A$124:$K$153,MATCH($M17,Reykjavík!$A$124:$A$153,0),MATCH(R$11,Reykjavík!$A$123:$K$123,0)) -> 10352.597 | S17: =INDEX(Reykjavík!$A$124:$K$153,MATCH($M17,Reykjavík!$A$124:$A$153,0),MATCH(S$11,Reykjavík!$A$123:$K$123,0)) -> 11441.828 | T17: =INDEX(Reykjavík!$A$124:$K$153,MATCH($M17,Reykjavík!$A$124:$A$153,0),MATCH(T$11,Reykjavík!$A$123:$K$123,0)) -> 11713.085 | U17: =INDEX(Reykjavík!$A$124:$L$153,MATCH($M17,Reykjavík!$A$124:$A$153,0),MATCH(U$11,Reykjavík!$A$123:$L$123,0)) -> 10724.7 | V17: =INDEX(Reykjavík!$A$124:$M$153,MATCH($M17,Reykjavík!$A$124:$A$153,0),MATCH(V$11,Reykjavík!$A$123:$M$123,0)) -> 10250.817 | W17: =V17-P17 -> 2566.9062 | X17: =W17/P17 -> 0.33406246 | AA17: Staðbundin eldsneytisnotkun | AE17: =SUM(AE12:AE16) -> 576785.58 | AF17: =SUM(AF12:AF16) -> 554953.82 | AG17: =SUM(AG12:AG16) -> 579224.42 | AH17: =SUM(AH12:AH16) -> 563223.35 | AI17: =SUM(AI12:AI16) -> 589902.99 | AJ17: =SUM(AJ12:AJ16) -> 577363.24 | AK17: =SUM(AK12:AK16) -> 563886.29 | AL17: 0 | AM17: 0 | AN17: 0 | AO17: 0 | AP17: =SUM(AP12:AP16) -> 174500 | AQ17: =SUM(AQ12:AQ16) -> 111500
B18: Skipaumferð | C18: =INDEX(Reykjavík!$A$2:$M$73,MATCH("Losun vegna skipa",Reykjavík!$A$2:$A$73,0),MATCH($D$4,Reykjavík!$A$3:$M$3,0)) -> 48360 | M18: =Reykjavík!A126 -> Orkunotkun | P18: =INDEX(Reykjavík!$A$124:$K$153,MATCH($M18,Reykjavík!$A$124:$A$153,0),MATCH(P$11,Reykjavík!$A$123:$K$123,0)) -> 22959.108 | Q18: =INDEX(Reykjavík!$A$124:$K$153,MATCH($M18,Reykjavík!$A$124:$A$153,0),MATCH(Q$11,Reykjavík!$A$123:$K$123,0)) -> 25150.742 | R18: =INDEX(Reykjavík!$A$124:$K$153,MATCH($M18,Reykjavík!$A$124:$A$153,0),MATCH(R$11,Reykjavík!$A$123:$K$123,0)) -> 25840.352 | S18: =INDEX(Reykjavík!$A$124:$K$153,MATCH($M18,Reykjavík!$A$124:$A$153,0),MATCH(S$11,Reykjavík!$A$123:$K$123,0)) -> 26857.089 | T18: =INDEX(Reykjavík!$A$124:$K$153,MATCH($M18,Reykjavík!$A$124:$A$153,0),MATCH(T$11,Reykjavík!$A$123:$K$123,0)) -> 27516.078 | U18: =INDEX(Reykjavík!$A$124:$L$153,MATCH($M18,Reykjavík!$A$124:$A$153,0),MATCH(U$11,Reykjavík!$A$123:$L$123,0)) -> 28966.619 | V18: =INDEX(Reykjavík!$A$124:$M$153,MATCH($M18,Reykjavík!$A$124:$A$153,0),MATCH(V$11,Reykjavík!$A$123:$M$123,0)) -> 25196.68 | W18: =V18-P18 -> 2237.5718 | X18: =W18/P18 -> 0.097459002 | Y18: 10600 | Z18: 6700 | AA18: Orkunotkun
B19: WTW | C19: =INDEX(Reykjavík!$A$2:$M$73,MATCH(" Með Well to Tank",Reykjavík!$A$2:$A$73,0),MATCH($D$4,Reykjavík!$A$3:$M$3,0)) -> 59050 | M19: =Reykjavík!A127 -> Fólksbifreiðar | P19: =INDEX(Reykjavík!$A$124:$K$153,MATCH($M19,Reykjavík!$A$124:$A$153,0),MATCH(P$11,Reykjavík!$A$123:$K$123,0)) -> 219170.79 | Q19: =INDEX(Reykjavík!$A$124:$K$153,MATCH($M19,Reykjavík!$A$124:$A$153,0),MATCH(Q$11,Reykjavík!$A$123:$K$123,0)) -> 193663.4 | R19: =INDEX(Reykjavík!$A$124:$K$153,MATCH($M19,Reykjavík!$A$124:$A$153,0),MATCH(R$11,Reykjavík!$A$123:$K$123,0)) -> 202765.45 | S19: =INDEX(Reykjavík!$A$124:$K$153,MATCH($M19,Reykjavík!$A$124:$A$153,0),MATCH(S$11,Reykjavík!$A$123:$K$123,0)) -> 174864.5 | T19: =INDEX(Reykjavík!$A$124:$K$153,MATCH($M19,Reykjavík!$A$124:$A$153,0),MATCH(T$11,Reykjavík!$A$123:$K$123,0)) -> 188905.9 | U19: =INDEX(Reykjavík!$A$124:$L$153,MATCH($M19,Reykjavík!$A$124:$A$153,0),MATCH(U$11,Reykjavík!$A$123:$L$123,0)) -> 178623.41 | V19: =INDEX(Reykjavík!$A$124:$M$153,MATCH($M19,Reykjavík!$A$124:$A$153,0),MATCH(V$11,Reykjavík!$A$123:$M$123,0)) -> 168292.77 | W19: =V19-P19 -> -50878.015 | X19: =W19/P19 -> -0.23213867 | AA19: Fólksbifreiðar
B20: Flugumferð | C20: =INDEX(Reykjavík!$A$2:$M$73,MATCH("Losun vegna flugumferðar",Reykjavík!$A$2:$A$73,0),MATCH($D$4,Reykjavík!$A$3:$M$3,0)) -> 4239.9557 | M20: =Reykjavík!A128 -> Hópbifreiðar | P20: =INDEX(Reykjavík!$A$124:$K$153,MATCH($M20,Reykjavík!$A$124:$A$153,0),MATCH(P$11,Reykjavík!$A$123:$K$123,0)) -> 16084.188 | Q20: =INDEX(Reykjavík!$A$124:$K$153,MATCH($M20,Reykjavík!$A$124:$A$153,0),MATCH(Q$11,Reykjavík!$A$123:$K$123,0)) -> 12467.433 | R20: =INDEX(Reykjavík!$A$124:$K$153,MATCH($M20,Reykjavík!$A$124:$A$153,0),MATCH(R$11,Reykjavík!$A$123:$K$123,0)) -> 10766.748 | S20: =INDEX(Reykjavík!$A$124:$K$153,MATCH($M20,Reykjavík!$A$124:$A$153,0),MATCH(S$11,Reykjavík!$A$123:$K$123,0)) -> 14312.838 | T20: =INDEX(Reykjavík!$A$124:$K$153,MATCH($M20,Reykjavík!$A$124:$A$153,0),MATCH(T$11,Reykjavík!$A$123:$K$123,0)) -> 20658.315 | U20: =INDEX(Reykjavík!$A$124:$L$153,MATCH($M20,Reykjavík!$A$124:$A$153,0),MATCH(U$11,Reykjavík!$A$123:$L$123,0)) -> 20577.223 | V20: =INDEX(Reykjavík!$A$124:$M$153,MATCH($M20,Reykjavík!$A$124:$A$153,0),MATCH(V$11,Reykjavík!$A$123:$M$123,0)) -> 20641.091 | W20: =V20-P20 -> 4556.9029 | X20: =W20/P20 -> 0.2833157 | AA20: Hópbifreiðar | AE20: 2019 | AF20: 2020 | AG20: 2021 | AH20: 2022 | AI20: 2023 | AJ20: 2024 | AK20: 2025 | AL20: 2026 | AM20: 2027 | AN20: 2028 | AO20: 2029 | AP20: 2030 Áætlað | AQ20: 2030 Markmið
B21: Úrgangur | C21: =C23+C25+C27+C28+C29 -> 80736.348 | D21: =C23+C25+C29 -> 53354.341 | F21: =C28+C27 -> 27382.007 | M21: =Reykjavík!A129 -> Vörubifreiðar | P21: =INDEX(Reykjavík!$A$124:$K$153,MATCH($M21,Reykjavík!$A$124:$A$153,0),MATCH(P$11,Reykjavík!$A$123:$K$123,0)) -> 80198.969 | Q21: =INDEX(Reykjavík!$A$124:$K$153,MATCH($M21,Reykjavík!$A$124:$A$153,0),MATCH(Q$11,Reykjavík!$A$123:$K$123,0)) -> 71066.539 | R21: =INDEX(Reykjavík!$A$124:$K$153,MATCH($M21,Reykjavík!$A$124:$A$153,0),MATCH(R$11,Reykjavík!$A$123:$K$123,0)) -> 85661.083 | S21: =INDEX(Reykjavík!$A$124:$K$153,MATCH($M21,Reykjavík!$A$124:$A$153,0),MATCH(S$11,Reykjavík!$A$123:$K$123,0)) -> 72967.854 | T21: =INDEX(Reykjavík!$A$124:$K$153,MATCH($M21,Reykjavík!$A$124:$A$153,0),MATCH(T$11,Reykjavík!$A$123:$K$123,0)) -> 72561.383 | U21: =INDEX(Reykjavík!$A$124:$L$153,MATCH($M21,Reykjavík!$A$124:$A$153,0),MATCH(U$11,Reykjavík!$A$123:$L$123,0)) -> 75911.139 | V21: =INDEX(Reykjavík!$A$124:$M$153,MATCH($M21,Reykjavík!$A$124:$A$153,0),MATCH(V$11,Reykjavík!$A$123:$M$123,0)) -> 78414.927 | W21: =V21-P21 -> -1784.0417 | X21: =W21/P21 -> -0.022245195 | AA21: Vörubifreiðar | AD21: Orkunotkun | AE21: =AE12/1000 -> 22.959108 | AF21: =AF12/1000 -> 25.150742 | AG21: =AG12/1000 -> 25.840352 | AH21: =AH12/1000 -> 26.857089 | AI21: =AI12/1000 -> 27.516078 | AJ21: =AJ12/1000 -> 28.966619 | AK21: =AK12/1000 -> 25.19668 | AL21: =AL12/1000 -> 0 | ... AQ21: =AQ12/1000 -> 6.7
B22: Urðun | C22: =INDEX(Reykjavík!$A$2:$M$73,MATCH("Losun vegna urðunar",Reykjavík!$A$2:$A$73,0),MATCH($D$4,Reykjavík!$A$3:$M$3,0)) -> 85028.94 | M22: =Reykjavík!A130 -> Skipaumferð | P22: =INDEX(Reykjavík!$A$124:$K$153,MATCH($M22,Reykjavík!$A$124:$A$153,0),MATCH(P$11,Reykjavík!$A$123:$K$123,0)) -> 47600 | Q22: =INDEX(Reykjavík!$A$124:$K$153,MATCH($M22,Reykjavík!$A$124:$A$153,0),MATCH(Q$11,Reykjavík!$A$123:$K$123,0)) -> 35240 | R22: =INDEX(Reykjavík!$A$124:$K$153,MATCH($M22,Reykjavík!$A$124:$A$153,0),MATCH(R$11,Reykjavík!$A$123:$K$123,0)) -> 29930 | S22: =INDEX(Reykjavík!$A$124:$K$153,MATCH($M22,Reykjavík!$A$124:$A$153,0),MATCH(S$11,Reykjavík!$A$123:$K$123,0)) -> 44420 | T22: =INDEX(Reykjavík!$A$124:$K$153,MATCH($M22,Reykjavík!$A$124:$A$153,0),MATCH(T$11,Reykjavík!$A$123:$K$123,0)) -> 52390 | U22: =INDEX(Reykjavík!$A$124:$L$153,MATCH($M22,Reykjavík!$A$124:$A$153,0),MATCH(U$11,Reykjavík!$A$123:$L$123,0)) -> 53090 | V22: =INDEX(Reykjavík!$A$124:$M$153,MATCH($M22,Reykjavík!$A$124:$A$153,0),MATCH(V$11,Reykjavík!$A$123:$M$123,0)) -> 48360 | W22: =V22-P22 -> 760 | X22: =W22/P22 -> 0.015966387 | AA22: Skipaumferð | AD22: Samgöngur | AE22: =AE13/1000 -> 369.99114 | AF22: =AF13/1000 -> 316.97993 | AG22: =AG13/1000 -> 335.82216 | AH22: =AH13/1000 -> 312.50437 | AI22: =AI13/1000 -> 340.91685 | AJ22: =AJ13/1000 -> 334.54133 | AK22: =AK13/1000 -> 319.94875 | AL22: =AL13/1000 -> 0 | ... AQ22: =AQ13/1000 -> 60.1
B23: Upprunið innan RVK | C23: =INDEX(Reykjavík!$A$2:$M$73,MATCH("urðun úrgangs reykjavíkur",Reykjavík!$A$2:$A$73,0),MATCH($D$4,Reykjavík!$A$3:$M$3,0)) -> 47435.151 | M23: =Reykjavík!A131 -> Flugumferð | P23: =INDEX(Reykjavík!$A$124:$K$153,MATCH($M23,Reykjavík!$A$124:$A$153,0),MATCH(P$11,Reykjavík!$A$123:$K$123,0)) -> 6937.1983 | Q23: =INDEX(Reykjavík!$A$124:$K$153,MATCH($M23,Reykjavík!$A$124:$A$153,0),MATCH(Q$11,Reykjavík!$A$123:$K$123,0)) -> 4542.5583 | R23: =INDEX(Reykjavík!$A$124:$K$153,MATCH($M23,Reykjavík!$A$124:$A$153,0),MATCH(R$11,Reykjavík!$A$123:$K$123,0)) -> 6698.8814 | S23: =INDEX(Reykjavík!$A$124:$K$153,MATCH($M23,Reykjavík!$A$124:$A$153,0),MATCH(S$11,Reykjavík!$A$123:$K$123,0)) -> 5939.1766 | T23: =INDEX(Reykjavík!$A$124:$K$153,MATCH($M23,Reykjavík!$A$124:$A$153,0),MATCH(T$11,Reykjavík!$A$123:$K$123,0)) -> 6401.2505 | U23: =INDEX(Reykjavík!$A$124:$L$153,MATCH($M23,Reykjavík!$A$124:$A$153,0),MATCH(U$11,Reykjavík!$A$123:$L$123,0)) -> 6339.5654 | V23: =INDEX(Reykjavík!$A$124:$M$153,MATCH($M23,Reykjavík!$A$124:$A$153,0),MATCH(V$11,Reykjavík!$A$123:$M$123,0)) -> 4239.9557 | W23: =V23-P23 -> -2697.2426 | X23: =W23/P23 -> -0.38880863 | AA23: Flugumferð | AD23: Úrgangur | AE23: =AE14/1000 -> 53.056837 | AF23: =AF14/1000 -> 69.002329 | AG23: =AG14/1000 -> 73.063594 | AH23: =AH14/1000 -> 77.165734 | AI23: =AI14/1000 -> 79.277357 | AJ23: =AJ14/1000 -> 82.645835 | AK23: =AK14/1000 -> 80.736348 | AL23: =AL14/1000 -> 0 | ... AQ23: =AQ14/1000 -> 13.8
B24: Jarðgerð | C24: =INDEX(Reykjavík!$A$2:$M$73,MATCH("losun vegna jarðgerðar",Reykjavík!$A$2:$A$73,0),MATCH($D$4,Reykjavík!$A$3:$M$3,0)) -> 4015.179 | M24: =Reykjavík!A132 -> Samgöngur | P24: =INDEX(Reykjavík!$A$124:$K$153,MATCH($M24,Reykjavík!$A$124:$A$153,0),MATCH(P$11,Reykjavík!$A$123:$K$123,0)) -> 369991.14 | Q24: =INDEX(Reykjavík!$A$124:$K$153,MATCH($M24,Reykjavík!$A$124:$A$153,0),MATCH(Q$11,Reykjavík!$A$123:$K$123,0)) -> 316979.93 | R24: =INDEX(Reykjavík!$A$124:$K$153,MATCH($M24,Reykjavík!$A$124:$A$153,0),MATCH(R$11,Reykjavík!$A$123:$K$123,0)) -> 335822.16 | S24: =INDEX(Reykjavík!$A$124:$K$153,MATCH($M24,Reykjavík!$A$124:$A$153,0),MATCH(S$11,Reykjavík!$A$123:$K$123,0)) -> 312504.37 | T24: =INDEX(Reykjavík!$A$124:$K$153,MATCH($M24,Reykjavík!$A$124:$A$153,0),MATCH(T$11,Reykjavík!$A$123:$K$123,0)) -> 340916.85 | U24: =INDEX(Reykjavík!$A$124:$L$153,MATCH($M24,Reykjavík!$A$124:$A$153,0),MATCH(U$11,Reykjavík!$A$123:$L$123,0)) -> 334541.33 | V24: =INDEX(Reykjavík!$A$124:$M$153,MATCH($M24,Reykjavík!$A$124:$A$153,0),MATCH(V$11,Reykjavík!$A$123:$M$123,0)) -> 319948.75 | W24: =V24-P24 -> -50042.396 | X24: =W24/P24 -> -0.13525296 | Y24: 85400 | Z24: 60100 | AA24: Samgöngur | AD24: Landbúnaður og landnotkun | AE24: =AE15/1000 -> 32.742772 | AF24: =AF15/1000 -> 33.685191 | AG24: =AG15/1000 -> 33.686836 | AH24: =AH15/1000 -> 33.598078 | AI24: =AI15/1000 -> 33.258505 | AJ24: =AJ15/1000 -> 33.280887 | AK24: =AK15/1000 -> 33.231811 | AL24: =AL15/1000 -> 0 | ... AQ24: =AQ15/1000 -> 9.6
B25: Upprunið innan RVK | C25: =INDEX(Reykjavík!$A$2:$M$73,MATCH("jarðgerð úrgangs reykjavíkur",Reykjavík!$A$2:$A$73,0),MATCH($D$4,Reykjavík!$A$3:$M$3,0)) -> 2239.9506 | M25: =Reykjavík!A133 -> Urðun | P25: =INDEX(Reykjavík!$A$124:$K$153,MATCH($M25,Reykjavík!$A$124:$A$153,0),MATCH(P$11,Reykjavík!$A$123:$K$123,0)) -> 45762.528 | Q25: =INDEX(Reykjavík!$A$124:$K$153,MATCH($M25,Reykjavík!$A$124:$A$153,0),MATCH(Q$11,Reykjavík!$A$123:$K$123,0)) -> 60981.069 | R25: =INDEX(Reykjavík!$A$124:$K$153,MATCH($M25,Reykjavík!$A$124:$A$153,0),MATCH(R$11,Reykjavík!$A$123:$K$123,0)) -> 62533.833 | S25: =INDEX(Reykjavík!$A$124:$K$153,MATCH($M25,Reykjavík!$A$124:$A$153,0),MATCH(S$11,Reykjavík!$A$123:$K$123,0)) -> 65987.702 | T25: =INDEX(Reykjavík!$A$124:$K$153,MATCH($M25,Reykjavík!$A$124:$A$153,0),MATCH(T$11,Reykjavík!$A$123:$K$123,0)) -> 57916.063 | U25: =INDEX(Reykjavík!$A$124:$L$153,MATCH($M25,Reykjavík!$A$124:$A$153,0),MATCH(U$11,Reykjavík!$A$123:$L$123,0)) -> 53423.565 | V25: =INDEX(Reykjavík!$A$124:$M$153,MATCH($M25,Reykjavík!$A$124:$A$153,0),MATCH(V$11,Reykjavík!$A$123:$M$123,0)) -> 47435.151 | W25: =V25-P25 -> 1672.6234 | X25: =W25/P25 -> 0.036550066 | AA25: Urðun | AD25: Efnanotkun | AE25: =AE16/1000 -> 98.035723 | AF25: =AF16/1000 -> 110.13563 | AG25: =AG16/1000 -> 110.81148 | AH25: =AH16/1000 -> 113.09809 | AI25: =AI16/1000 -> 108.9342 | AJ25: =AJ16/1000 -> 97.928562 | AK25: =AK16/1000 -> 104.7727 | AL25: =AL16/1000 -> 0 | ... AQ25: =AQ16/1000 -> 21.3
B26: Brennsla erlendis | C26: =INDEX(Reykjavík!$A$2:$M$73,MATCH("Losun vegna brennslu erlendis",Reykjavík!$A$2:$A$73,0),MATCH($D$4,Reykjavík!$A$3:$M$3,0)) -> 70233.207 | M26: =Reykjavík!A134 -> Jarðgerð | P26: =INDEX(Reykjavík!$A$124:$K$153,MATCH($M26,Reykjavík!$A$124:$A$153,0),MATCH(P$11,Reykjavík!$A$123:$K$123,0)) -> 0 | Q26: =INDEX(Reykjavík!$A$124:$K$153,MATCH($M26,Reykjavík!$A$124:$A$153,0),MATCH(Q$11,Reykjavík!$A$123:$K$123,0)) -> 243.47979 | R26: =INDEX(Reykjavík!$A$124:$K$153,MATCH($M26,Reykjavík!$A$124:$A$153,0),MATCH(R$11,Reykjavík!$A$123:$K$123,0)) -> 2088.8221 | S26: =INDEX(Reykjavík!$A$124:$K$153,MATCH($M26,Reykjavík!$A$124:$A$153,0),MATCH(S$11,Reykjavík!$A$123:$K$123,0)) -> 3119.8324 | T26: =INDEX(Reykjavík!$A$124:$K$153,MATCH($M26,Reykjavík!$A$124:$A$153,0),MATCH(T$11,Reykjavík!$A$123:$K$123,0)) -> 3460.3348 | U26: =INDEX(Reykjavík!$A$124:$L$153,MATCH($M26,Reykjavík!$A$124:$A$153,0),MATCH(U$11,Reykjavík!$A$123:$L$123,0)) -> 2231.1071 | V26: =INDEX(Reykjavík!$A$124:$M$153,MATCH($M26,Reykjavík!$A$124:$A$153,0),MATCH(V$11,Reykjavík!$A$123:$M$123,0)) -> 2239.9506 | W26: =V26-P26 -> 2239.9506 | X26: N/A | AA26: Jarðgerð | AE26: =AE17/1000 -> 576.78558 | AF26: =AF17/1000 -> 554.95382 | AG26: =AG17/1000 -> 579.22442 | AH26: =AH17/1000 -> 563.22335 | AI26: =AI17/1000 -> 589.90299 | AJ26: =AJ17/1000 -> 577.36324 | AK26: =AK17/1000 -> 563.88629 | AL26: =AL17/1000 -> 0 | ... AQ26: =AQ17/1000 -> 111.5
B27: Upprunið innan RVK | C27: =INDEX(Reykjavík!$A$2:$M$73,MATCH("Brennsla úrgangs Reykjavíkur",Reykjavík!$A$2:$A$73,0),MATCH($D$4,Reykjavík!$A$3:$M$3,0)) -> 23569.221 | M27: =Reykjavík!A135 -> Brennsla | P27: =INDEX(Reykjavík!$A$124:$K$153,MATCH($M27,Reykjavík!$A$124:$A$153,0),MATCH(P$11,Reykjavík!$A$123:$K$123,0)) -> 4061.1759 | Q27: =INDEX(Reykjavík!$A$124:$K$153,MATCH($M27,Reykjavík!$A$124:$A$153,0),MATCH(Q$11,Reykjavík!$A$123:$K$123,0)) -> 4223.2562 | R27: =INDEX(Reykjavík!$A$124:$K$153,MATCH($M27,Reykjavík!$A$124:$A$153,0),MATCH(R$11,Reykjavík!$A$123:$K$123,0)) -> 4849.2271 | S27: =INDEX(Reykjavík!$A$124:$K$153,MATCH($M27,Reykjavík!$A$124:$A$153,0),MATCH(S$11,Reykjavík!$A$123:$K$123,0)) -> 4515.1753 | T27: =INDEX(Reykjavík!$A$124:$K$153,MATCH($M27,Reykjavík!$A$124:$A$153,0),MATCH(T$11,Reykjavík!$A$123:$K$123,0)) -> 14333.357 | U27: =INDEX(Reykjavík!$A$124:$L$153,MATCH($M27,Reykjavík!$A$124:$A$153,0),MATCH(U$11,Reykjavík!$A$123:$L$123,0)) -> 23351.3 | V27: =INDEX(Reykjavík!$A$124:$M$153,MATCH($M27,Reykjavík!$A$124:$A$153,0),MATCH(V$11,Reykjavík!$A$123:$M$123,0)) -> 27382.007 | W27: =V27-P27 -> 23320.831 | X27: =W27/P27 -> 5.7423839 | AA27: Brennsla
B28: Brennsla innanlands | C28: =INDEX(Reykjavík!$A$2:$M$73,MATCH("Losun vegna brennslu",Reykjavík!$A$2:$A$73,0),MATCH($D$4,Reykjavík!$A$3:$M$3,0)) -> 3812.7858 | M28: =Reykjavík!A136 -> Meðhöndlun skólps | P28: =INDEX(Reykjavík!$A$124:$K$153,MATCH($M28,Reykjavík!$A$124:$A$153,0),MATCH(P$11,Reykjavík!$A$123:$K$123,0)) -> 3233.1331 | Q28: =INDEX(Reykjavík!$A$124:$K$153,MATCH($M28,Reykjavík!$A$124:$A$153,0),MATCH(Q$11,Reykjavík!$A$123:$K$123,0)) -> 3554.5231 | R28: =INDEX(Reykjavík!$A$124:$K$153,MATCH($M28,Reykjavík!$A$124:$A$153,0),MATCH(R$11,Reykjavík!$A$123:$K$123,0)) -> 3591.7122 | S28: =INDEX(Reykjavík!$A$124:$K$153,MATCH($M28,Reykjavík!$A$124:$A$153,0),MATCH(S$11,Reykjavík!$A$123:$K$123,0)) -> 3543.0235 | T28: =INDEX(Reykjavík!$A$124:$K$153,MATCH($M28,Reykjavík!$A$124:$A$153,0),MATCH(T$11,Reykjavík!$A$123:$K$123,0)) -> 3567.6019 | U28: =INDEX(Reykjavík!$A$124:$L$153,MATCH($M28,Reykjavík!$A$124:$A$153,0),MATCH(U$11,Reykjavík!$A$123:$L$123,0)) -> 3639.8633 | V28: =INDEX(Reykjavík!$A$124:$M$153,MATCH($M28,Reykjavík!$A$124:$A$153,0),MATCH(V$11,Reykjavík!$A$123:$M$123,0)) -> 3679.2396 | W28: =V28-P28 -> 446.10647 | X28: =W28/P28 -> 0.13797962 | AA28: Meðhöndlun skólps
B29: Fráveita | C29: =INDEX(Reykjavík!$A$2:$M$73,MATCH("Losun vegna fráveitu",Reykjavík!$A$2:$A$73,0),MATCH($D$4,Reykjavík!$A$3:$M$3,0)) -> 3679.2396 | M29: =Reykjavík!A137 -> Úrgangur | P29: =INDEX(Reykjavík!$A$124:$K$153,MATCH($M29,Reykjavík!$A$124:$A$153,0),MATCH(P$11,Reykjavík!$A$123:$K$123,0)) -> 53056.837 | Q29: =INDEX(Reykjavík!$A$124:$K$153,MATCH($M29,Reykjavík!$A$124:$A$153,0),MATCH(Q$11,Reykjavík!$A$123:$K$123,0)) -> 69002.329 | R29: =INDEX(Reykjavík!$A$124:$K$153,MATCH($M29,Reykjavík!$A$124:$A$153,0),MATCH(R$11,Reykjavík!$A$123:$K$123,0)) -> 73063.594 | S29: =INDEX(Reykjavík!$A$124:$K$153,MATCH($M29,Reykjavík!$A$124:$A$153,0),MATCH(S$11,Reykjavík!$A$123:$K$123,0)) -> 77165.734 | T29: =INDEX(Reykjavík!$A$124:$K$153,MATCH($M29,Reykjavík!$A$124:$A$153,0),MATCH(T$11,Reykjavík!$A$123:$K$123,0)) -> 79277.357 | U29: =INDEX(Reykjavík!$A$124:$L$153,MATCH($M29,Reykjavík!$A$124:$A$153,0),MATCH(U$11,Reykjavík!$A$123:$L$123,0)) -> 82645.835 | V29: =INDEX(Reykjavík!$A$124:$M$153,MATCH($M29,Reykjavík!$A$124:$A$153,0),MATCH(V$11,Reykjavík!$A$123:$M$123,0)) -> 80736.348 | W29: =V29-P29 -> 27679.511 | X29: =W29/P29 -> 0.52169547 | Y29: 32100 | Z29: 13800 | AA29: Úrgangur
B30: Landbúnaður og landnotkun | C30: =C31+C32+C33 -> 33231.811 | D30: =C30 -> 33231.811 | M30: =Reykjavík!A138 -> Búfjárrækt | P30: =INDEX(Reykjavík!$A$124:$K$153,MATCH($M30,Reykjavík!$A$124:$A$153,0),MATCH(P$11,Reykjavík!$A$123:$K$123,0)) -> 1710.0062 | Q30: =INDEX(Reykjavík!$A$124:$K$153,MATCH($M30,Reykjavík!$A$124:$A$153,0),MATCH(Q$11,Reykjavík!$A$123:$K$123,0)) -> 2652.4245 | R30: =INDEX(Reykjavík!$A$124:$K$153,MATCH($M30,Reykjavík!$A$124:$A$153,0),MATCH(R$11,Reykjavík!$A$123:$K$123,0)) -> 2654.0703 | S30: =INDEX(Reykjavík!$A$124:$K$153,MATCH($M30,Reykjavík!$A$124:$A$153,0),MATCH(S$11,Reykjavík!$A$123:$K$123,0)) -> 2565.312 | T30: =INDEX(Reykjavík!$A$124:$K$153,MATCH($M30,Reykjavík!$A$124:$A$153,0),MATCH(T$11,Reykjavík!$A$123:$K$123,0)) -> 2225.739 | U30: =INDEX(Reykjavík!$A$124:$L$153,MATCH($M30,Reykjavík!$A$124:$A$153,0),MATCH(U$11,Reykjavík!$A$123:$L$123,0)) -> 2248.1211 | V30: =INDEX(Reykjavík!$A$124:$M$153,MATCH($M30,Reykjavík!$A$124:$A$153,0),MATCH(V$11,Reykjavík!$A$123:$M$123,0)) -> 2199.0447 | W30: =V30-P30 -> 489.03852 | X30: =W30/P30 -> 0.2859864 | AA30: Búfjárrækt
B31: Búfjárræktun | C31: =INDEX(Reykjavík!$A$2:$M$73,MATCH("Losun vegna búfjárræktunar",Reykjavík!$A$2:$A$73,0),MATCH($D$4,Reykjavík!$A$3:$M$3,0)) -> 2199.0447 | M31: =Reykjavík!A139 -> Landnotkun | P31: =INDEX(Reykjavík!$A$124:$K$153,MATCH($M31,Reykjavík!$A$124:$A$153,0),MATCH(P$11,Reykjavík!$A$123:$K$123,0)) -> 45775.148 | Q31: =INDEX(Reykjavík!$A$124:$K$153,MATCH($M31,Reykjavík!$A$124:$A$153,0),MATCH(Q$11,Reykjavík!$A$123:$K$123,0)) -> 45775.148 | R31: =INDEX(Reykjavík!$A$124:$K$153,MATCH($M31,Reykjavík!$A$124:$A$153,0),MATCH(R$11,Reykjavík!$A$123:$K$123,0)) -> 45775.148 | S31: =INDEX(Reykjavík!$A$124:$K$153,MATCH($M31,Reykjavík!$A$124:$A$153,0),MATCH(S$11,Reykjavík!$A$123:$K$123,0)) -> 45775.148 | T31: =INDEX(Reykjavík!$A$124:$K$153,MATCH($M31,Reykjavík!$A$124:$A$153,0),MATCH(T$11,Reykjavík!$A$123:$K$123,0)) -> 45775.148 | U31: =INDEX(Reykjavík!$A$124:$L$153,MATCH($M31,Reykjavík!$A$124:$A$153,0),MATCH(U$11,Reykjavík!$A$123:$L$123,0)) -> 45775.148 | V31: =INDEX(Reykjavík!$A$124:$M$153,MATCH($M31,Reykjavík!$A$124:$A$153,0),MATCH(V$11,Reykjavík!$A$123:$M$123,0)) -> 45775.148 | W31: =V31-P31 -> 0 | X31: =W31/P31 -> 0 | AA31: Landnotkun
B32: Landnotkun | C32: =INDEX(Reykjavík!$A$2:$M$73,MATCH("Losun vegna landnotkunar og skógræktar",Reykjavík!$A$2:$A$73,0),MATCH($D$4,Reykjavík!$A$3:$M$3,0))-INDEX(Reykjavík!$A$2:$M$73,MATCH("4A - Skóglendi",Reykjavík!$A$2:$A$73,0),MATCH($D$4,Reykjavík!$A$3:$M$3,0)) -> 45775.148 | M32: =Reykjavík!A141 -> Landbúnaður og landnotkun | P32: =INDEX(Reykjavík!$A$124:$K$153,MATCH($M32,Reykjavík!$A$124:$A$153,0),MATCH(P$11,Reykjavík!$A$123:$K$123,0)) -> 32742.772 | Q32: =INDEX(Reykjavík!$A$124:$K$153,MATCH($M32,Reykjavík!$A$124:$A$153,0),MATCH(Q$11,Reykjavík!$A$123:$K$123,0)) -> 33685.191 | R32: =INDEX(Reykjavík!$A$124:$K$153,MATCH($M32,Reykjavík!$A$124:$A$153,0),MATCH(R$11,Reykjavík!$A$123:$K$123,0)) -> 33686.836 | S32: =INDEX(Reykjavík!$A$124:$K$153,MATCH($M32,Reykjavík!$A$124:$A$153,0),MATCH(S$11,Reykjavík!$A$123:$K$123,0)) -> 33598.078 | T32: =INDEX(Reykjavík!$A$124:$K$153,MATCH($M32,Reykjavík!$A$124:$A$153,0),MATCH(T$11,Reykjavík!$A$123:$K$123,0)) -> 33258.505 | U32: =INDEX(Reykjavík!$A$124:$L$153,MATCH($M32,Reykjavík!$A$124:$A$153,0),MATCH(U$11,Reykjavík!$A$123:$L$123,0)) -> 33280.887 | V32: =INDEX(Reykjavík!$A$124:$M$153,MATCH($M32,Reykjavík!$A$124:$A$153,0),MATCH(V$11,Reykjavík!$A$123:$M$123,0)) -> 33231.811 | W32: =V32-P32 -> 489.03852 | X32: =W32/P32 -> 0.01493577 | Y32: 12600 | Z32: 9600 | AA32: Landbúnaður og landnotkun
B33: Skógrækt | C33: =INDEX(Reykjavík!$A$2:$M$73,MATCH("4A - Skóglendi",Reykjavík!$A$2:$A$73,0),MATCH($D$4,Reykjavík!$A$3:$M$3,0)) -> -14742.382 | M33: =Reykjavík!A142 -> Efnanotkun | P33: =INDEX(Reykjavík!$A$124:$K$153,MATCH($M33,Reykjavík!$A$124:$A$153,0),MATCH(P$11,Reykjavík!$A$123:$K$123,0)) -> 43855.39 | Q33: =INDEX(Reykjavík!$A$124:$K$153,MATCH($M33,Reykjavík!$A$124:$A$153,0),MATCH(Q$11,Reykjavík!$A$123:$K$123,0)) -> 46145.784 | R33: =INDEX(Reykjavík!$A$124:$K$153,MATCH($M33,Reykjavík!$A$124:$A$153,0),MATCH(R$11,Reykjavík!$A$123:$K$123,0)) -> 39168.966 | S33: =INDEX(Reykjavík!$A$124:$K$153,MATCH($M33,Reykjavík!$A$124:$A$153,0),MATCH(S$11,Reykjavík!$A$123:$K$123,0)) -> 34504.151 | T33: =INDEX(Reykjavík!$A$124:$K$153,MATCH($M33,Reykjavík!$A$124:$A$153,0),MATCH(T$11,Reykjavík!$A$123:$K$123,0)) -> 29495.398 | U33: =INDEX(Reykjavík!$A$124:$L$153,MATCH($M33,Reykjavík!$A$124:$A$153,0),MATCH(U$11,Reykjavík!$A$123:$L$123,0)) -> 25677.455 | V33: =INDEX(Reykjavík!$A$124:$M$153,MATCH($M33,Reykjavík!$A$124:$A$153,0),MATCH(V$11,Reykjavík!$A$123:$M$123,0)) -> 31944.837 | W33: =V33-P33 -> -11910.553 | X33: =W33/P33 -> -0.27158699 | AA33: Efnanotkun
B34: Efnanotkun og iðnaður | C34: =C35+C37+C36 -> 104772.7 | D34: =C34-C36-C37 -> 31944.837 | F34: =C36+C37 -> 72827.866 | M34: =Reykjavík!A145 -> Byggingariðnaður - efni | P34: =INDEX(Reykjavík!$A$124:$K$153,MATCH($M34,Reykjavík!$A$124:$A$153,0),MATCH(P$11,Reykjavík!$A$123:$K$123,0)) -> 50484.75 | Q34: =INDEX(Reykjavík!$A$124:$K$153,MATCH($M34,Reykjavík!$A$124:$A$153,0),MATCH(Q$11,Reykjavík!$A$123:$K$123,0)) -> 60181.086 | R34: =INDEX(Reykjavík!$A$124:$K$153,MATCH($M34,Reykjavík!$A$124:$A$153,0),MATCH(R$11,Reykjavík!$A$123:$K$123,0)) -> 68018.523 | S34: =INDEX(Reykjavík!$A$124:$K$153,MATCH($M34,Reykjavík!$A$124:$A$153,0),MATCH(S$11,Reykjavík!$A$123:$K$123,0)) -> 75174.977 | T34: =INDEX(Reykjavík!$A$124:$K$153,MATCH($M34,Reykjavík!$A$124:$A$153,0),MATCH(T$11,Reykjavík!$A$123:$K$123,0)) -> 76957.189 | U34: =INDEX(Reykjavík!$A$124:$L$153,MATCH($M34,Reykjavík!$A$124:$A$153,0),MATCH(U$11,Reykjavík!$A$123:$L$123,0)) -> 70463.313 | V34: =INDEX(Reykjavík!$A$124:$M$153,MATCH($M34,Reykjavík!$A$124:$A$153,0),MATCH(V$11,Reykjavík!$A$123:$M$123,0)) -> 67349.81 | W34: =V34-P34 -> 16865.06 | X34: =W34/P34 -> 0.33406246 | AA34: Byggingariðnaður - efni
B35: Efnanotkun | C35: =INDEX(Reykjavík!$A$2:$M$157,MATCH("Samtals losun vegna efnanotkunar",Reykjavík!$A$2:$A$157,0),MATCH($D$4,Reykjavík!$A$3:$M$3,0)) -> 31944.837 | M35: =Reykjavík!A146 -> Annar iðnaður | P35: =INDEX(Reykjavík!$A$124:$K$153,MATCH($M35,Reykjavík!$A$124:$A$153,0),MATCH(P$11,Reykjavík!$A$123:$K$123,0)) -> 3695.5828 | Q35: =INDEX(Reykjavík!$A$124:$K$153,MATCH($M35,Reykjavík!$A$124:$A$153,0),MATCH(Q$11,Reykjavík!$A$123:$K$123,0)) -> 3808.7568 | R35: =INDEX(Reykjavík!$A$124:$K$153,MATCH($M35,Reykjavík!$A$124:$A$153,0),MATCH(R$11,Reykjavík!$A$123:$K$123,0)) -> 3623.986 | S35: =INDEX(Reykjavík!$A$124:$K$153,MATCH($M35,Reykjavík!$A$124:$A$153,0),MATCH(S$11,Reykjavík!$A$123:$K$123,0)) -> 3418.9567 | T35: =INDEX(Reykjavík!$A$124:$K$153,MATCH($M35,Reykjavík!$A$124:$A$153,0),MATCH(T$11,Reykjavík!$A$123:$K$123,0)) -> 2481.6132 | U35: =INDEX(Reykjavík!$A$124:$L$153,MATCH($M35,Reykjavík!$A$124:$A$153,0),MATCH(U$11,Reykjavík!$A$123:$L$123,0)) -> 1787.7946 | V35: =INDEX(Reykjavík!$A$124:$M$153,MATCH($M35,Reykjavík!$A$124:$A$153,0),MATCH(V$11,Reykjavík!$A$123:$M$123,0)) -> 5478.0557 | W35: =V35-P35 -> 1782.4728 | X35: =W35/P35 -> 0.48232523 | AA35: Annar iðnaður
B36: Byggingariðnaður - efni | C36: =INDEX(Reykjavík!$A$2:$M$157,MATCH("byggingariðnaður - efni",Reykjavík!$A$2:$A$157,0),MATCH($D$4,Reykjavík!$A$3:$M$3,0)) -> 67349.81 | M36: =Reykjavík!A147 -> Efnanotkun og iðnaður | P36: =INDEX(Reykjavík!$A$124:$K$153,MATCH($M36,Reykjavík!$A$124:$A$153,0),MATCH(P$11,Reykjavík!$A$123:$K$123,0)) -> 98035.723 | Q36: =INDEX(Reykjavík!$A$124:$K$153,MATCH($M36,Reykjavík!$A$124:$A$153,0),MATCH(Q$11,Reykjavík!$A$123:$K$123,0)) -> 110135.63 | R36: =INDEX(Reykjavík!$A$124:$K$153,MATCH($M36,Reykjavík!$A$124:$A$153,0),MATCH(R$11,Reykjavík!$A$123:$K$123,0)) -> 110811.48 | S36: =INDEX(Reykjavík!$A$124:$K$153,MATCH($M36,Reykjavík!$A$124:$A$153,0),MATCH(S$11,Reykjavík!$A$123:$K$123,0)) -> 113098.09 | T36: =INDEX(Reykjavík!$A$124:$K$153,MATCH($M36,Reykjavík!$A$124:$A$153,0),MATCH(T$11,Reykjavík!$A$123:$K$123,0)) -> 108934.2 | U36: =INDEX(Reykjavík!$A$124:$L$153,MATCH($M36,Reykjavík!$A$124:$A$153,0),MATCH(U$11,Reykjavík!$A$123:$L$123,0)) -> 97928.562 | V36: =INDEX(Reykjavík!$A$124:$M$153,MATCH($M36,Reykjavík!$A$124:$A$153,0),MATCH(V$11,Reykjavík!$A$123:$M$123,0)) -> 104772.7 | W36: =V36-P36 -> 6736.9796 | X36: =W36/P36 -> 0.06871964 | Y36: 33800 | Z36: 21300 | AA36: Efnanotkun og iðnaður
B37: Annað | C37: =INDEX(Reykjavík!$A$2:$M$157,MATCH("losun matvælaframleiðslu í RVK",Reykjavík!$A$2:$A$157,0),MATCH($D$4,Reykjavík!$A$3:$M$3,0)) -> 5478.0557 | M37: =Reykjavík!A148 -> BASIC | P37: =INDEX(Reykjavík!$A$124:$K$153,MATCH($M37,Reykjavík!$A$124:$A$153,0),MATCH(P$11,Reykjavík!$A$123:$K$123,0)) -> 445821.98 | Q37: =INDEX(Reykjavík!$A$124:$K$153,MATCH($M37,Reykjavík!$A$124:$A$153,0),MATCH(Q$11,Reykjavík!$A$123:$K$123,0)) -> 410897.2 | R37: =INDEX(Reykjavík!$A$124:$K$153,MATCH($M37,Reykjavík!$A$124:$A$153,0),MATCH(R$11,Reykjavík!$A$123:$K$123,0)) -> 434506.96 | S37: =INDEX(Reykjavík!$A$124:$K$153,MATCH($M37,Reykjavík!$A$124:$A$153,0),MATCH(S$11,Reykjavík!$A$123:$K$123,0)) -> 416292.9 | T37: =INDEX(Reykjavík!$A$124:$K$153,MATCH($M37,Reykjavík!$A$124:$A$153,0),MATCH(T$11,Reykjavík!$A$123:$K$123,0)) -> 447478.45 | U37: =INDEX(Reykjavík!$A$124:$L$153,MATCH($M37,Reykjavík!$A$124:$A$153,0),MATCH(U$11,Reykjavík!$A$123:$L$123,0)) -> 445882.8 | V37: =INDEX(Reykjavík!$A$124:$M$153,MATCH($M37,Reykjavík!$A$124:$A$153,0),MATCH(V$11,Reykjavík!$A$123:$M$123,0)) -> 425641.28 | W37: =V37-P37 -> -20180.7 | X37: =W37/P37 -> -0.045266275 | AA37: BASIC
B38: Samtals | C38: =C30+C21+C16+C11+C34 -> 563886.29 | D38: =SUM(D11:D36) -> 448730.55 | E38: =SUM(E11:E36) -> 14705.37 | F38: =SUM(F11:F36) -> 100450.37 | M38: =Reykjavík!A149 -> BASIC+ | P38: =INDEX(Reykjavík!$A$124:$K$153,MATCH($M38,Reykjavík!$A$124:$A$153,0),MATCH(P$11,Reykjavík!$A$123:$K$123,0)) -> 522605.25 | Q38: =INDEX(Reykjavík!$A$124:$K$153,MATCH($M38,Reykjavík!$A$124:$A$153,0),MATCH(Q$11,Reykjavík!$A$123:$K$123,0)) -> 490963.98 | R38: =INDEX(Reykjavík!$A$124:$K$153,MATCH($M38,Reykjavík!$A$124:$A$153,0),MATCH(R$11,Reykjavík!$A$123:$K$123,0)) -> 507581.91 | S38: =INDEX(Reykjavík!$A$124:$K$153,MATCH($M38,Reykjavík!$A$124:$A$153,0),MATCH(S$11,Reykjavík!$A$123:$K$123,0)) -> 484629.42 | T38: =INDEX(Reykjavík!$A$124:$K$153,MATCH($M38,Reykjavík!$A$124:$A$153,0),MATCH(T$11,Reykjavík!$A$123:$K$123,0)) -> 510464.19 | U38: =INDEX(Reykjavík!$A$124:$L$153,MATCH($M38,Reykjavík!$A$124:$A$153,0),MATCH(U$11,Reykjavík!$A$123:$L$123,0)) -> 505112.13 | V38: =INDEX(Reykjavík!$A$124:$M$153,MATCH($M38,Reykjavík!$A$124:$A$153,0),MATCH(V$11,Reykjavík!$A$123:$M$123,0)) -> 491058.42 | W38: =V38-P38 -> -31546.828 | X38: =W38/P38 -> -0.060364544 | AA38: BASIC+
B39: Samtals á íbúa | C39: =Reykjavík!O181 -> 4.063401 | D39: =Reykjavík!O182 -> 3.2335814 | E39: =Reykjavík!O183 -> 0.10596785 | F39: =Reykjavík!O184 -> 0.72385183 | M39: =Reykjavík!A150 -> BASIC+ S3 | P39: =INDEX(Reykjavík!$A$124:$K$153,MATCH($M39,Reykjavík!$A$124:$A$153,0),MATCH(P$11,Reykjavík!$A$123:$K$123,0)) -> 576785.58 | Q39: =INDEX(Reykjavík!$A$124:$K$153,MATCH($M39,Reykjavík!$A$124:$A$153,0),MATCH(Q$11,Reykjavík!$A$123:$K$123,0)) -> 554953.82 | R39: =INDEX(Reykjavík!$A$124:$K$153,MATCH($M39,Reykjavík!$A$124:$A$153,0),MATCH(R$11,Reykjavík!$A$123:$K$123,0)) -> 579224.42 | S39: =INDEX(Reykjavík!$A$124:$K$153,MATCH($M39,Reykjavík!$A$124:$A$153,0),MATCH(S$11,Reykjavík!$A$123:$K$123,0)) -> 563223.35 | T39: =INDEX(Reykjavík!$A$124:$K$153,MATCH($M39,Reykjavík!$A$124:$A$153,0),MATCH(T$11,Reykjavík!$A$123:$K$123,0)) -> 589902.99 | U39: =INDEX(Reykjavík!$A$124:$L$153,MATCH($M39,Reykjavík!$A$124:$A$153,0),MATCH(U$11,Reykjavík!$A$123:$L$123,0)) -> 577363.24 | V39: =INDEX(Reykjavík!$A$124:$M$153,MATCH($M39,Reykjavík!$A$124:$A$153,0),MATCH(V$11,Reykjavík!$A$123:$M$123,0)) -> 563886.29 | W39: =V39-P39 -> -12899.295 | X39: =W39/P39 -> -0.022364108 | AA39: BASIC+ S3
M40: =Reykjavík!A151 -> Umfang 1 | P40: =INDEX(Reykjavík!$A$124:$K$153,MATCH($M40,Reykjavík!$A$124:$A$153,0),MATCH(P$11,Reykjavík!$A$123:$K$123,0)) -> 506964.46 | Q40: =INDEX(Reykjavík!$A$124:$K$153,MATCH($M40,Reykjavík!$A$124:$A$153,0),MATCH(Q$11,Reykjavík!$A$123:$K$123,0)) -> 474558.45 | R40: =INDEX(Reykjavík!$A$124:$K$153,MATCH($M40,Reykjavík!$A$124:$A$153,0),MATCH(R$11,Reykjavík!$A$123:$K$123,0)) -> 490868.91 | S40: =INDEX(Reykjavík!$A$124:$K$153,MATCH($M40,Reykjavík!$A$124:$A$153,0),MATCH(S$11,Reykjavík!$A$123:$K$123,0)) -> 468117.94 | T40: =INDEX(Reykjavík!$A$124:$K$153,MATCH($M40,Reykjavík!$A$124:$A$153,0),MATCH(T$11,Reykjavík!$A$123:$K$123,0)) -> 480327.84 | U40: =INDEX(Reykjavík!$A$124:$L$153,MATCH($M40,Reykjavík!$A$124:$A$153,0),MATCH(U$11,Reykjavík!$A$123:$L$123,0)) -> 463518.91 | V40: =INDEX(Reykjavík!$A$124:$M$153,MATCH($M40,Reykjavík!$A$124:$A$153,0),MATCH(V$11,Reykjavík!$A$123:$M$123,0)) -> 448730.55 | W40: =V40-P40 -> -58233.907 | X40: =W40/P40 -> -0.11486783 | AA40: Umfang 1
B41: BASIC | C41: =C12+C14+C17+C18+C20+C23+C25+C27+C28+C29+C15-C13 -> 425641.28 | D41: =D11+D16+D21 -> 383553.91 | E41: =E11 -> 14705.37 | F41: =F21 -> 27382.007 | M41: =Reykjavík!A152 -> Umfang 2 | P41: =INDEX(Reykjavík!$A$124:$K$153,MATCH($M41,Reykjavík!$A$124:$A$153,0),MATCH(P$11,Reykjavík!$A$123:$K$123,0)) -> 15090.092 | Q41: =INDEX(Reykjavík!$A$124:$K$153,MATCH($M41,Reykjavík!$A$124:$A$153,0),MATCH(Q$11,Reykjavík!$A$123:$K$123,0)) -> 15755.221 | R41: =INDEX(Reykjavík!$A$124:$K$153,MATCH($M41,Reykjavík!$A$124:$A$153,0),MATCH(R$11,Reykjavík!$A$123:$K$123,0)) -> 15268.604 | S41: =INDEX(Reykjavík!$A$124:$K$153,MATCH($M41,Reykjavík!$A$124:$A$153,0),MATCH(S$11,Reykjavík!$A$123:$K$123,0)) -> 15180.974 | T41: =INDEX(Reykjavík!$A$124:$K$153,MATCH($M41,Reykjavík!$A$124:$A$153,0),MATCH(T$11,Reykjavík!$A$123:$K$123,0)) -> 15571.158 | U41: =INDEX(Reykjavík!$A$124:$L$153,MATCH($M41,Reykjavík!$A$124:$A$153,0),MATCH(U$11,Reykjavík!$A$123:$L$123,0)) -> 17970.927 | V41: =INDEX(Reykjavík!$A$124:$M$153,MATCH($M41,Reykjavík!$A$124:$A$153,0),MATCH(V$11,Reykjavík!$A$123:$M$123,0)) -> 14705.37 | W41: =V41-P41 -> -384.72168 | X41: =W41/P41 -> -0.025494986 | AA41: Umfang 2
B42: BASIC + | C42: =C41+C31+C32+C35+C13+C33 -> 491058.42 | D42: =D41+D30+D34 -> 448730.55 | E42: =E41 -> 14705.37 | F42: =F41+F11 -> 27622.5 | M42: =Reykjavík!A153 -> Umfang 3 | P42: =INDEX(Reykjavík!$A$124:$K$153,MATCH($M42,Reykjavík!$A$124:$A$153,0),MATCH(P$11,Reykjavík!$A$123:$K$123,0)) -> 58426.615 | Q42: =INDEX(Reykjavík!$A$124:$K$153,MATCH($M42,Reykjavík!$A$124:$A$153,0),MATCH(Q$11,Reykjavík!$A$123:$K$123,0)) -> 68448.902 | R42: =INDEX(Reykjavík!$A$124:$K$153,MATCH($M42,Reykjavík!$A$124:$A$153,0),MATCH(R$11,Reykjavík!$A$123:$K$123,0)) -> 76710.888 | S42: =INDEX(Reykjavík!$A$124:$K$153,MATCH($M42,Reykjavík!$A$124:$A$153,0),MATCH(S$11,Reykjavík!$A$123:$K$123,0)) -> 83343.397 | T42: =INDEX(Reykjavík!$A$124:$K$153,MATCH($M42,Reykjavík!$A$124:$A$153,0),MATCH(T$11,Reykjavík!$A$123:$K$123,0)) -> 94003.994 | U42: =INDEX(Reykjavík!$A$124:$L$153,MATCH($M42,Reykjavík!$A$124:$A$153,0),MATCH(U$11,Reykjavík!$A$123:$L$123,0)) -> 95873.399 | V42: =INDEX(Reykjavík!$A$124:$M$153,MATCH($M42,Reykjavík!$A$124:$A$153,0),MATCH(V$11,Reykjavík!$A$123:$M$123,0)) -> 100450.37 | W42: =V42-P42 -> 42023.751 | X42: =W42/P42 -> 0.71925699 | AA42: Umfang 3
B43: BASIC + S3 | C43: =C42+C36+C37 -> 563886.29 | D43: =D42 -> 448730.55 | E43: =E42 -> 14705.37 | F43: =F42+F34 -> 100450.37
B64: Losunarflokkur | C64: Undirflokkur
B65: Samantekt - | C65: BASIC
G80: =Reykjavík!O148 -> 425641.28 | H80: t CO2-ígilda
G81: =Reykjavík!O179 -> 3.0671986 | H81: t CO2 ígilda á íbúa
...

Sheet Reykjavík
A1: Loftslagsbókhald Reykjavíkur | R1: 0.36776834 | S1: 0.36580623 | T1: 0.36243748 | U1: 0.35986884 | V1: 0.35871668 | W1: 0.35744064 | X1: 0.35894702 | Y1: 0.35799374 | Z1: 0.35791993 | AA1: 0.35674935 | AB1: 0.35633364
AB2: Mannfjöldi eftir kyni, aldri og sveitarfélögum 1998-2024 - Sveitarfélagaskipan 1. janúar 2024
A3: Almennar upplýsingar | B3: Einingar | C3: 2015 | D3: 2016 | E3: 2017 | F3: 2018 | G3: 2019 | H3: 2020 | I3: 2021 | J3: 2022 | K3: 2023 | L3: 2024 | M3: 2025
