Workbook

Sheet Matsblad
A1: Gátlisti Borgarhönnunarstefnu Reykjavíkur
A2: Þema / Markmið | B2: Viðmið (mælikvarðar) | C2: Mat (0–4) | D2: Athugasemd / skýring | E2: Stig (reiknað)
A3: Byggt umhverfi
A4: Byggt með landslaginu | B4: Eru götur í viðunandi halla (<5%)? | E4: {=_xlfn.SWITCH(C4,"0 = Á ekki við","0","0 = Ekki uppfyllt",0,"2 = Uppfyllt að hluta",2,"3 = Uppfyllt að mestu",3,"4 = Uppfyllt að fullu",4,0)} -> 0
A5: Byggt með landslaginu | B5: Hefur verið unnin greining á landsvæðinu? | E5: {=_xlfn.SWITCH(C5,"0 = Á ekki við","0","0 = Ekki uppfyllt",0,"2 = Uppfyllt að hluta",2,"3 = Uppfyllt að mestu",3,"4 = Uppfyllt að fullu",4,0)} -> 0
A6: Byggt með landslaginu | B6: Eru sjónlínur og kennileiti greind og skilgreind í skipulagi? | E6: {=_xlfn.SWITCH(C6,"0 = Á ekki við","0","0 = Ekki uppfyllt",0,"2 = Uppfyllt að hluta",2,"3 = Uppfyllt að mestu",3,"4 = Uppfyllt að fullu",4,0)} -> 0
A7: Byggt með landslaginu | B7: Er búið að staðsetja sorplausnir innan lóða og með tilliti til landhalla? | E7: {=_xlfn.SWITCH(C7,"0 = Á ekki við","0","0 = Ekki uppfyllt",0,"2 = Uppfyllt að hluta",2,"3 = Uppfyllt að mestu",3,"4 = Uppfyllt að fullu",4,0)} -> 0
A8: Byggt með landslaginu | B8: Eru götur og stígar tengd á skilvirkan hátt? | E8: {=_xlfn.SWITCH(C8,"0 = Á ekki við","0","0 = Ekki uppfyllt",0,"2 = Uppfyllt að hluta",2,"3 = Uppfyllt að mestu",3,"4 = Uppfyllt að fullu",4,0)} -> 0
A9: Alltumlykjandi gróður | B9: Er 3-30-300 reglan uppfyllt? | E9: {=_xlfn.SWITCH(C9,"0 = Á ekki við","0","0 = Ekki uppfyllt",0,"2 = Uppfyllt að hluta",2,"3 = Uppfyllt að mestu",3,"4 = Uppfyllt að fullu",4,0)} -> 0
A10: Alltumlykjandi gróður | B10: Er nægt rými fyrir gróður innan lóðarinnar? | E10: {=_xlfn.SWITCH(C10,"0 = Á ekki við","0","0 = Ekki uppfyllt",0,"2 = Uppfyllt að hluta",2,"3 = Uppfyllt að mestu",3,"4 = Uppfyllt að fullu",4,0)} -> 0
A11: Alltumlykjandi gróður | B11: Er hugað að verndun trjágróðurs? (3 tré í stað 1) | E11: {=_xlfn.SWITCH(C11,"0 = Á ekki við","0","0 = Ekki uppfyllt",0,"2 = Uppfyllt að hluta",2,"3 = Uppfyllt að mestu",3,"4 = Uppfyllt að fullu",4,0)} -> 0
A12: Alltumlykjandi gróður | B12: Eru veggir eða kantsvæði nýtt fyrir gróður? | E12: {=_xlfn.SWITCH(C12,"0 = Á ekki við","0","0 = Ekki uppfyllt",0,"2 = Uppfyllt að hluta",2,"3 = Uppfyllt að mestu",3,"4 = Uppfyllt að fullu",4,0)} -> 0
A13: Alltumlykjandi gróður | B13: Endurspeglar gróðurval árstíðir? | E13: {=_xlfn.SWITCH(C13,"0 = Á ekki við","0","0 = Ekki uppfyllt",0,"2 = Uppfyllt að hluta",2,"3 = Uppfyllt að mestu",3,"4 = Uppfyllt að fullu",4,0)} -> 0
A14: Náttúruleg hringrás vatns | B14: Eru blágrænar lausnir tryggðar í skipulagi og nægt rými fyrir þær? | E14: {=_xlfn.SWITCH(C14,"0 = Á ekki við","0","0 = Ekki uppfyllt",0,"2 = Uppfyllt að hluta",2,"3 = Uppfyllt að mestu",3,"4 = Uppfyllt að fullu",4,0)} -> 0
A15: Náttúruleg hringrás vatns | B15: Er allt ofanvatn leyst innan lóða? | E15: {=_xlfn.SWITCH(C15,"0 = Á ekki við","0","0 = Ekki uppfyllt",0,"2 = Uppfyllt að hluta",2,"3 = Uppfyllt að mestu",3,"4 = Uppfyllt að fullu",4,0)} -> 0
... A54: Dvalarsvæði lóða | B54: Er sýnileiki frá íbúðum að leiksvæði? | E54: {=_xlfn.SWITCH(C54,"0 = Á ekki við","0","0 = Ekki uppfyllt",0,"2 = Uppfyllt að hluta",2,"3 = Uppfyllt að mestu",3,"4 = Uppfyllt að fullu",4,0)} -> 0
E55: =+SUM(E4:E54) -> 0
A56: Borgarrými
A57: Samgöngur | B57: Er hlutfall ferða með vistvænum ferðamátum ≥60% mögulegt? | E57: {=_xlfn.SWITCH(C57,"0 = Á ekki við","0","1 = Ekki uppfyllt",1,"2 = Uppfyllt að hluta",2,"3 = Uppfyllt að mestu",3,"4 = Uppfyllt að fullu",4,0)} -> 0
A58: Samgöngur | B58: Eru gatnarými með forgang fyrir gangandi og hjólandi? | E58: {=_xlfn.SWITCH(C58,"0 = Á ekki við","0","1 = Ekki uppfyllt",1,"2 = Uppfyllt að hluta",2,"3 = Uppfyllt að mestu",3,"4 = Uppfyllt að fullu",4,0)} -> 0
A59: Samgöngur | B59: Er samfellt net gang- og hjólastíga að þjónustu og stoppistöðvum? | E59: {=_xlfn.SWITCH(C59,"0 = Á ekki við","0","1 = Ekki uppfyllt",1,"2 = Uppfyllt að hluta",2,"3 = Uppfyllt að mestu",3,"4 = Uppfyllt að fullu",4,0)} -> 0
A60: Samgöngur | B60: Eru gögnu og hjólaleiðir vel upplýstar og aðgerðir til að bæta skjól? | E60: {=_xlfn.SWITCH(C60,"0 = Á ekki við","0","1 = Ekki uppfyllt",1,"2 = Uppfyllt að hluta",2,"3 = Uppfyllt að mestu",3,"4 = Uppfyllt að fullu",4,0)} -> 0
A61: Samgöngur | B61: Eru hjólastæði og hjólagrindur við innganga bygginga? | E61: {=_xlfn.SWITCH(C61,"0 = Á ekki við","0","1 = Ekki uppfyllt",1,"2 = Uppfyllt að hluta",2,"3 = Uppfyllt að mestu",3,"4 = Uppfyllt að fullu",4,0)} -> 0
A62: Almenningsrými | B62: Eru opin svæði í innan við 300 m fjarlægð frá hverri íbúð? | E62: {=_xlfn.SWITCH(C62,"0 = Á ekki við","0","1 = Ekki uppfyllt",1,"2 = Uppfyllt að hluta",2,"3 = Uppfyllt að mestu",3,"4 = Uppfyllt að fullu",4,0)} -> 0
A63: Almenningsrými | B63: Er aðgengi fyrir öll tryggt? (stígakerfi án hindrana) | E63: {=_xlfn.SWITCH(C63,"0 = Á ekki við","0","1 = Ekki uppfyllt",1,"2 = Uppfyllt að hluta",2,"3 = Uppfyllt að mestu",3,"4 = Uppfyllt að fullu",4,0)} -> 0
A64: Almenningsrými | B64: Eru almenningsrými með góða lýsingu, skjól og birta? | E64: {=_xlfn.SWITCH(C64,"0 = Á ekki við","0","1 = Ekki uppfyllt",1,"2 = Uppfyllt að hluta",2,"3 = Uppfyllt að mestu",3,"4 = Uppfyllt að fullu",4,0)} -> 0
A65: Almenningsrými | B65: Er almenningsrýmið fyrir fjölbreytta notkun: leikur, hvíld, samvera, viðburðir? | E65: {=_xlfn.SWITCH(C65,"0 = Á ekki við","0","1 = Ekki uppfyllt",1,"2 = Uppfyllt að hluta",2,"3 = Uppfyllt að mestu",3,"4 = Uppfyllt að fullu",4,0)} -> 0
A66: Almenningsrými | B66: Er vatn, gróður og landmótun sýnilegir þættir rýmisins? | E66: {=_xlfn.SWITCH(C66,"0 = Á ekki við","0","1 = Ekki uppfyllt",1,"2 = Uppfyllt að hluta",2,"3 = Uppfyllt að mestu",3,"4 = Uppfyllt að fullu",4,0)} -> 0
A67: Almenningsrými | B67: Eru leikvellir sem þjóna mismunandi aldri barna? | E67: {=_xlfn.SWITCH(C67,"0 = Á ekki við","0","1 = Ekki uppfyllt",1,"2 = Uppfyllt að hluta",2,"3 = Uppfyllt að mestu",3,"4 = Uppfyllt að fullu",4,0)} -> 0

Sheet Samantekt
A1: Þema | B1: Fjöldi viðmiða | C1: Samtals stig | D1: Möguleg stig | E1: Hlutfall uppfyllingar | F1: Loka einkunn
A2: Byggt með landslaginu | B2: =COUNTIF(Matsblad!A:A,A2) -> 5 | C2: =SUMIF(Matsblad!A:A,A2,Matsblad!E:E) -> 0 | D2: =4*B2 -> 20 | E2: =IFERROR(C2/D2,0) -> 0 | F2: =IF(E2>=0.75,"Framúrskarandi",IF(E2>=0.7,"Samræmist",IF(E2>=0.5,"Að hluta","Ekki í samræmi"))) -> Ekki í samræmi
A3: Alltumlykjandi gróður | B3: =COUNTIF(Matsblad!A:A,A3) -> 5 | C3: =SUMIF(Matsblad!A:A,A3,Matsblad!E:E) -> 0 | D3: =4*B3 -> 20 | E3: =IFERROR(C3/D3,0) -> 0 | F3: =IF(E3>=0.75,"Framúrskarandi",IF(E3>=0.7,"Samræmist",IF(E3>=0.5,"Að hluta","Ekki í samræmi"))) -> Ekki í samræmi
A4: Náttúruleg hringrás vatns | B4: =COUNTIF(Matsblad!A:A,A4) -> 4 | C4: =SUMIF(Matsblad!A:A,A4,Matsblad!E:E) -> 0 | D4: =4*B4 -> 16 | E4: =IFERROR(C4/D4,0) -> 0 | F4: =IF(E4>=0.75,"Framúrskarandi",IF(E4>=0.7,"Samræmist",IF(E4>=0.5,"Að hluta","Ekki í samræmi"))) -> Ekki í samræmi
A5: Byggingarmassar í samhengi | B5: =COUNTIF(Matsblad!A:A,A5) -> 0 | C5: =SUMIF(Matsblad!A:A,A5,Matsblad!E:E) -> 0 | D5: =4*B5 -> 0 | E5: =IFERROR(C5/D5,0) -> 0 | F5: =IF(E5>=0.75,"Framúrskarandi",IF(E5>=0.7,"Samræmist",IF(E5>=0.5,"Að hluta","Ekki í samræmi"))) -> Ekki í samræmi
A6: Fjölbreytt form, rými og upplifun | B6: =COUNTIF(Matsblad!A:A,A6) -> 0 | C6: =SUMIF(Matsblad!A:A,A6,Matsblad!E:E) -> 0 | D6: =4*B6 -> 0 | E6: =IFERROR(C6/D6,0) -> 0 | F6: =IF(E6>=0.75,"Framúrskarandi",IF(E6>=0.7,"Samræmist",IF(E6>=0.5,"Að hluta","Ekki í samræmi"))) -> Ekki í samræmi
A7: Birta og skjól | B7: =COUNTIF(Matsblad!A:A,A7) -> 0 | C7: =SUMIF(Matsblad!A:A,A7,Matsblad!E:E) -> 0 | D7: =4*B7 -> 0 | E7: =IFERROR(C7/D7,0) -> 0 | F7: =IF(E7>=0.75,"Framúrskarandi",IF(E7>=0.7,"Samræmist",IF(E7>=0.5,"Að hluta","Ekki í samræmi"))) -> Ekki í samræmi
A8: Framhliðar og horn | B8: =COUNTIF(Matsblad!A:A,A8) -> 6 | C8: =SUMIF(Matsblad!A:A,A8,Matsblad!E:E) -> 0 | D8: =4*B8 -> 24 | E8: =IFERROR(C8/D8,0) -> 0 | F8: =IF(E8>=0.75,"Framúrskarandi",IF(E8>=0.7,"Samræmist",IF(E8>=0.5,"Að hluta","Ekki í samræmi"))) -> Ekki í samræmi
A9: Inngangar | B9: =COUNTIF(Matsblad!A:A,A9) -> 4 | C9: =SUMIF(Matsblad!A:A,A9,Matsblad!E:E) -> 0 | D9: =4*B9 -> 16 | E9: =IFERROR(C9/D9,0) -> 0 | F9: =IF(E9>=0.75,"Framúrskarandi",IF(E9>=0.7,"Samræmist",IF(E9>=0.5,"Að hluta","Ekki í samræmi"))) -> Ekki í samræmi
A10: Kantsvæði | B10: =COUNTIF(Matsblad!A:A,A10) -> 6 | C10: =SUMIF(Matsblad!A:A,A10,Matsblad!E:E) -> 0 | D10: =4*B10 -> 24 | E10: =IFERROR(C10/D10,0) -> 0 | F10: =IF(E10>=0.75,"Framúrskarandi",IF(E10>=0.7,"Samræmist",IF(E10>=0.5,"Að hluta","Ekki í samræmi"))) -> Ekki í samræmi
A11: Þakform | B11: =COUNTIF(Matsblad!A:A,A11) -> 4 | C11: =SUMIF(Matsblad!A:A,A11,Matsblad!E:E) -> 0 | D11: =4*B11 -> 16 | E11: =IFERROR(C11/D11,0) -> 0 | F11: =IF(E11>=0.75,"Framúrskarandi",IF(E11>=0.7,"Samræmist",IF(E11>=0.5,"Að hluta","Ekki í samræmi"))) -> Ekki í samræmi
A12: Dvalarsvæði lóða | B12: =COUNTIF(Matsblad!A:A,A12) -> 8 | C12: =SUMIF(Matsblad!A:A,A12,Matsblad!E:E) -> 0 | D12: =4*B12 -> 32 | E12: =IFERROR(C12/D12,0) -> 0 | F12: =IF(E12>=0.75,"Framúrskarandi",IF(E12>=0.7,"Samræmist",IF(E12>=0.5,"Að hluta","Ekki í samræmi"))) -> Ekki í samræmi
A14: Heild | B14: =COUNTA(Matsblad!B4:B67) -> 62 | C14: =SUM(Matsblad!E4:E67) -> 0 | D14: =2*B14 -> 124 | E14: =IFERROR(C14/D14,0) -> 0 | F14: =IF(E14>=0.75,"Framúrskarandi",IF(E14>=0.7,"Samræmist",IF(E14>=0.5,"Að hluta","Ekki í samræmi"))) -> Ekki í samræmi
